BEGIN:VCALENDAR
VERSION:2.0
PRODID:-//Lammermuir Community Website - ECPv6.15.20//NONSGML v1.0//EN
CALSCALE:GREGORIAN
METHOD:PUBLISH
X-ORIGINAL-URL:https://www.lammermuirlife.co.uk
X-WR-CALDESC:Events for Lammermuir Community Website
REFRESH-INTERVAL;VALUE=DURATION:PT1H
X-Robots-Tag:noindex
X-PUBLISHED-TTL:PT1H
BEGIN:VTIMEZONE
TZID:Europe/London
BEGIN:DAYLIGHT
TZOFFSETFROM:+0000
TZOFFSETTO:+0100
TZNAME:BST
DTSTART:20210328T010000
END:DAYLIGHT
BEGIN:STANDARD
TZOFFSETFROM:+0100
TZOFFSETTO:+0000
TZNAME:GMT
DTSTART:20211031T010000
END:STANDARD
BEGIN:DAYLIGHT
TZOFFSETFROM:+0000
TZOFFSETTO:+0100
TZNAME:BST
DTSTART:20220327T010000
END:DAYLIGHT
BEGIN:STANDARD
TZOFFSETFROM:+0100
TZOFFSETTO:+0000
TZNAME:GMT
DTSTART:20221030T010000
END:STANDARD
BEGIN:DAYLIGHT
TZOFFSETFROM:+0000
TZOFFSETTO:+0100
TZNAME:BST
DTSTART:20230326T010000
END:DAYLIGHT
BEGIN:STANDARD
TZOFFSETFROM:+0100
TZOFFSETTO:+0000
TZNAME:GMT
DTSTART:20231029T010000
END:STANDARD
END:VTIMEZONE
BEGIN:VEVENT
DTSTART;VALUE=DATE:20221012
DTEND;VALUE=DATE:20221013
DTSTAMP:20260424T151331
CREATED:20220901T091208Z
LAST-MODIFIED:20220901T091208Z
UID:10000577-1665532800-1665619199@www.lammermuirlife.co.uk
SUMMARY:Whiteadder Watersports Centre Sailing classes
DESCRIPTION:Whiteadder Watersports Centre Sailing classes – October 10\, 11\,12th \nThe link is: \nhttps://widget.eola.co/1789/activities/celca-october-learn-to-sail \nThe cost will be subsidised by  a contribution from the LCF: 6 adult places and 6 children or any combination up to 12 people\, are available. \nAny queries\, lease contact Andrea on 07834 905 356 or 01361 890 216.
URL:https://www.lammermuirlife.co.uk/event/whiteadder-watersports-centre-sailing-classes/2022-10-12/
LOCATION:Whiteadder Watersports Centre\, Whiteadder Reservoir\, Duns\, Berwickshire\, Scotland\, TD11 3SN\, United Kingdom
CATEGORIES:Events
ATTACH;FMTTYPE=image/jpeg:https://www.lammermuirlife.co.uk/wp-content/uploads/2022/09/download.jpg
END:VEVENT
BEGIN:VEVENT
DTSTART;VALUE=DATE:20221011
DTEND;VALUE=DATE:20221012
DTSTAMP:20260424T151331
CREATED:20220901T091208Z
LAST-MODIFIED:20220901T091208Z
UID:10000576-1665446400-1665532799@www.lammermuirlife.co.uk
SUMMARY:Whiteadder Watersports Centre Sailing classes
DESCRIPTION:Whiteadder Watersports Centre Sailing classes – October 10\, 11\,12th \nThe link is: \nhttps://widget.eola.co/1789/activities/celca-october-learn-to-sail \nThe cost will be subsidised by  a contribution from the LCF: 6 adult places and 6 children or any combination up to 12 people\, are available. \nAny queries\, lease contact Andrea on 07834 905 356 or 01361 890 216.
URL:https://www.lammermuirlife.co.uk/event/whiteadder-watersports-centre-sailing-classes/2022-10-11/
LOCATION:Whiteadder Watersports Centre\, Whiteadder Reservoir\, Duns\, Berwickshire\, Scotland\, TD11 3SN\, United Kingdom
CATEGORIES:Events
ATTACH;FMTTYPE=image/jpeg:https://www.lammermuirlife.co.uk/wp-content/uploads/2022/09/download.jpg
END:VEVENT
BEGIN:VEVENT
DTSTART;VALUE=DATE:20221010
DTEND;VALUE=DATE:20221011
DTSTAMP:20260424T151331
CREATED:20220901T091208Z
LAST-MODIFIED:20220901T091208Z
UID:10000575-1665360000-1665446399@www.lammermuirlife.co.uk
SUMMARY:Whiteadder Watersports Centre Sailing classes
DESCRIPTION:Whiteadder Watersports Centre Sailing classes – October 10\, 11\,12th \nThe link is: \nhttps://widget.eola.co/1789/activities/celca-october-learn-to-sail \nThe cost will be subsidised by  a contribution from the LCF: 6 adult places and 6 children or any combination up to 12 people\, are available. \nAny queries\, lease contact Andrea on 07834 905 356 or 01361 890 216.
URL:https://www.lammermuirlife.co.uk/event/whiteadder-watersports-centre-sailing-classes/2022-10-10/
LOCATION:Whiteadder Watersports Centre\, Whiteadder Reservoir\, Duns\, Berwickshire\, Scotland\, TD11 3SN\, United Kingdom
CATEGORIES:Events
ATTACH;FMTTYPE=image/jpeg:https://www.lammermuirlife.co.uk/wp-content/uploads/2022/09/download.jpg
END:VEVENT
END:VCALENDAR