BEGIN:VCALENDAR
VERSION:2.0
PRODID:-//Lammermuir Community Website - ECPv6.15.20//NONSGML v1.0//EN
CALSCALE:GREGORIAN
METHOD:PUBLISH
X-ORIGINAL-URL:https://www.lammermuirlife.co.uk
X-WR-CALDESC:Events for Lammermuir Community Website
REFRESH-INTERVAL;VALUE=DURATION:PT1H
X-Robots-Tag:noindex
X-PUBLISHED-TTL:PT1H
BEGIN:VTIMEZONE
TZID:Europe/London
BEGIN:DAYLIGHT
TZOFFSETFROM:+0000
TZOFFSETTO:+0100
TZNAME:BST
DTSTART:20210328T010000
END:DAYLIGHT
BEGIN:STANDARD
TZOFFSETFROM:+0100
TZOFFSETTO:+0000
TZNAME:GMT
DTSTART:20211031T010000
END:STANDARD
BEGIN:DAYLIGHT
TZOFFSETFROM:+0000
TZOFFSETTO:+0100
TZNAME:BST
DTSTART:20220327T010000
END:DAYLIGHT
BEGIN:STANDARD
TZOFFSETFROM:+0100
TZOFFSETTO:+0000
TZNAME:GMT
DTSTART:20221030T010000
END:STANDARD
BEGIN:DAYLIGHT
TZOFFSETFROM:+0000
TZOFFSETTO:+0100
TZNAME:BST
DTSTART:20230326T010000
END:DAYLIGHT
BEGIN:STANDARD
TZOFFSETFROM:+0100
TZOFFSETTO:+0000
TZNAME:GMT
DTSTART:20231029T010000
END:STANDARD
BEGIN:DAYLIGHT
TZOFFSETFROM:+0000
TZOFFSETTO:+0100
TZNAME:BST
DTSTART:20240331T010000
END:DAYLIGHT
BEGIN:STANDARD
TZOFFSETFROM:+0100
TZOFFSETTO:+0000
TZNAME:GMT
DTSTART:20241027T010000
END:STANDARD
BEGIN:DAYLIGHT
TZOFFSETFROM:+0000
TZOFFSETTO:+0100
TZNAME:BST
DTSTART:20250330T010000
END:DAYLIGHT
BEGIN:STANDARD
TZOFFSETFROM:+0100
TZOFFSETTO:+0000
TZNAME:GMT
DTSTART:20251026T010000
END:STANDARD
END:VTIMEZONE
BEGIN:VEVENT
DTSTART;TZID=Europe/London:20240702T100000
DTEND;TZID=Europe/London:20240702T130000
DTSTAMP:20260421T132209
CREATED:20240604T081227Z
LAST-MODIFIED:20240604T081227Z
UID:10000903-1719914400-1719925200@www.lammermuirlife.co.uk
SUMMARY:Private booking
DESCRIPTION:Local resident hiring the hall to rehearse upcoming show
URL:https://www.lammermuirlife.co.uk/event/private-booking-15/
LOCATION:Longformacus Village Hall\, Longformacus Village Hall\, Duns Road\, Longformacus\, Scottish Borders\, TD11 3PB\, United Kingdom
CATEGORIES:Events,Longformacus Village Hall
ORGANIZER;CN="Katherina Radeva":MAILTO:kat@katherinaradeva.co.uk
GEO:55.806866;-2.490846
X-APPLE-STRUCTURED-LOCATION;VALUE=URI;X-ADDRESS=Longformacus Village Hall Longformacus Village Hall Duns Road Longformacus Scottish Borders TD11 3PB United Kingdom;X-APPLE-RADIUS=500;X-TITLE=Longformacus Village Hall\, Duns Road:geo:-2.490846,55.806866
END:VEVENT
BEGIN:VEVENT
DTSTART;TZID=Europe/London:20240228T100000
DTEND;TZID=Europe/London:20240228T130000
DTSTAMP:20260421T132209
CREATED:20240128T192708Z
LAST-MODIFIED:20240128T192708Z
UID:10000839-1709114400-1709125200@www.lammermuirlife.co.uk
SUMMARY:Private Hire
DESCRIPTION:Katherina (local resident) using the hall to rehearse for upcoming show.
URL:https://www.lammermuirlife.co.uk/event/private-hire/2024-02-28/
LOCATION:Longformacus Village Hall\, Longformacus Village Hall\, Duns Road\, Longformacus\, Scottish Borders\, TD11 3PB\, United Kingdom
CATEGORIES:Events,Longformacus Village Hall
ORGANIZER;CN="Katherina Radeva":MAILTO:kat@katherinaradeva.co.uk
GEO:55.806866;-2.490846
X-APPLE-STRUCTURED-LOCATION;VALUE=URI;X-ADDRESS=Longformacus Village Hall Longformacus Village Hall Duns Road Longformacus Scottish Borders TD11 3PB United Kingdom;X-APPLE-RADIUS=500;X-TITLE=Longformacus Village Hall\, Duns Road:geo:-2.490846,55.806866
END:VEVENT
BEGIN:VEVENT
DTSTART;TZID=Europe/London:20240227T100000
DTEND;TZID=Europe/London:20240227T130000
DTSTAMP:20260421T132209
CREATED:20240128T192708Z
LAST-MODIFIED:20240128T192708Z
UID:10000838-1709028000-1709038800@www.lammermuirlife.co.uk
SUMMARY:Private Hire
DESCRIPTION:Katherina (local resident) using the hall to rehearse for upcoming show.
URL:https://www.lammermuirlife.co.uk/event/private-hire/2024-02-27/
LOCATION:Longformacus Village Hall\, Longformacus Village Hall\, Duns Road\, Longformacus\, Scottish Borders\, TD11 3PB\, United Kingdom
CATEGORIES:Events,Longformacus Village Hall
ORGANIZER;CN="Katherina Radeva":MAILTO:kat@katherinaradeva.co.uk
GEO:55.806866;-2.490846
X-APPLE-STRUCTURED-LOCATION;VALUE=URI;X-ADDRESS=Longformacus Village Hall Longformacus Village Hall Duns Road Longformacus Scottish Borders TD11 3PB United Kingdom;X-APPLE-RADIUS=500;X-TITLE=Longformacus Village Hall\, Duns Road:geo:-2.490846,55.806866
END:VEVENT
BEGIN:VEVENT
DTSTART;TZID=Europe/London:20240225T100000
DTEND;TZID=Europe/London:20240225T130000
DTSTAMP:20260421T132209
CREATED:20240128T192708Z
LAST-MODIFIED:20240128T192708Z
UID:10000837-1708855200-1708866000@www.lammermuirlife.co.uk
SUMMARY:Private Hire
DESCRIPTION:Katherina (local resident) using the hall to rehearse for upcoming show.
URL:https://www.lammermuirlife.co.uk/event/private-hire/2024-02-25/
LOCATION:Longformacus Village Hall\, Longformacus Village Hall\, Duns Road\, Longformacus\, Scottish Borders\, TD11 3PB\, United Kingdom
CATEGORIES:Events,Longformacus Village Hall
ORGANIZER;CN="Katherina Radeva":MAILTO:kat@katherinaradeva.co.uk
GEO:55.806866;-2.490846
X-APPLE-STRUCTURED-LOCATION;VALUE=URI;X-ADDRESS=Longformacus Village Hall Longformacus Village Hall Duns Road Longformacus Scottish Borders TD11 3PB United Kingdom;X-APPLE-RADIUS=500;X-TITLE=Longformacus Village Hall\, Duns Road:geo:-2.490846,55.806866
END:VEVENT
BEGIN:VEVENT
DTSTART;TZID=Europe/London:20240224T100000
DTEND;TZID=Europe/London:20240224T130000
DTSTAMP:20260421T132209
CREATED:20240128T192708Z
LAST-MODIFIED:20240128T192708Z
UID:10000836-1708768800-1708779600@www.lammermuirlife.co.uk
SUMMARY:Private Hire
DESCRIPTION:Katherina (local resident) using the hall to rehearse for upcoming show.
URL:https://www.lammermuirlife.co.uk/event/private-hire/2024-02-24/
LOCATION:Longformacus Village Hall\, Longformacus Village Hall\, Duns Road\, Longformacus\, Scottish Borders\, TD11 3PB\, United Kingdom
CATEGORIES:Events,Longformacus Village Hall
ORGANIZER;CN="Katherina Radeva":MAILTO:kat@katherinaradeva.co.uk
GEO:55.806866;-2.490846
X-APPLE-STRUCTURED-LOCATION;VALUE=URI;X-ADDRESS=Longformacus Village Hall Longformacus Village Hall Duns Road Longformacus Scottish Borders TD11 3PB United Kingdom;X-APPLE-RADIUS=500;X-TITLE=Longformacus Village Hall\, Duns Road:geo:-2.490846,55.806866
END:VEVENT
BEGIN:VEVENT
DTSTART;TZID=Europe/London:20231001T100000
DTEND;TZID=Europe/London:20231001T130000
DTSTAMP:20260421T132209
CREATED:20230905T193353Z
LAST-MODIFIED:20230905T193742Z
UID:10000804-1696154400-1696165200@www.lammermuirlife.co.uk
SUMMARY:Private booking
DESCRIPTION:Katherina (local resident) booked the hall to rehearse for upcoming show – 40/40
URL:https://www.lammermuirlife.co.uk/event/private-booking-11/2023-10-01/
LOCATION:Longformacus Village Hall\, Longformacus Village Hall\, Duns Road\, Longformacus\, Scottish Borders\, TD11 3PB\, United Kingdom
CATEGORIES:Events,Longformacus Village Hall
ORGANIZER;CN="Katherina Radeva":MAILTO:kat@katherinaradeva.co.uk
GEO:55.806866;-2.490846
X-APPLE-STRUCTURED-LOCATION;VALUE=URI;X-ADDRESS=Longformacus Village Hall Longformacus Village Hall Duns Road Longformacus Scottish Borders TD11 3PB United Kingdom;X-APPLE-RADIUS=500;X-TITLE=Longformacus Village Hall\, Duns Road:geo:-2.490846,55.806866
END:VEVENT
BEGIN:VEVENT
DTSTART;TZID=Europe/London:20230930T100000
DTEND;TZID=Europe/London:20230930T130000
DTSTAMP:20260421T132209
CREATED:20230905T193353Z
LAST-MODIFIED:20230905T193742Z
UID:10000803-1696068000-1696078800@www.lammermuirlife.co.uk
SUMMARY:Private booking
DESCRIPTION:Katherina (local resident) booked the hall to rehearse for upcoming show – 40/40
URL:https://www.lammermuirlife.co.uk/event/private-booking-11/2023-09-30/
LOCATION:Longformacus Village Hall\, Longformacus Village Hall\, Duns Road\, Longformacus\, Scottish Borders\, TD11 3PB\, United Kingdom
CATEGORIES:Events,Longformacus Village Hall
ORGANIZER;CN="Katherina Radeva":MAILTO:kat@katherinaradeva.co.uk
GEO:55.806866;-2.490846
X-APPLE-STRUCTURED-LOCATION;VALUE=URI;X-ADDRESS=Longformacus Village Hall Longformacus Village Hall Duns Road Longformacus Scottish Borders TD11 3PB United Kingdom;X-APPLE-RADIUS=500;X-TITLE=Longformacus Village Hall\, Duns Road:geo:-2.490846,55.806866
END:VEVENT
BEGIN:VEVENT
DTSTART;TZID=Europe/London:20230929T130000
DTEND;TZID=Europe/London:20230929T160000
DTSTAMP:20260421T132209
CREATED:20230905T192822Z
LAST-MODIFIED:20230905T192822Z
UID:10000802-1695992400-1696003200@www.lammermuirlife.co.uk
SUMMARY:Private booking
DESCRIPTION:Katherina (local resident) booking the hall the rehearse upcoming show – 40/40
URL:https://www.lammermuirlife.co.uk/event/private-booking-10/2023-09-29/
LOCATION:Longformacus Village Hall\, Longformacus Village Hall\, Duns Road\, Longformacus\, Scottish Borders\, TD11 3PB\, United Kingdom
CATEGORIES:Events,Longformacus Village Hall
ORGANIZER;CN="Katherina Radeva":MAILTO:kat@katherinaradeva.co.uk
GEO:55.806866;-2.490846
X-APPLE-STRUCTURED-LOCATION;VALUE=URI;X-ADDRESS=Longformacus Village Hall Longformacus Village Hall Duns Road Longformacus Scottish Borders TD11 3PB United Kingdom;X-APPLE-RADIUS=500;X-TITLE=Longformacus Village Hall\, Duns Road:geo:-2.490846,55.806866
END:VEVENT
BEGIN:VEVENT
DTSTART;TZID=Europe/London:20230928T130000
DTEND;TZID=Europe/London:20230928T160000
DTSTAMP:20260421T132209
CREATED:20230905T192822Z
LAST-MODIFIED:20230905T192822Z
UID:10000801-1695906000-1695916800@www.lammermuirlife.co.uk
SUMMARY:Private booking
DESCRIPTION:Katherina (local resident) booking the hall the rehearse upcoming show – 40/40
URL:https://www.lammermuirlife.co.uk/event/private-booking-10/2023-09-28/
LOCATION:Longformacus Village Hall\, Longformacus Village Hall\, Duns Road\, Longformacus\, Scottish Borders\, TD11 3PB\, United Kingdom
CATEGORIES:Events,Longformacus Village Hall
ORGANIZER;CN="Katherina Radeva":MAILTO:kat@katherinaradeva.co.uk
GEO:55.806866;-2.490846
X-APPLE-STRUCTURED-LOCATION;VALUE=URI;X-ADDRESS=Longformacus Village Hall Longformacus Village Hall Duns Road Longformacus Scottish Borders TD11 3PB United Kingdom;X-APPLE-RADIUS=500;X-TITLE=Longformacus Village Hall\, Duns Road:geo:-2.490846,55.806866
END:VEVENT
BEGIN:VEVENT
DTSTART;TZID=Europe/London:20230927T100000
DTEND;TZID=Europe/London:20230927T160000
DTSTAMP:20260421T132209
CREATED:20230905T192245Z
LAST-MODIFIED:20230905T192245Z
UID:10000800-1695808800-1695830400@www.lammermuirlife.co.uk
SUMMARY:Private Booking
DESCRIPTION:Katherina (local resident) booking to rehearse for upcoming show – 40/40 \n 
URL:https://www.lammermuirlife.co.uk/event/private-booking-9/
LOCATION:Longformacus Village Hall\, Longformacus Village Hall\, Duns Road\, Longformacus\, Scottish Borders\, TD11 3PB\, United Kingdom
CATEGORIES:Events,Longformacus Village Hall
ORGANIZER;CN="Katherina Radeva":MAILTO:kat@katherinaradeva.co.uk
GEO:55.806866;-2.490846
X-APPLE-STRUCTURED-LOCATION;VALUE=URI;X-ADDRESS=Longformacus Village Hall Longformacus Village Hall Duns Road Longformacus Scottish Borders TD11 3PB United Kingdom;X-APPLE-RADIUS=500;X-TITLE=Longformacus Village Hall\, Duns Road:geo:-2.490846,55.806866
END:VEVENT
BEGIN:VEVENT
DTSTART;TZID=Europe/London:20230429T100000
DTEND;TZID=Europe/London:20230429T130000
DTSTAMP:20260421T132209
CREATED:20230413T170448Z
LAST-MODIFIED:20230414T180313Z
UID:10000343-1682762400-1682773200@www.lammermuirlife.co.uk
SUMMARY:Private Booking
DESCRIPTION:Katherina and Alistair (local residents) booked the hall to rehearse for upcoming show. \n40/40 is on at Duns Volunteer Hall on 30th April @ 7.30. \nTickets available on the door or in advance. \nLink – https://www.tickettailor.com/events/dunsplayfest/880918
URL:https://www.lammermuirlife.co.uk/event/private-booking-8/2023-04-29/
LOCATION:Longformacus Village Hall\, Longformacus Village Hall\, Duns Road\, Longformacus\, Scottish Borders\, TD11 3PB\, United Kingdom
CATEGORIES:Events,Longformacus Village Hall
ORGANIZER;CN="Katherina Radeva":MAILTO:kat@katherinaradeva.co.uk
GEO:55.806866;-2.490846
X-APPLE-STRUCTURED-LOCATION;VALUE=URI;X-ADDRESS=Longformacus Village Hall Longformacus Village Hall Duns Road Longformacus Scottish Borders TD11 3PB United Kingdom;X-APPLE-RADIUS=500;X-TITLE=Longformacus Village Hall\, Duns Road:geo:-2.490846,55.806866
END:VEVENT
BEGIN:VEVENT
DTSTART;TZID=Europe/London:20230428T100000
DTEND;TZID=Europe/London:20230428T130000
DTSTAMP:20260421T132209
CREATED:20230413T170448Z
LAST-MODIFIED:20230414T180313Z
UID:10000342-1682676000-1682686800@www.lammermuirlife.co.uk
SUMMARY:Private Booking
DESCRIPTION:Katherina and Alistair (local residents) booked the hall to rehearse for upcoming show. \n40/40 is on at Duns Volunteer Hall on 30th April @ 7.30. \nTickets available on the door or in advance. \nLink – https://www.tickettailor.com/events/dunsplayfest/880918
URL:https://www.lammermuirlife.co.uk/event/private-booking-8/2023-04-28/
LOCATION:Longformacus Village Hall\, Longformacus Village Hall\, Duns Road\, Longformacus\, Scottish Borders\, TD11 3PB\, United Kingdom
CATEGORIES:Events,Longformacus Village Hall
ORGANIZER;CN="Katherina Radeva":MAILTO:kat@katherinaradeva.co.uk
GEO:55.806866;-2.490846
X-APPLE-STRUCTURED-LOCATION;VALUE=URI;X-ADDRESS=Longformacus Village Hall Longformacus Village Hall Duns Road Longformacus Scottish Borders TD11 3PB United Kingdom;X-APPLE-RADIUS=500;X-TITLE=Longformacus Village Hall\, Duns Road:geo:-2.490846,55.806866
END:VEVENT
BEGIN:VEVENT
DTSTART;TZID=Europe/London:20230422T100000
DTEND;TZID=Europe/London:20230422T130000
DTSTAMP:20260421T132209
CREATED:20230413T170448Z
LAST-MODIFIED:20230414T180313Z
UID:10000341-1682157600-1682168400@www.lammermuirlife.co.uk
SUMMARY:Private Booking
DESCRIPTION:Katherina and Alistair (local residents) booked the hall to rehearse for upcoming show. \n40/40 is on at Duns Volunteer Hall on 30th April @ 7.30. \nTickets available on the door or in advance. \nLink – https://www.tickettailor.com/events/dunsplayfest/880918
URL:https://www.lammermuirlife.co.uk/event/private-booking-8/2023-04-22/
LOCATION:Longformacus Village Hall\, Longformacus Village Hall\, Duns Road\, Longformacus\, Scottish Borders\, TD11 3PB\, United Kingdom
CATEGORIES:Events,Longformacus Village Hall
ORGANIZER;CN="Katherina Radeva":MAILTO:kat@katherinaradeva.co.uk
GEO:55.806866;-2.490846
X-APPLE-STRUCTURED-LOCATION;VALUE=URI;X-ADDRESS=Longformacus Village Hall Longformacus Village Hall Duns Road Longformacus Scottish Borders TD11 3PB United Kingdom;X-APPLE-RADIUS=500;X-TITLE=Longformacus Village Hall\, Duns Road:geo:-2.490846,55.806866
END:VEVENT
BEGIN:VEVENT
DTSTART;TZID=Europe/London:20230421T100000
DTEND;TZID=Europe/London:20230421T130000
DTSTAMP:20260421T132209
CREATED:20230413T170448Z
LAST-MODIFIED:20230414T180313Z
UID:10000340-1682071200-1682082000@www.lammermuirlife.co.uk
SUMMARY:Private Booking
DESCRIPTION:Katherina and Alistair (local residents) booked the hall to rehearse for upcoming show. \n40/40 is on at Duns Volunteer Hall on 30th April @ 7.30. \nTickets available on the door or in advance. \nLink – https://www.tickettailor.com/events/dunsplayfest/880918
URL:https://www.lammermuirlife.co.uk/event/private-booking-8/2023-04-21/
LOCATION:Longformacus Village Hall\, Longformacus Village Hall\, Duns Road\, Longformacus\, Scottish Borders\, TD11 3PB\, United Kingdom
CATEGORIES:Events,Longformacus Village Hall
ORGANIZER;CN="Katherina Radeva":MAILTO:kat@katherinaradeva.co.uk
GEO:55.806866;-2.490846
X-APPLE-STRUCTURED-LOCATION;VALUE=URI;X-ADDRESS=Longformacus Village Hall Longformacus Village Hall Duns Road Longformacus Scottish Borders TD11 3PB United Kingdom;X-APPLE-RADIUS=500;X-TITLE=Longformacus Village Hall\, Duns Road:geo:-2.490846,55.806866
END:VEVENT
BEGIN:VEVENT
DTSTART;TZID=Europe/London:20230204T100000
DTEND;TZID=Europe/London:20230204T130000
DTSTAMP:20260421T132209
CREATED:20230112T064856Z
LAST-MODIFIED:20230112T064856Z
UID:10000314-1675504800-1675515600@www.lammermuirlife.co.uk
SUMMARY:Private booking
DESCRIPTION:Katherina and Alistair (local residents) booked the hall to rehearse for upcoming show.
URL:https://www.lammermuirlife.co.uk/event/private-booking-7/2023-02-04/
LOCATION:Longformacus Village Hall\, Longformacus Village Hall\, Duns Road\, Longformacus\, Scottish Borders\, TD11 3PB\, United Kingdom
CATEGORIES:Events,Longformacus Village Hall
ORGANIZER;CN="Katherina Radeva":MAILTO:kat@katherinaradeva.co.uk
GEO:55.806866;-2.490846
X-APPLE-STRUCTURED-LOCATION;VALUE=URI;X-ADDRESS=Longformacus Village Hall Longformacus Village Hall Duns Road Longformacus Scottish Borders TD11 3PB United Kingdom;X-APPLE-RADIUS=500;X-TITLE=Longformacus Village Hall\, Duns Road:geo:-2.490846,55.806866
END:VEVENT
BEGIN:VEVENT
DTSTART;TZID=Europe/London:20230203T100000
DTEND;TZID=Europe/London:20230203T130000
DTSTAMP:20260421T132209
CREATED:20230112T064856Z
LAST-MODIFIED:20230112T064856Z
UID:10000313-1675418400-1675429200@www.lammermuirlife.co.uk
SUMMARY:Private booking
DESCRIPTION:Katherina and Alistair (local residents) booked the hall to rehearse for upcoming show.
URL:https://www.lammermuirlife.co.uk/event/private-booking-7/2023-02-03/
LOCATION:Longformacus Village Hall\, Longformacus Village Hall\, Duns Road\, Longformacus\, Scottish Borders\, TD11 3PB\, United Kingdom
CATEGORIES:Events,Longformacus Village Hall
ORGANIZER;CN="Katherina Radeva":MAILTO:kat@katherinaradeva.co.uk
GEO:55.806866;-2.490846
X-APPLE-STRUCTURED-LOCATION;VALUE=URI;X-ADDRESS=Longformacus Village Hall Longformacus Village Hall Duns Road Longformacus Scottish Borders TD11 3PB United Kingdom;X-APPLE-RADIUS=500;X-TITLE=Longformacus Village Hall\, Duns Road:geo:-2.490846,55.806866
END:VEVENT
BEGIN:VEVENT
DTSTART;TZID=Europe/London:20230201T100000
DTEND;TZID=Europe/London:20230201T160000
DTSTAMP:20260421T132209
CREATED:20230112T064456Z
LAST-MODIFIED:20230112T064456Z
UID:10000312-1675245600-1675267200@www.lammermuirlife.co.uk
SUMMARY:Private booking
DESCRIPTION:Katherina and Alistair (local residents) booked the hall to rehearse for upcoming show
URL:https://www.lammermuirlife.co.uk/event/private-booking-6/
LOCATION:Longformacus Village Hall\, Longformacus Village Hall\, Duns Road\, Longformacus\, Scottish Borders\, TD11 3PB\, United Kingdom
CATEGORIES:Events,Longformacus Village Hall
ORGANIZER;CN="Katherina Radeva":MAILTO:kat@katherinaradeva.co.uk
GEO:55.806866;-2.490846
X-APPLE-STRUCTURED-LOCATION;VALUE=URI;X-ADDRESS=Longformacus Village Hall Longformacus Village Hall Duns Road Longformacus Scottish Borders TD11 3PB United Kingdom;X-APPLE-RADIUS=500;X-TITLE=Longformacus Village Hall\, Duns Road:geo:-2.490846,55.806866
END:VEVENT
BEGIN:VEVENT
DTSTART;TZID=Europe/London:20230131T100000
DTEND;TZID=Europe/London:20230131T130000
DTSTAMP:20260421T132209
CREATED:20230112T064257Z
LAST-MODIFIED:20230112T064257Z
UID:10000304-1675159200-1675170000@www.lammermuirlife.co.uk
SUMMARY:Private booking
DESCRIPTION:Katherina and Alistair (local residents) booked the hall to rehearse for upcoming show.
URL:https://www.lammermuirlife.co.uk/event/private-booking-5/2023-01-31/
LOCATION:Longformacus Village Hall\, Longformacus Village Hall\, Duns Road\, Longformacus\, Scottish Borders\, TD11 3PB\, United Kingdom
CATEGORIES:Events,Longformacus Village Hall
ORGANIZER;CN="Katherina Radeva":MAILTO:kat@katherinaradeva.co.uk
GEO:55.806866;-2.490846
X-APPLE-STRUCTURED-LOCATION;VALUE=URI;X-ADDRESS=Longformacus Village Hall Longformacus Village Hall Duns Road Longformacus Scottish Borders TD11 3PB United Kingdom;X-APPLE-RADIUS=500;X-TITLE=Longformacus Village Hall\, Duns Road:geo:-2.490846,55.806866
END:VEVENT
BEGIN:VEVENT
DTSTART;TZID=Europe/London:20230130T100000
DTEND;TZID=Europe/London:20230130T130000
DTSTAMP:20260421T132209
CREATED:20230112T064257Z
LAST-MODIFIED:20230112T064257Z
UID:10000303-1675072800-1675083600@www.lammermuirlife.co.uk
SUMMARY:Private booking
DESCRIPTION:Katherina and Alistair (local residents) booked the hall to rehearse for upcoming show.
URL:https://www.lammermuirlife.co.uk/event/private-booking-5/2023-01-30/
LOCATION:Longformacus Village Hall\, Longformacus Village Hall\, Duns Road\, Longformacus\, Scottish Borders\, TD11 3PB\, United Kingdom
CATEGORIES:Events,Longformacus Village Hall
ORGANIZER;CN="Katherina Radeva":MAILTO:kat@katherinaradeva.co.uk
GEO:55.806866;-2.490846
X-APPLE-STRUCTURED-LOCATION;VALUE=URI;X-ADDRESS=Longformacus Village Hall Longformacus Village Hall Duns Road Longformacus Scottish Borders TD11 3PB United Kingdom;X-APPLE-RADIUS=500;X-TITLE=Longformacus Village Hall\, Duns Road:geo:-2.490846,55.806866
END:VEVENT
BEGIN:VEVENT
DTSTART;TZID=Europe/London:20220810T100000
DTEND;TZID=Europe/London:20220810T130000
DTSTAMP:20260421T132209
CREATED:20220802T183610Z
LAST-MODIFIED:20220802T183610Z
UID:10000533-1660125600-1660136400@www.lammermuirlife.co.uk
SUMMARY:Private booking
DESCRIPTION:Katherina and Alister (local residents) booked the hall to rehearse for upcoming show.
URL:https://www.lammermuirlife.co.uk/event/private-booking/2022-08-10/
LOCATION:Longformacus Village Hall\, Longformacus Village Hall\, Duns Road\, Longformacus\, Scottish Borders\, TD11 3PB\, United Kingdom
CATEGORIES:Events,Longformacus Village Hall
ORGANIZER;CN="Katherina Radeva":MAILTO:kat@katherinaradeva.co.uk
GEO:55.806866;-2.490846
X-APPLE-STRUCTURED-LOCATION;VALUE=URI;X-ADDRESS=Longformacus Village Hall Longformacus Village Hall Duns Road Longformacus Scottish Borders TD11 3PB United Kingdom;X-APPLE-RADIUS=500;X-TITLE=Longformacus Village Hall\, Duns Road:geo:-2.490846,55.806866
END:VEVENT
BEGIN:VEVENT
DTSTART;TZID=Europe/London:20220809T100000
DTEND;TZID=Europe/London:20220809T130000
DTSTAMP:20260421T132209
CREATED:20220802T183610Z
LAST-MODIFIED:20220802T183610Z
UID:10000532-1660039200-1660050000@www.lammermuirlife.co.uk
SUMMARY:Private booking
DESCRIPTION:Katherina and Alister (local residents) booked the hall to rehearse for upcoming show.
URL:https://www.lammermuirlife.co.uk/event/private-booking/2022-08-09/
LOCATION:Longformacus Village Hall\, Longformacus Village Hall\, Duns Road\, Longformacus\, Scottish Borders\, TD11 3PB\, United Kingdom
CATEGORIES:Events,Longformacus Village Hall
ORGANIZER;CN="Katherina Radeva":MAILTO:kat@katherinaradeva.co.uk
GEO:55.806866;-2.490846
X-APPLE-STRUCTURED-LOCATION;VALUE=URI;X-ADDRESS=Longformacus Village Hall Longformacus Village Hall Duns Road Longformacus Scottish Borders TD11 3PB United Kingdom;X-APPLE-RADIUS=500;X-TITLE=Longformacus Village Hall\, Duns Road:geo:-2.490846,55.806866
END:VEVENT
BEGIN:VEVENT
DTSTART;TZID=Europe/London:20220808T100000
DTEND;TZID=Europe/London:20220808T130000
DTSTAMP:20260421T132209
CREATED:20220802T183610Z
LAST-MODIFIED:20220802T183610Z
UID:10000531-1659952800-1659963600@www.lammermuirlife.co.uk
SUMMARY:Private booking
DESCRIPTION:Katherina and Alister (local residents) booked the hall to rehearse for upcoming show.
URL:https://www.lammermuirlife.co.uk/event/private-booking/2022-08-08/
LOCATION:Longformacus Village Hall\, Longformacus Village Hall\, Duns Road\, Longformacus\, Scottish Borders\, TD11 3PB\, United Kingdom
CATEGORIES:Events,Longformacus Village Hall
ORGANIZER;CN="Katherina Radeva":MAILTO:kat@katherinaradeva.co.uk
GEO:55.806866;-2.490846
X-APPLE-STRUCTURED-LOCATION;VALUE=URI;X-ADDRESS=Longformacus Village Hall Longformacus Village Hall Duns Road Longformacus Scottish Borders TD11 3PB United Kingdom;X-APPLE-RADIUS=500;X-TITLE=Longformacus Village Hall\, Duns Road:geo:-2.490846,55.806866
END:VEVENT
BEGIN:VEVENT
DTSTART;TZID=Europe/London:20220729T100000
DTEND;TZID=Europe/London:20220729T160000
DTSTAMP:20260421T132209
CREATED:20220721T142636Z
LAST-MODIFIED:20220725T111813Z
UID:10000529-1659088800-1659110400@www.lammermuirlife.co.uk
SUMMARY:Private booking
DESCRIPTION:Katherina and Alister (local residents) booked the hall to rehearse for upcoming show.
URL:https://www.lammermuirlife.co.uk/event/private-booking-3/
LOCATION:Longformacus Village Hall\, Longformacus Village Hall\, Duns Road\, Longformacus\, Scottish Borders\, TD11 3PB\, United Kingdom
CATEGORIES:Events,Longformacus Village Hall
ORGANIZER;CN="Katherina Radeva":MAILTO:kat@katherinaradeva.co.uk
GEO:55.806866;-2.490846
X-APPLE-STRUCTURED-LOCATION;VALUE=URI;X-ADDRESS=Longformacus Village Hall Longformacus Village Hall Duns Road Longformacus Scottish Borders TD11 3PB United Kingdom;X-APPLE-RADIUS=500;X-TITLE=Longformacus Village Hall\, Duns Road:geo:-2.490846,55.806866
END:VEVENT
BEGIN:VEVENT
DTSTART;TZID=Europe/London:20220728T140000
DTEND;TZID=Europe/London:20220728T170000
DTSTAMP:20260421T132209
CREATED:20220721T142113Z
LAST-MODIFIED:20220721T142933Z
UID:10000523-1659016800-1659027600@www.lammermuirlife.co.uk
SUMMARY:Private booking
DESCRIPTION:Katherina and Alister (local residents) booked the hall to rehearse for upcoming show.
URL:https://www.lammermuirlife.co.uk/event/private-booking-2022-07-28/2022-07-28/
LOCATION:Longformacus Village Hall\, Longformacus Village Hall\, Duns Road\, Longformacus\, Scottish Borders\, TD11 3PB\, United Kingdom
CATEGORIES:Events,Longformacus Village Hall
ORGANIZER;CN="Katherina Radeva":MAILTO:kat@katherinaradeva.co.uk
GEO:55.806866;-2.490846
X-APPLE-STRUCTURED-LOCATION;VALUE=URI;X-ADDRESS=Longformacus Village Hall Longformacus Village Hall Duns Road Longformacus Scottish Borders TD11 3PB United Kingdom;X-APPLE-RADIUS=500;X-TITLE=Longformacus Village Hall\, Duns Road:geo:-2.490846,55.806866
END:VEVENT
BEGIN:VEVENT
DTSTART;TZID=Europe/London:20220727T100000
DTEND;TZID=Europe/London:20220727T130000
DTSTAMP:20260421T132209
CREATED:20220721T142432Z
LAST-MODIFIED:20220725T111857Z
UID:10000528-1658916000-1658926800@www.lammermuirlife.co.uk
SUMMARY:Private booking
DESCRIPTION:Katherina and Alister (local residents) booked the hall to rehearse for upcoming show.
URL:https://www.lammermuirlife.co.uk/event/private-booking-2-2022-07-26/2022-07-27/
LOCATION:Longformacus Village Hall\, Longformacus Village Hall\, Duns Road\, Longformacus\, Scottish Borders\, TD11 3PB\, United Kingdom
CATEGORIES:Events,Longformacus Village Hall
ORGANIZER;CN="Katherina Radeva":MAILTO:kat@katherinaradeva.co.uk
GEO:55.806866;-2.490846
X-APPLE-STRUCTURED-LOCATION;VALUE=URI;X-ADDRESS=Longformacus Village Hall Longformacus Village Hall Duns Road Longformacus Scottish Borders TD11 3PB United Kingdom;X-APPLE-RADIUS=500;X-TITLE=Longformacus Village Hall\, Duns Road:geo:-2.490846,55.806866
END:VEVENT
BEGIN:VEVENT
DTSTART;TZID=Europe/London:20220726T100000
DTEND;TZID=Europe/London:20220726T130000
DTSTAMP:20260421T132209
CREATED:20220721T142432Z
LAST-MODIFIED:20220725T111857Z
UID:10000527-1658829600-1658840400@www.lammermuirlife.co.uk
SUMMARY:Private booking
DESCRIPTION:Katherina and Alister (local residents) booked the hall to rehearse for upcoming show.
URL:https://www.lammermuirlife.co.uk/event/private-booking-2-2022-07-26/2022-07-26/
LOCATION:Longformacus Village Hall\, Longformacus Village Hall\, Duns Road\, Longformacus\, Scottish Borders\, TD11 3PB\, United Kingdom
CATEGORIES:Events,Longformacus Village Hall
ORGANIZER;CN="Katherina Radeva":MAILTO:kat@katherinaradeva.co.uk
GEO:55.806866;-2.490846
X-APPLE-STRUCTURED-LOCATION;VALUE=URI;X-ADDRESS=Longformacus Village Hall Longformacus Village Hall Duns Road Longformacus Scottish Borders TD11 3PB United Kingdom;X-APPLE-RADIUS=500;X-TITLE=Longformacus Village Hall\, Duns Road:geo:-2.490846,55.806866
END:VEVENT
BEGIN:VEVENT
DTSTART;TZID=Europe/London:20220725T110000
DTEND;TZID=Europe/London:20220725T130000
DTSTAMP:20260421T132209
CREATED:20220721T142432Z
LAST-MODIFIED:20220725T111920Z
UID:10000526-1658746800-1658754000@www.lammermuirlife.co.uk
SUMMARY:Private booking
DESCRIPTION:Katherina and Alister (local residents) booked the hall to rehearse for upcoming show.
URL:https://www.lammermuirlife.co.uk/event/private-booking-2/
LOCATION:Longformacus Village Hall\, Longformacus Village Hall\, Duns Road\, Longformacus\, Scottish Borders\, TD11 3PB\, United Kingdom
CATEGORIES:Events,Longformacus Village Hall
ORGANIZER;CN="Katherina Radeva":MAILTO:kat@katherinaradeva.co.uk
GEO:55.806866;-2.490846
X-APPLE-STRUCTURED-LOCATION;VALUE=URI;X-ADDRESS=Longformacus Village Hall Longformacus Village Hall Duns Road Longformacus Scottish Borders TD11 3PB United Kingdom;X-APPLE-RADIUS=500;X-TITLE=Longformacus Village Hall\, Duns Road:geo:-2.490846,55.806866
END:VEVENT
END:VCALENDAR