BEGIN:VCALENDAR
VERSION:2.0
PRODID:-//Lammermuir Community Website - ECPv6.15.20//NONSGML v1.0//EN
CALSCALE:GREGORIAN
METHOD:PUBLISH
X-WR-CALNAME:Lammermuir Community Website
X-ORIGINAL-URL:https://www.lammermuirlife.co.uk
X-WR-CALDESC:Events for Lammermuir Community Website
REFRESH-INTERVAL;VALUE=DURATION:PT1H
X-Robots-Tag:noindex
X-PUBLISHED-TTL:PT1H
BEGIN:VTIMEZONE
TZID:Europe/London
BEGIN:DAYLIGHT
TZOFFSETFROM:+0000
TZOFFSETTO:+0100
TZNAME:BST
DTSTART:20220327T010000
END:DAYLIGHT
BEGIN:STANDARD
TZOFFSETFROM:+0100
TZOFFSETTO:+0000
TZNAME:GMT
DTSTART:20221030T010000
END:STANDARD
BEGIN:DAYLIGHT
TZOFFSETFROM:+0000
TZOFFSETTO:+0100
TZNAME:BST
DTSTART:20230326T010000
END:DAYLIGHT
BEGIN:STANDARD
TZOFFSETFROM:+0100
TZOFFSETTO:+0000
TZNAME:GMT
DTSTART:20231029T010000
END:STANDARD
BEGIN:DAYLIGHT
TZOFFSETFROM:+0000
TZOFFSETTO:+0100
TZNAME:BST
DTSTART:20240331T010000
END:DAYLIGHT
BEGIN:STANDARD
TZOFFSETFROM:+0100
TZOFFSETTO:+0000
TZNAME:GMT
DTSTART:20241027T010000
END:STANDARD
END:VTIMEZONE
BEGIN:VEVENT
DTSTART;TZID=Europe/London:20230727T103000
DTEND;TZID=Europe/London:20230727T120000
DTSTAMP:20260426T045509
CREATED:20211202T200234Z
LAST-MODIFIED:20230612T192957Z
UID:10000305-1690453800-1690459200@www.lammermuirlife.co.uk
SUMMARY:Ready Steady Explore Toddler Group
DESCRIPTION:Baby and toddler group every Thursday 10.30am – 12pm \nAll welcome. \nRefreshments and snack are available
URL:https://www.lammermuirlife.co.uk/event/ready-steady-explore-toddler-group-5-2022-10-27-2022-12-15-2023-07-27/
LOCATION:Longformacus Village Hall\, Longformacus Village Hall\, Duns Road\, Longformacus\, Scottish Borders\, TD11 3PB\, United Kingdom
CATEGORIES:Events,Longformacus Village Hall
ORGANIZER;CN="Heather Bewick":MAILTO:heath8667hl@gmail.com
GEO:55.806866;-2.490846
X-APPLE-STRUCTURED-LOCATION;VALUE=URI;X-ADDRESS=Longformacus Village Hall Longformacus Village Hall Duns Road Longformacus Scottish Borders TD11 3PB United Kingdom;X-APPLE-RADIUS=500;X-TITLE=Longformacus Village Hall\, Duns Road:geo:-2.490846,55.806866
END:VEVENT
BEGIN:VEVENT
DTSTART;TZID=Europe/London:20230726T180000
DTEND;TZID=Europe/London:20230726T200000
DTSTAMP:20260426T045509
CREATED:20230423T175147Z
LAST-MODIFIED:20230909T153126Z
UID:10000363-1690394400-1690401600@www.lammermuirlife.co.uk
SUMMARY:Stitch and Craft social
DESCRIPTION:Come along with all your unfinished projects that you’ve started but not finished. \nYou can come along if your a beginner and want to learn something new. \nAll welcome
URL:https://www.lammermuirlife.co.uk/event/stitch-and-craft-social/2023-07-26/
LOCATION:Longformacus Village Hall\, Longformacus Village Hall\, Duns Road\, Longformacus\, Scottish Borders\, TD11 3PB\, United Kingdom
CATEGORIES:Events,Longformacus Village Hall
ORGANIZER;CN="Heather Bewick":MAILTO:heath8667hl@gmail.com
GEO:55.806866;-2.490846
X-APPLE-STRUCTURED-LOCATION;VALUE=URI;X-ADDRESS=Longformacus Village Hall Longformacus Village Hall Duns Road Longformacus Scottish Borders TD11 3PB United Kingdom;X-APPLE-RADIUS=500;X-TITLE=Longformacus Village Hall\, Duns Road:geo:-2.490846,55.806866
END:VEVENT
BEGIN:VEVENT
DTSTART;TZID=Europe/London:20230725T184500
DTEND;TZID=Europe/London:20230725T210000
DTSTAMP:20260426T045509
CREATED:20230717T143021Z
LAST-MODIFIED:20230717T143021Z
UID:10000694-1690310700-1690318800@www.lammermuirlife.co.uk
SUMMARY:Music Session
DESCRIPTION:Part of CELCA watch promotions
URL:https://www.lammermuirlife.co.uk/event/music-session-2/2023-07-25/
LOCATION:Longformacus Village Hall\, Longformacus Village Hall\, Duns Road\, Longformacus\, Scottish Borders\, TD11 3PB\, United Kingdom
CATEGORIES:Events,Longformacus Village Hall
ORGANIZER;CN="Jonathan Wood":MAILTO:jonathanpwood@msn.com
GEO:55.806866;-2.490846
X-APPLE-STRUCTURED-LOCATION;VALUE=URI;X-ADDRESS=Longformacus Village Hall Longformacus Village Hall Duns Road Longformacus Scottish Borders TD11 3PB United Kingdom;X-APPLE-RADIUS=500;X-TITLE=Longformacus Village Hall\, Duns Road:geo:-2.490846,55.806866
END:VEVENT
BEGIN:VEVENT
DTSTART;TZID=Europe/London:20230721T184500
DTEND;TZID=Europe/London:20230721T210000
DTSTAMP:20260426T045509
CREATED:20230717T143021Z
LAST-MODIFIED:20230717T143021Z
UID:10000693-1689965100-1689973200@www.lammermuirlife.co.uk
SUMMARY:Music Session
DESCRIPTION:Part of CELCA watch promotions
URL:https://www.lammermuirlife.co.uk/event/music-session-2/2023-07-21/
LOCATION:Longformacus Village Hall\, Longformacus Village Hall\, Duns Road\, Longformacus\, Scottish Borders\, TD11 3PB\, United Kingdom
CATEGORIES:Events,Longformacus Village Hall
ORGANIZER;CN="Jonathan Wood":MAILTO:jonathanpwood@msn.com
GEO:55.806866;-2.490846
X-APPLE-STRUCTURED-LOCATION;VALUE=URI;X-ADDRESS=Longformacus Village Hall Longformacus Village Hall Duns Road Longformacus Scottish Borders TD11 3PB United Kingdom;X-APPLE-RADIUS=500;X-TITLE=Longformacus Village Hall\, Duns Road:geo:-2.490846,55.806866
END:VEVENT
BEGIN:VEVENT
DTSTART;TZID=Europe/London:20230720T133000
DTEND;TZID=Europe/London:20230720T153000
DTSTAMP:20260426T045509
CREATED:20230203T112621Z
LAST-MODIFIED:20230905T184616Z
UID:10000638-1689859800-1689867000@www.lammermuirlife.co.uk
SUMMARY:Journaling cafe
DESCRIPTION:Corine is starting up a class where she will be showing how to make a journal book and how to keep journaling through the months ahead. \nEveryone welcome!
URL:https://www.lammermuirlife.co.uk/event/journaling-cafe-2023-06-29-2023-07-20/2023-07-20/
LOCATION:Longformacus Village Hall\, Longformacus Village Hall\, Duns Road\, Longformacus\, Scottish Borders\, TD11 3PB\, United Kingdom
CATEGORIES:Events,Longformacus Village Hall
ORGANIZER;CN="Corine Craik":MAILTO:corine.craik485@btinternet.com
GEO:55.806866;-2.490846
X-APPLE-STRUCTURED-LOCATION;VALUE=URI;X-ADDRESS=Longformacus Village Hall Longformacus Village Hall Duns Road Longformacus Scottish Borders TD11 3PB United Kingdom;X-APPLE-RADIUS=500;X-TITLE=Longformacus Village Hall\, Duns Road:geo:-2.490846,55.806866
END:VEVENT
BEGIN:VEVENT
DTSTART;TZID=Europe/London:20230719T180000
DTEND;TZID=Europe/London:20230719T200000
DTSTAMP:20260426T045509
CREATED:20230423T175147Z
LAST-MODIFIED:20230909T153126Z
UID:10000362-1689789600-1689796800@www.lammermuirlife.co.uk
SUMMARY:Stitch and Craft social
DESCRIPTION:Come along with all your unfinished projects that you’ve started but not finished. \nYou can come along if your a beginner and want to learn something new. \nAll welcome
URL:https://www.lammermuirlife.co.uk/event/stitch-and-craft-social/2023-07-19/
LOCATION:Longformacus Village Hall\, Longformacus Village Hall\, Duns Road\, Longformacus\, Scottish Borders\, TD11 3PB\, United Kingdom
CATEGORIES:Events,Longformacus Village Hall
ORGANIZER;CN="Heather Bewick":MAILTO:heath8667hl@gmail.com
GEO:55.806866;-2.490846
X-APPLE-STRUCTURED-LOCATION;VALUE=URI;X-ADDRESS=Longformacus Village Hall Longformacus Village Hall Duns Road Longformacus Scottish Borders TD11 3PB United Kingdom;X-APPLE-RADIUS=500;X-TITLE=Longformacus Village Hall\, Duns Road:geo:-2.490846,55.806866
END:VEVENT
BEGIN:VEVENT
DTSTART;TZID=Europe/London:20230716T080000
DTEND;TZID=Europe/London:20230716T130000
DTSTAMP:20260426T045509
CREATED:20230321T194817Z
LAST-MODIFIED:20230321T194817Z
UID:10000663-1689494400-1689512400@www.lammermuirlife.co.uk
SUMMARY:Sound Meditation
DESCRIPTION:Local resident holding their relaxing gong sound bath session.
URL:https://www.lammermuirlife.co.uk/event/sound-meditation/
LOCATION:Longformacus Village Hall\, Longformacus Village Hall\, Duns Road\, Longformacus\, Scottish Borders\, TD11 3PB\, United Kingdom
CATEGORIES:Events,Longformacus Village Hall
ORGANIZER;CN="Greig Silver":MAILTO:greigsilver@protonmail.com
GEO:55.806866;-2.490846
X-APPLE-STRUCTURED-LOCATION;VALUE=URI;X-ADDRESS=Longformacus Village Hall Longformacus Village Hall Duns Road Longformacus Scottish Borders TD11 3PB United Kingdom;X-APPLE-RADIUS=500;X-TITLE=Longformacus Village Hall\, Duns Road:geo:-2.490846,55.806866
END:VEVENT
BEGIN:VEVENT
DTSTART;TZID=Europe/London:20230715T190000
DTEND;TZID=Europe/London:20230715T213000
DTSTAMP:20260426T045509
CREATED:20230714T183414Z
LAST-MODIFIED:20230714T183631Z
UID:10000689-1689447600-1689456600@www.lammermuirlife.co.uk
SUMMARY:Music session
DESCRIPTION:Part of CELCA watch promotions
URL:https://www.lammermuirlife.co.uk/event/longformacus-music-session-4/
LOCATION:Longformacus Village Hall\, Longformacus Village Hall\, Duns Road\, Longformacus\, Scottish Borders\, TD11 3PB\, United Kingdom
CATEGORIES:Events,Longformacus Village Hall
ORGANIZER;CN="Jonathan Wood":MAILTO:jonathanpwood@msn.com
GEO:55.806866;-2.490846
X-APPLE-STRUCTURED-LOCATION;VALUE=URI;X-ADDRESS=Longformacus Village Hall Longformacus Village Hall Duns Road Longformacus Scottish Borders TD11 3PB United Kingdom;X-APPLE-RADIUS=500;X-TITLE=Longformacus Village Hall\, Duns Road:geo:-2.490846,55.806866
END:VEVENT
BEGIN:VEVENT
DTSTART;TZID=Europe/London:20230712T180000
DTEND;TZID=Europe/London:20230712T200000
DTSTAMP:20260426T045509
CREATED:20230423T175147Z
LAST-MODIFIED:20230909T153126Z
UID:10000361-1689184800-1689192000@www.lammermuirlife.co.uk
SUMMARY:Stitch and Craft social
DESCRIPTION:Come along with all your unfinished projects that you’ve started but not finished. \nYou can come along if your a beginner and want to learn something new. \nAll welcome
URL:https://www.lammermuirlife.co.uk/event/stitch-and-craft-social/2023-07-12/
LOCATION:Longformacus Village Hall\, Longformacus Village Hall\, Duns Road\, Longformacus\, Scottish Borders\, TD11 3PB\, United Kingdom
CATEGORIES:Events,Longformacus Village Hall
ORGANIZER;CN="Heather Bewick":MAILTO:heath8667hl@gmail.com
GEO:55.806866;-2.490846
X-APPLE-STRUCTURED-LOCATION;VALUE=URI;X-ADDRESS=Longformacus Village Hall Longformacus Village Hall Duns Road Longformacus Scottish Borders TD11 3PB United Kingdom;X-APPLE-RADIUS=500;X-TITLE=Longformacus Village Hall\, Duns Road:geo:-2.490846,55.806866
END:VEVENT
BEGIN:VEVENT
DTSTART;TZID=Europe/London:20230708T110000
DTEND;TZID=Europe/London:20230708T130000
DTSTAMP:20260426T045509
CREATED:20220105T153510Z
LAST-MODIFIED:20230616T181658Z
UID:10000347-1688814000-1688821200@www.lammermuirlife.co.uk
SUMMARY:Windmill Coffee Shop
DESCRIPTION:Come along to the Windmill Coffee Shop every second Saturday of the month. \nEnjoy a cuppa and a fab selection of homemade cakes. \nAll welcome.
URL:https://www.lammermuirlife.co.uk/event/windmill-coffee-shop-13-2022-12-10-2023-06-10/2023-07-08/
LOCATION:Scottish Borders
CATEGORIES:Events,Longformacus Village Hall
END:VEVENT
BEGIN:VEVENT
DTSTART;TZID=Europe/London:20230707T103000
DTEND;TZID=Europe/London:20230707T133000
DTSTAMP:20260426T045509
CREATED:20220105T154211Z
LAST-MODIFIED:20230616T182337Z
UID:10000429-1688725800-1688736600@www.lammermuirlife.co.uk
SUMMARY:Preparations for Windmill Coffee Shop
DESCRIPTION:
URL:https://www.lammermuirlife.co.uk/event/preparations-for-windmill-coffee-shop-3-2022-12-09-2023-06-09-2023-07-14/
LOCATION:Longformacus Village Hall\, Longformacus Village Hall\, Duns Road\, Longformacus\, Scottish Borders\, TD11 3PB\, United Kingdom
CATEGORIES:Events,Longformacus Village Hall
ORGANIZER;CN="Heather Bewick":MAILTO:heath8667hl@gmail.com
GEO:55.806866;-2.490846
X-APPLE-STRUCTURED-LOCATION;VALUE=URI;X-ADDRESS=Longformacus Village Hall Longformacus Village Hall Duns Road Longformacus Scottish Borders TD11 3PB United Kingdom;X-APPLE-RADIUS=500;X-TITLE=Longformacus Village Hall\, Duns Road:geo:-2.490846,55.806866
END:VEVENT
BEGIN:VEVENT
DTSTART;TZID=Europe/London:20230705T180000
DTEND;TZID=Europe/London:20230705T200000
DTSTAMP:20260426T045509
CREATED:20230423T175147Z
LAST-MODIFIED:20230909T153126Z
UID:10000360-1688580000-1688587200@www.lammermuirlife.co.uk
SUMMARY:Stitch and Craft social
DESCRIPTION:Come along with all your unfinished projects that you’ve started but not finished. \nYou can come along if your a beginner and want to learn something new. \nAll welcome
URL:https://www.lammermuirlife.co.uk/event/stitch-and-craft-social/2023-07-05/
LOCATION:Longformacus Village Hall\, Longformacus Village Hall\, Duns Road\, Longformacus\, Scottish Borders\, TD11 3PB\, United Kingdom
CATEGORIES:Events,Longformacus Village Hall
ORGANIZER;CN="Heather Bewick":MAILTO:heath8667hl@gmail.com
GEO:55.806866;-2.490846
X-APPLE-STRUCTURED-LOCATION;VALUE=URI;X-ADDRESS=Longformacus Village Hall Longformacus Village Hall Duns Road Longformacus Scottish Borders TD11 3PB United Kingdom;X-APPLE-RADIUS=500;X-TITLE=Longformacus Village Hall\, Duns Road:geo:-2.490846,55.806866
END:VEVENT
BEGIN:VEVENT
DTSTART;TZID=Europe/London:20230629T133000
DTEND;TZID=Europe/London:20230629T153000
DTSTAMP:20260426T045509
CREATED:20230203T112621Z
LAST-MODIFIED:20230503T200732Z
UID:10000637-1688045400-1688052600@www.lammermuirlife.co.uk
SUMMARY:Journaling cafe
DESCRIPTION:Corine is starting up a class where she will be showing how to make a journal book and how to keep journaling through the months ahead. \nEveryone welcome!
URL:https://www.lammermuirlife.co.uk/event/journaling-cafe/2023-06-29/
LOCATION:Longformacus Village Hall\, Longformacus Village Hall\, Duns Road\, Longformacus\, Scottish Borders\, TD11 3PB\, United Kingdom
CATEGORIES:Events,Longformacus Village Hall
ORGANIZER;CN="Corine Craik":MAILTO:corine.craik485@btinternet.com
GEO:55.806866;-2.490846
X-APPLE-STRUCTURED-LOCATION;VALUE=URI;X-ADDRESS=Longformacus Village Hall Longformacus Village Hall Duns Road Longformacus Scottish Borders TD11 3PB United Kingdom;X-APPLE-RADIUS=500;X-TITLE=Longformacus Village Hall\, Duns Road:geo:-2.490846,55.806866
END:VEVENT
BEGIN:VEVENT
DTSTART;TZID=Europe/London:20230628T180000
DTEND;TZID=Europe/London:20230628T200000
DTSTAMP:20260426T045509
CREATED:20230423T175147Z
LAST-MODIFIED:20230909T153126Z
UID:10000359-1687975200-1687982400@www.lammermuirlife.co.uk
SUMMARY:Stitch and Craft social
DESCRIPTION:Come along with all your unfinished projects that you’ve started but not finished. \nYou can come along if your a beginner and want to learn something new. \nAll welcome
URL:https://www.lammermuirlife.co.uk/event/stitch-and-craft-social/2023-06-28/
LOCATION:Longformacus Village Hall\, Longformacus Village Hall\, Duns Road\, Longformacus\, Scottish Borders\, TD11 3PB\, United Kingdom
CATEGORIES:Events,Longformacus Village Hall
ORGANIZER;CN="Heather Bewick":MAILTO:heath8667hl@gmail.com
GEO:55.806866;-2.490846
X-APPLE-STRUCTURED-LOCATION;VALUE=URI;X-ADDRESS=Longformacus Village Hall Longformacus Village Hall Duns Road Longformacus Scottish Borders TD11 3PB United Kingdom;X-APPLE-RADIUS=500;X-TITLE=Longformacus Village Hall\, Duns Road:geo:-2.490846,55.806866
END:VEVENT
BEGIN:VEVENT
DTSTART;TZID=Europe/London:20230627T190000
DTEND;TZID=Europe/London:20230627T203000
DTSTAMP:20260426T045509
CREATED:20230626T174422Z
LAST-MODIFIED:20230626T174422Z
UID:10000688-1687892400-1687897800@www.lammermuirlife.co.uk
SUMMARY:Commitee Meeting
DESCRIPTION:
URL:https://www.lammermuirlife.co.uk/event/commitee-meeting/
LOCATION:Longformacus Village Hall\, Longformacus Village Hall\, Duns Road\, Longformacus\, Scottish Borders\, TD11 3PB\, United Kingdom
CATEGORIES:Events,Longformacus Village Hall
ORGANIZER;CN="Jonathan Wood":MAILTO:jonathanpwood@msn.com
GEO:55.806866;-2.490846
X-APPLE-STRUCTURED-LOCATION;VALUE=URI;X-ADDRESS=Longformacus Village Hall Longformacus Village Hall Duns Road Longformacus Scottish Borders TD11 3PB United Kingdom;X-APPLE-RADIUS=500;X-TITLE=Longformacus Village Hall\, Duns Road:geo:-2.490846,55.806866
END:VEVENT
BEGIN:VEVENT
DTSTART;TZID=Europe/London:20230623T183000
DTEND;TZID=Europe/London:20230623T223000
DTSTAMP:20260426T045509
CREATED:20230508T200546Z
LAST-MODIFIED:20230508T200546Z
UID:10000381-1687545000-1687559400@www.lammermuirlife.co.uk
SUMMARY:Longformacus Music Session
DESCRIPTION:Part of CELCA Watch Promotions Fund
URL:https://www.lammermuirlife.co.uk/event/longformacus-music-session-3/2023-06-23/
LOCATION:Longformacus Village Hall\, Longformacus Village Hall\, Duns Road\, Longformacus\, Scottish Borders\, TD11 3PB\, United Kingdom
CATEGORIES:Events,Longformacus Village Hall
ORGANIZER;CN="Jonathan Wood":MAILTO:jonathanpwood@msn.com
GEO:55.806866;-2.490846
X-APPLE-STRUCTURED-LOCATION;VALUE=URI;X-ADDRESS=Longformacus Village Hall Longformacus Village Hall Duns Road Longformacus Scottish Borders TD11 3PB United Kingdom;X-APPLE-RADIUS=500;X-TITLE=Longformacus Village Hall\, Duns Road:geo:-2.490846,55.806866
END:VEVENT
BEGIN:VEVENT
DTSTART;TZID=Europe/London:20230622T130000
DTEND;TZID=Europe/London:20230622T190000
DTSTAMP:20260426T045509
CREATED:20230418T120100Z
LAST-MODIFIED:20230524T181712Z
UID:10000345-1687438800-1687460400@www.lammermuirlife.co.uk
SUMMARY:EDF Renewables Public Exhibition
DESCRIPTION:Info TBC
URL:https://www.lammermuirlife.co.uk/event/edf-renewables-public-exhibition-2023-06-22/2023-06-22/
LOCATION:Longformacus Village Hall\, Longformacus Village Hall\, Duns Road\, Longformacus\, Scottish Borders\, TD11 3PB\, United Kingdom
CATEGORIES:Events,Longformacus Village Hall
GEO:55.806866;-2.490846
X-APPLE-STRUCTURED-LOCATION;VALUE=URI;X-ADDRESS=Longformacus Village Hall Longformacus Village Hall Duns Road Longformacus Scottish Borders TD11 3PB United Kingdom;X-APPLE-RADIUS=500;X-TITLE=Longformacus Village Hall\, Duns Road:geo:-2.490846,55.806866
END:VEVENT
BEGIN:VEVENT
DTSTART;TZID=Europe/London:20230621T180000
DTEND;TZID=Europe/London:20230621T200000
DTSTAMP:20260426T045509
CREATED:20230423T175147Z
LAST-MODIFIED:20230909T153126Z
UID:10000358-1687370400-1687377600@www.lammermuirlife.co.uk
SUMMARY:Stitch and Craft social
DESCRIPTION:Come along with all your unfinished projects that you’ve started but not finished. \nYou can come along if your a beginner and want to learn something new. \nAll welcome
URL:https://www.lammermuirlife.co.uk/event/stitch-and-craft-social/2023-06-21/
LOCATION:Longformacus Village Hall\, Longformacus Village Hall\, Duns Road\, Longformacus\, Scottish Borders\, TD11 3PB\, United Kingdom
CATEGORIES:Events,Longformacus Village Hall
ORGANIZER;CN="Heather Bewick":MAILTO:heath8667hl@gmail.com
GEO:55.806866;-2.490846
X-APPLE-STRUCTURED-LOCATION;VALUE=URI;X-ADDRESS=Longformacus Village Hall Longformacus Village Hall Duns Road Longformacus Scottish Borders TD11 3PB United Kingdom;X-APPLE-RADIUS=500;X-TITLE=Longformacus Village Hall\, Duns Road:geo:-2.490846,55.806866
END:VEVENT
BEGIN:VEVENT
DTSTART;TZID=Europe/London:20230618T080000
DTEND;TZID=Europe/London:20230618T130000
DTSTAMP:20260426T045509
CREATED:20221204T140840Z
LAST-MODIFIED:20230321T194001Z
UID:10000248-1687075200-1687093200@www.lammermuirlife.co.uk
SUMMARY:Sound Meditation
DESCRIPTION:Local resident holding their relaxing gong sound bath session.
URL:https://www.lammermuirlife.co.uk/event/sound-bath-3-2023-06-18/2023-06-18/
LOCATION:Longformacus Village Hall\, Longformacus Village Hall\, Duns Road\, Longformacus\, Scottish Borders\, TD11 3PB\, United Kingdom
CATEGORIES:Events,Longformacus Village Hall
ORGANIZER;CN="Greig Silver":MAILTO:greigsilver@protonmail.com
GEO:55.806866;-2.490846
X-APPLE-STRUCTURED-LOCATION;VALUE=URI;X-ADDRESS=Longformacus Village Hall Longformacus Village Hall Duns Road Longformacus Scottish Borders TD11 3PB United Kingdom;X-APPLE-RADIUS=500;X-TITLE=Longformacus Village Hall\, Duns Road:geo:-2.490846,55.806866
END:VEVENT
BEGIN:VEVENT
DTSTART;TZID=Europe/London:20230615T133000
DTEND;TZID=Europe/London:20230615T153000
DTSTAMP:20260426T045509
CREATED:20230203T112621Z
LAST-MODIFIED:20230503T200732Z
UID:10000636-1686835800-1686843000@www.lammermuirlife.co.uk
SUMMARY:Journaling cafe
DESCRIPTION:Corine is starting up a class where she will be showing how to make a journal book and how to keep journaling through the months ahead. \nEveryone welcome!
URL:https://www.lammermuirlife.co.uk/event/journaling-cafe/2023-06-15/
LOCATION:Longformacus Village Hall\, Longformacus Village Hall\, Duns Road\, Longformacus\, Scottish Borders\, TD11 3PB\, United Kingdom
CATEGORIES:Events,Longformacus Village Hall
ORGANIZER;CN="Corine Craik":MAILTO:corine.craik485@btinternet.com
GEO:55.806866;-2.490846
X-APPLE-STRUCTURED-LOCATION;VALUE=URI;X-ADDRESS=Longformacus Village Hall Longformacus Village Hall Duns Road Longformacus Scottish Borders TD11 3PB United Kingdom;X-APPLE-RADIUS=500;X-TITLE=Longformacus Village Hall\, Duns Road:geo:-2.490846,55.806866
END:VEVENT
BEGIN:VEVENT
DTSTART;TZID=Europe/London:20230614T190000
DTEND;TZID=Europe/London:20230614T210000
DTSTAMP:20260426T045509
CREATED:20230520T063340Z
LAST-MODIFIED:20230520T063340Z
UID:10000382-1686769200-1686776400@www.lammermuirlife.co.uk
SUMMARY:LCC Meeting
DESCRIPTION:
URL:https://www.lammermuirlife.co.uk/event/lcc-meeting-5/
LOCATION:Longformacus Village Hall\, Longformacus Village Hall\, Duns Road\, Longformacus\, Scottish Borders\, TD11 3PB\, United Kingdom
CATEGORIES:Events,Longformacus Village Hall
GEO:55.806866;-2.490846
X-APPLE-STRUCTURED-LOCATION;VALUE=URI;X-ADDRESS=Longformacus Village Hall Longformacus Village Hall Duns Road Longformacus Scottish Borders TD11 3PB United Kingdom;X-APPLE-RADIUS=500;X-TITLE=Longformacus Village Hall\, Duns Road:geo:-2.490846,55.806866
END:VEVENT
BEGIN:VEVENT
DTSTART;TZID=Europe/London:20230611T130000
DTEND;TZID=Europe/London:20230611T173000
DTSTAMP:20260426T045509
CREATED:20230228T083758Z
LAST-MODIFIED:20230228T083758Z
UID:10000654-1686488400-1686504600@www.lammermuirlife.co.uk
SUMMARY:Heritage Centre - Opening Day
DESCRIPTION:Tea and Coffee provided in the hall
URL:https://www.lammermuirlife.co.uk/event/heritage-centre-opening-day/
LOCATION:Longformacus Village Hall\, Longformacus Village Hall\, Duns Road\, Longformacus\, Scottish Borders\, TD11 3PB\, United Kingdom
CATEGORIES:Events,Longformacus Village Hall
GEO:55.806866;-2.490846
X-APPLE-STRUCTURED-LOCATION;VALUE=URI;X-ADDRESS=Longformacus Village Hall Longformacus Village Hall Duns Road Longformacus Scottish Borders TD11 3PB United Kingdom;X-APPLE-RADIUS=500;X-TITLE=Longformacus Village Hall\, Duns Road:geo:-2.490846,55.806866
END:VEVENT
BEGIN:VEVENT
DTSTART;TZID=Europe/London:20230610T110000
DTEND;TZID=Europe/London:20230610T130000
DTSTAMP:20260426T045509
CREATED:20220105T153510Z
LAST-MODIFIED:20221201T195227Z
UID:10000338-1686394800-1686402000@www.lammermuirlife.co.uk
SUMMARY:Windmill Coffee Shop
DESCRIPTION:Come along to the Windmill Coffee Shop every second Saturday of the month. \nEnjoy a cuppa and a fab selection of homemade cakes. \nAll welcome.
URL:https://www.lammermuirlife.co.uk/event/windmill-coffee-shop-13-2022-12-10/2023-06-10/
LOCATION:Scottish Borders
CATEGORIES:Events,Longformacus Village Hall
END:VEVENT
BEGIN:VEVENT
DTSTART;TZID=Europe/London:20230610T110000
DTEND;TZID=Europe/London:20230610T130000
DTSTAMP:20260426T045509
CREATED:20220105T153510Z
LAST-MODIFIED:20230616T181658Z
UID:10000346-1686394800-1686402000@www.lammermuirlife.co.uk
SUMMARY:Windmill Coffee Shop
DESCRIPTION:Come along to the Windmill Coffee Shop every second Saturday of the month. \nEnjoy a cuppa and a fab selection of homemade cakes. \nAll welcome.
URL:https://www.lammermuirlife.co.uk/event/windmill-coffee-shop-13-2022-12-10-2023-06-10/2023-06-10/
LOCATION:Scottish Borders
CATEGORIES:Events,Longformacus Village Hall
END:VEVENT
BEGIN:VEVENT
DTSTART;TZID=Europe/London:20230609T183000
DTEND;TZID=Europe/London:20230609T223000
DTSTAMP:20260426T045509
CREATED:20230508T200546Z
LAST-MODIFIED:20230508T200546Z
UID:10000380-1686335400-1686349800@www.lammermuirlife.co.uk
SUMMARY:Longformacus Music Session
DESCRIPTION:Part of CELCA Watch Promotions Fund
URL:https://www.lammermuirlife.co.uk/event/longformacus-music-session-3/2023-06-09/
LOCATION:Longformacus Village Hall\, Longformacus Village Hall\, Duns Road\, Longformacus\, Scottish Borders\, TD11 3PB\, United Kingdom
CATEGORIES:Events,Longformacus Village Hall
ORGANIZER;CN="Jonathan Wood":MAILTO:jonathanpwood@msn.com
GEO:55.806866;-2.490846
X-APPLE-STRUCTURED-LOCATION;VALUE=URI;X-ADDRESS=Longformacus Village Hall Longformacus Village Hall Duns Road Longformacus Scottish Borders TD11 3PB United Kingdom;X-APPLE-RADIUS=500;X-TITLE=Longformacus Village Hall\, Duns Road:geo:-2.490846,55.806866
END:VEVENT
BEGIN:VEVENT
DTSTART;TZID=Europe/London:20230609T103000
DTEND;TZID=Europe/London:20230609T133000
DTSTAMP:20260426T045509
CREATED:20220105T154211Z
LAST-MODIFIED:20230616T181405Z
UID:10000426-1686306600-1686317400@www.lammermuirlife.co.uk
SUMMARY:Preparations for Windmill Coffee Shop
DESCRIPTION:
URL:https://www.lammermuirlife.co.uk/event/preparations-for-windmill-coffee-shop-3-2022-12-09-2023-06-09/2023-06-09/
LOCATION:Longformacus Village Hall\, Longformacus Village Hall\, Duns Road\, Longformacus\, Scottish Borders\, TD11 3PB\, United Kingdom
CATEGORIES:Events,Longformacus Village Hall
ORGANIZER;CN="Heather Bewick":MAILTO:heath8667hl@gmail.com
GEO:55.806866;-2.490846
X-APPLE-STRUCTURED-LOCATION;VALUE=URI;X-ADDRESS=Longformacus Village Hall Longformacus Village Hall Duns Road Longformacus Scottish Borders TD11 3PB United Kingdom;X-APPLE-RADIUS=500;X-TITLE=Longformacus Village Hall\, Duns Road:geo:-2.490846,55.806866
END:VEVENT
BEGIN:VEVENT
DTSTART;TZID=Europe/London:20230609T103000
DTEND;TZID=Europe/London:20230609T133000
DTSTAMP:20260426T045509
CREATED:20220105T154211Z
LAST-MODIFIED:20221201T194845Z
UID:10000423-1686306600-1686317400@www.lammermuirlife.co.uk
SUMMARY:Preparations for Windmill Coffee Shop
DESCRIPTION:
URL:https://www.lammermuirlife.co.uk/event/preparations-for-windmill-coffee-shop-3-2022-12-09/2023-06-09/
LOCATION:Longformacus Village Hall\, Longformacus Village Hall\, Duns Road\, Longformacus\, Scottish Borders\, TD11 3PB\, United Kingdom
CATEGORIES:Events,Longformacus Village Hall
ORGANIZER;CN="Heather Bewick":MAILTO:heath8667hl@gmail.com
GEO:55.806866;-2.490846
X-APPLE-STRUCTURED-LOCATION;VALUE=URI;X-ADDRESS=Longformacus Village Hall Longformacus Village Hall Duns Road Longformacus Scottish Borders TD11 3PB United Kingdom;X-APPLE-RADIUS=500;X-TITLE=Longformacus Village Hall\, Duns Road:geo:-2.490846,55.806866
END:VEVENT
BEGIN:VEVENT
DTSTART;TZID=Europe/London:20230607T180000
DTEND;TZID=Europe/London:20230607T200000
DTSTAMP:20260426T045509
CREATED:20230423T175147Z
LAST-MODIFIED:20230909T153126Z
UID:10000357-1686160800-1686168000@www.lammermuirlife.co.uk
SUMMARY:Stitch and Craft social
DESCRIPTION:Come along with all your unfinished projects that you’ve started but not finished. \nYou can come along if your a beginner and want to learn something new. \nAll welcome
URL:https://www.lammermuirlife.co.uk/event/stitch-and-craft-social/2023-06-07/
LOCATION:Longformacus Village Hall\, Longformacus Village Hall\, Duns Road\, Longformacus\, Scottish Borders\, TD11 3PB\, United Kingdom
CATEGORIES:Events,Longformacus Village Hall
ORGANIZER;CN="Heather Bewick":MAILTO:heath8667hl@gmail.com
GEO:55.806866;-2.490846
X-APPLE-STRUCTURED-LOCATION;VALUE=URI;X-ADDRESS=Longformacus Village Hall Longformacus Village Hall Duns Road Longformacus Scottish Borders TD11 3PB United Kingdom;X-APPLE-RADIUS=500;X-TITLE=Longformacus Village Hall\, Duns Road:geo:-2.490846,55.806866
END:VEVENT
BEGIN:VEVENT
DTSTART;TZID=Europe/London:20230606T183000
DTEND;TZID=Europe/London:20230606T220000
DTSTAMP:20260426T045509
CREATED:20230308T132941Z
LAST-MODIFIED:20230308T132941Z
UID:10000659-1686076200-1686088800@www.lammermuirlife.co.uk
SUMMARY:CELCA Meeting
DESCRIPTION:Meeting starts at 7pm
URL:https://www.lammermuirlife.co.uk/event/celca-meeting-2/
LOCATION:Longformacus Village Hall\, Longformacus Village Hall\, Duns Road\, Longformacus\, Scottish Borders\, TD11 3PB\, United Kingdom
CATEGORIES:Events,Longformacus Village Hall
GEO:55.806866;-2.490846
X-APPLE-STRUCTURED-LOCATION;VALUE=URI;X-ADDRESS=Longformacus Village Hall Longformacus Village Hall Duns Road Longformacus Scottish Borders TD11 3PB United Kingdom;X-APPLE-RADIUS=500;X-TITLE=Longformacus Village Hall\, Duns Road:geo:-2.490846,55.806866
END:VEVENT
BEGIN:VEVENT
DTSTART;TZID=Europe/London:20230531T130000
DTEND;TZID=Europe/London:20230531T210000
DTSTAMP:20260426T045509
CREATED:20230403T194157Z
LAST-MODIFIED:20230403T194416Z
UID:10000682-1685538000-1685566800@www.lammermuirlife.co.uk
SUMMARY:Public Consultation for Crystal Rig Solar Project
DESCRIPTION:Smithy House Associations on Behalf of Fred Olsen Renewables are holding a public consultation to discuss the Crystal Rig Solar Project. \nAll Welcome
URL:https://www.lammermuirlife.co.uk/event/public-consultation-for-crystal-rig-solar-project/
LOCATION:Longformacus Village Hall\, Longformacus Village Hall\, Duns Road\, Longformacus\, Scottish Borders\, TD11 3PB\, United Kingdom
CATEGORIES:Events,Longformacus Village Hall
GEO:55.806866;-2.490846
X-APPLE-STRUCTURED-LOCATION;VALUE=URI;X-ADDRESS=Longformacus Village Hall Longformacus Village Hall Duns Road Longformacus Scottish Borders TD11 3PB United Kingdom;X-APPLE-RADIUS=500;X-TITLE=Longformacus Village Hall\, Duns Road:geo:-2.490846,55.806866
END:VEVENT
END:VCALENDAR