BEGIN:VCALENDAR
VERSION:2.0
PRODID:-//Lammermuir Community Website - ECPv6.15.20//NONSGML v1.0//EN
CALSCALE:GREGORIAN
METHOD:PUBLISH
X-WR-CALNAME:Lammermuir Community Website
X-ORIGINAL-URL:https://www.lammermuirlife.co.uk
X-WR-CALDESC:Events for Lammermuir Community Website
REFRESH-INTERVAL;VALUE=DURATION:PT1H
X-Robots-Tag:noindex
X-PUBLISHED-TTL:PT1H
BEGIN:VTIMEZONE
TZID:Europe/London
BEGIN:DAYLIGHT
TZOFFSETFROM:+0000
TZOFFSETTO:+0100
TZNAME:BST
DTSTART:20220327T010000
END:DAYLIGHT
BEGIN:STANDARD
TZOFFSETFROM:+0100
TZOFFSETTO:+0000
TZNAME:GMT
DTSTART:20221030T010000
END:STANDARD
BEGIN:DAYLIGHT
TZOFFSETFROM:+0000
TZOFFSETTO:+0100
TZNAME:BST
DTSTART:20230326T010000
END:DAYLIGHT
BEGIN:STANDARD
TZOFFSETFROM:+0100
TZOFFSETTO:+0000
TZNAME:GMT
DTSTART:20231029T010000
END:STANDARD
BEGIN:DAYLIGHT
TZOFFSETFROM:+0000
TZOFFSETTO:+0100
TZNAME:BST
DTSTART:20240331T010000
END:DAYLIGHT
BEGIN:STANDARD
TZOFFSETFROM:+0100
TZOFFSETTO:+0000
TZNAME:GMT
DTSTART:20241027T010000
END:STANDARD
BEGIN:DAYLIGHT
TZOFFSETFROM:+0000
TZOFFSETTO:+0100
TZNAME:BST
DTSTART:20250330T010000
END:DAYLIGHT
BEGIN:STANDARD
TZOFFSETFROM:+0100
TZOFFSETTO:+0000
TZNAME:GMT
DTSTART:20251026T010000
END:STANDARD
END:VTIMEZONE
BEGIN:VEVENT
DTSTART;TZID=Europe/London:20240202T130000
DTEND;TZID=Europe/London:20240202T150000
DTSTAMP:20260425T164909
CREATED:20231211T204020Z
LAST-MODIFIED:20241010T193004Z
UID:10000486-1706878800-1706886000@www.lammermuirlife.co.uk
SUMMARY:Kids Club
DESCRIPTION:Kids club every Friday 1pm – 3pm \nAll ages welcome \nRefreshments and snacks are provided \nSuggested donation £2
URL:https://www.lammermuirlife.co.uk/event/kids-club/2024-02-02/
LOCATION:Longformacus Village Hall\, Longformacus Village Hall\, Duns Road\, Longformacus\, Scottish Borders\, TD11 3PB\, United Kingdom
CATEGORIES:Events,Longformacus Village Hall
ORGANIZER;CN="Heather Bewick":MAILTO:heath8667hl@gmail.com
GEO:55.806866;-2.490846
X-APPLE-STRUCTURED-LOCATION;VALUE=URI;X-ADDRESS=Longformacus Village Hall Longformacus Village Hall Duns Road Longformacus Scottish Borders TD11 3PB United Kingdom;X-APPLE-RADIUS=500;X-TITLE=Longformacus Village Hall\, Duns Road:geo:-2.490846,55.806866
END:VEVENT
BEGIN:VEVENT
DTSTART;TZID=Europe/London:20240202T110000
DTEND;TZID=Europe/London:20240202T120000
DTSTAMP:20260425T164909
CREATED:20230828T193316Z
LAST-MODIFIED:20240420T124347Z
UID:10000721-1706871600-1706875200@www.lammermuirlife.co.uk
SUMMARY:Tai-Chi
DESCRIPTION:Learn these ancient Chinese Arts for nourishing life and promoting health and wellbeing with instructor John Wilson
URL:https://www.lammermuirlife.co.uk/event/tai-chi-2023-12-15/2024-02-02/
LOCATION:Longformacus Village Hall\, Longformacus Village Hall\, Duns Road\, Longformacus\, Scottish Borders\, TD11 3PB\, United Kingdom
CATEGORIES:Events,Longformacus Village Hall
GEO:55.806866;-2.490846
X-APPLE-STRUCTURED-LOCATION;VALUE=URI;X-ADDRESS=Longformacus Village Hall Longformacus Village Hall Duns Road Longformacus Scottish Borders TD11 3PB United Kingdom;X-APPLE-RADIUS=500;X-TITLE=Longformacus Village Hall\, Duns Road:geo:-2.490846,55.806866
END:VEVENT
BEGIN:VEVENT
DTSTART;TZID=Europe/London:20240130T184500
DTEND;TZID=Europe/London:20240130T201500
DTSTAMP:20260425T164909
CREATED:20230829T190330Z
LAST-MODIFIED:20240212T201357Z
UID:10000756-1706640300-1706645700@www.lammermuirlife.co.uk
SUMMARY:Longformacus Choir
DESCRIPTION:
URL:https://www.lammermuirlife.co.uk/event/longformacus-choir-2/2024-01-30/
LOCATION:Longformacus Village Hall\, Longformacus Village Hall\, Duns Road\, Longformacus\, Scottish Borders\, TD11 3PB\, United Kingdom
CATEGORIES:Events,Longformacus Village Hall
ORGANIZER;CN="Kendal Mills":MAILTO:kendalmills63@gmail.com
GEO:55.806866;-2.490846
X-APPLE-STRUCTURED-LOCATION;VALUE=URI;X-ADDRESS=Longformacus Village Hall Longformacus Village Hall Duns Road Longformacus Scottish Borders TD11 3PB United Kingdom;X-APPLE-RADIUS=500;X-TITLE=Longformacus Village Hall\, Duns Road:geo:-2.490846,55.806866
END:VEVENT
BEGIN:VEVENT
DTSTART;TZID=Europe/London:20240129T134500
DTEND;TZID=Europe/London:20240129T151500
DTSTAMP:20260425T164909
CREATED:20230609T075739Z
LAST-MODIFIED:20230907T142357Z
UID:10000398-1706535900-1706541300@www.lammermuirlife.co.uk
SUMMARY:Chair Yoga
DESCRIPTION:Classes are 2-3pm
URL:https://www.lammermuirlife.co.uk/event/yoga-11/2024-01-29/
LOCATION:Longformacus Village Hall\, Longformacus Village Hall\, Duns Road\, Longformacus\, Scottish Borders\, TD11 3PB\, United Kingdom
CATEGORIES:Events,Longformacus Village Hall
ORGANIZER;CN="Kathleen White":MAILTO:canvass.bungee.0q@icloud.com
GEO:55.806866;-2.490846
X-APPLE-STRUCTURED-LOCATION;VALUE=URI;X-ADDRESS=Longformacus Village Hall Longformacus Village Hall Duns Road Longformacus Scottish Borders TD11 3PB United Kingdom;X-APPLE-RADIUS=500;X-TITLE=Longformacus Village Hall\, Duns Road:geo:-2.490846,55.806866
END:VEVENT
BEGIN:VEVENT
DTSTART;TZID=Europe/London:20240126T130000
DTEND;TZID=Europe/London:20240126T150000
DTSTAMP:20260425T164909
CREATED:20231211T204020Z
LAST-MODIFIED:20241010T193004Z
UID:10000485-1706274000-1706281200@www.lammermuirlife.co.uk
SUMMARY:Kids Club
DESCRIPTION:Kids club every Friday 1pm – 3pm \nAll ages welcome \nRefreshments and snacks are provided \nSuggested donation £2
URL:https://www.lammermuirlife.co.uk/event/kids-club/2024-01-26/
LOCATION:Longformacus Village Hall\, Longformacus Village Hall\, Duns Road\, Longformacus\, Scottish Borders\, TD11 3PB\, United Kingdom
CATEGORIES:Events,Longformacus Village Hall
ORGANIZER;CN="Heather Bewick":MAILTO:heath8667hl@gmail.com
GEO:55.806866;-2.490846
X-APPLE-STRUCTURED-LOCATION;VALUE=URI;X-ADDRESS=Longformacus Village Hall Longformacus Village Hall Duns Road Longformacus Scottish Borders TD11 3PB United Kingdom;X-APPLE-RADIUS=500;X-TITLE=Longformacus Village Hall\, Duns Road:geo:-2.490846,55.806866
END:VEVENT
BEGIN:VEVENT
DTSTART;TZID=Europe/London:20240126T110000
DTEND;TZID=Europe/London:20240126T120000
DTSTAMP:20260425T164909
CREATED:20230828T193316Z
LAST-MODIFIED:20240420T124347Z
UID:10000720-1706266800-1706270400@www.lammermuirlife.co.uk
SUMMARY:Tai-Chi
DESCRIPTION:Learn these ancient Chinese Arts for nourishing life and promoting health and wellbeing with instructor John Wilson
URL:https://www.lammermuirlife.co.uk/event/tai-chi-2023-12-15/2024-01-26/
LOCATION:Longformacus Village Hall\, Longformacus Village Hall\, Duns Road\, Longformacus\, Scottish Borders\, TD11 3PB\, United Kingdom
CATEGORIES:Events,Longformacus Village Hall
GEO:55.806866;-2.490846
X-APPLE-STRUCTURED-LOCATION;VALUE=URI;X-ADDRESS=Longformacus Village Hall Longformacus Village Hall Duns Road Longformacus Scottish Borders TD11 3PB United Kingdom;X-APPLE-RADIUS=500;X-TITLE=Longformacus Village Hall\, Duns Road:geo:-2.490846,55.806866
END:VEVENT
BEGIN:VEVENT
DTSTART;TZID=Europe/London:20240122T134500
DTEND;TZID=Europe/London:20240122T151500
DTSTAMP:20260425T164909
CREATED:20230609T075739Z
LAST-MODIFIED:20230907T142357Z
UID:10000397-1705931100-1705936500@www.lammermuirlife.co.uk
SUMMARY:Chair Yoga
DESCRIPTION:Classes are 2-3pm
URL:https://www.lammermuirlife.co.uk/event/yoga-11/2024-01-22/
LOCATION:Longformacus Village Hall\, Longformacus Village Hall\, Duns Road\, Longformacus\, Scottish Borders\, TD11 3PB\, United Kingdom
CATEGORIES:Events,Longformacus Village Hall
ORGANIZER;CN="Kathleen White":MAILTO:canvass.bungee.0q@icloud.com
GEO:55.806866;-2.490846
X-APPLE-STRUCTURED-LOCATION;VALUE=URI;X-ADDRESS=Longformacus Village Hall Longformacus Village Hall Duns Road Longformacus Scottish Borders TD11 3PB United Kingdom;X-APPLE-RADIUS=500;X-TITLE=Longformacus Village Hall\, Duns Road:geo:-2.490846,55.806866
END:VEVENT
BEGIN:VEVENT
DTSTART;TZID=Europe/London:20240119T130000
DTEND;TZID=Europe/London:20240119T150000
DTSTAMP:20260425T164909
CREATED:20231211T204020Z
LAST-MODIFIED:20241010T193004Z
UID:10000484-1705669200-1705676400@www.lammermuirlife.co.uk
SUMMARY:Kids Club
DESCRIPTION:Kids club every Friday 1pm – 3pm \nAll ages welcome \nRefreshments and snacks are provided \nSuggested donation £2
URL:https://www.lammermuirlife.co.uk/event/kids-club/2024-01-19/
LOCATION:Longformacus Village Hall\, Longformacus Village Hall\, Duns Road\, Longformacus\, Scottish Borders\, TD11 3PB\, United Kingdom
CATEGORIES:Events,Longformacus Village Hall
ORGANIZER;CN="Heather Bewick":MAILTO:heath8667hl@gmail.com
GEO:55.806866;-2.490846
X-APPLE-STRUCTURED-LOCATION;VALUE=URI;X-ADDRESS=Longformacus Village Hall Longformacus Village Hall Duns Road Longformacus Scottish Borders TD11 3PB United Kingdom;X-APPLE-RADIUS=500;X-TITLE=Longformacus Village Hall\, Duns Road:geo:-2.490846,55.806866
END:VEVENT
BEGIN:VEVENT
DTSTART;TZID=Europe/London:20240119T110000
DTEND;TZID=Europe/London:20240119T120000
DTSTAMP:20260425T164909
CREATED:20230828T193316Z
LAST-MODIFIED:20240420T124347Z
UID:10000719-1705662000-1705665600@www.lammermuirlife.co.uk
SUMMARY:Tai-Chi
DESCRIPTION:Learn these ancient Chinese Arts for nourishing life and promoting health and wellbeing with instructor John Wilson
URL:https://www.lammermuirlife.co.uk/event/tai-chi-2023-12-15/2024-01-19/
LOCATION:Longformacus Village Hall\, Longformacus Village Hall\, Duns Road\, Longformacus\, Scottish Borders\, TD11 3PB\, United Kingdom
CATEGORIES:Events,Longformacus Village Hall
GEO:55.806866;-2.490846
X-APPLE-STRUCTURED-LOCATION;VALUE=URI;X-ADDRESS=Longformacus Village Hall Longformacus Village Hall Duns Road Longformacus Scottish Borders TD11 3PB United Kingdom;X-APPLE-RADIUS=500;X-TITLE=Longformacus Village Hall\, Duns Road:geo:-2.490846,55.806866
END:VEVENT
BEGIN:VEVENT
DTSTART;TZID=Europe/London:20240115T134500
DTEND;TZID=Europe/London:20240115T151500
DTSTAMP:20260425T164909
CREATED:20230609T075739Z
LAST-MODIFIED:20230907T142357Z
UID:10000396-1705326300-1705331700@www.lammermuirlife.co.uk
SUMMARY:Chair Yoga
DESCRIPTION:Classes are 2-3pm
URL:https://www.lammermuirlife.co.uk/event/yoga-11/2024-01-15/
LOCATION:Longformacus Village Hall\, Longformacus Village Hall\, Duns Road\, Longformacus\, Scottish Borders\, TD11 3PB\, United Kingdom
CATEGORIES:Events,Longformacus Village Hall
ORGANIZER;CN="Kathleen White":MAILTO:canvass.bungee.0q@icloud.com
GEO:55.806866;-2.490846
X-APPLE-STRUCTURED-LOCATION;VALUE=URI;X-ADDRESS=Longformacus Village Hall Longformacus Village Hall Duns Road Longformacus Scottish Borders TD11 3PB United Kingdom;X-APPLE-RADIUS=500;X-TITLE=Longformacus Village Hall\, Duns Road:geo:-2.490846,55.806866
END:VEVENT
BEGIN:VEVENT
DTSTART;TZID=Europe/London:20240114T080000
DTEND;TZID=Europe/London:20240114T130000
DTSTAMP:20260425T164909
CREATED:20230321T195753Z
LAST-MODIFIED:20231214T204011Z
UID:10000669-1705219200-1705237200@www.lammermuirlife.co.uk
SUMMARY:Sound Meditation
DESCRIPTION:Local resident holding their relaxing gong sound bath session.
URL:https://www.lammermuirlife.co.uk/event/sound-meditation-3/2024-01-14/
LOCATION:Longformacus Village Hall\, Longformacus Village Hall\, Duns Road\, Longformacus\, Scottish Borders\, TD11 3PB\, United Kingdom
CATEGORIES:Events,Longformacus Village Hall
ORGANIZER;CN="Greig Silver":MAILTO:greigsilver@protonmail.com
GEO:55.806866;-2.490846
X-APPLE-STRUCTURED-LOCATION;VALUE=URI;X-ADDRESS=Longformacus Village Hall Longformacus Village Hall Duns Road Longformacus Scottish Borders TD11 3PB United Kingdom;X-APPLE-RADIUS=500;X-TITLE=Longformacus Village Hall\, Duns Road:geo:-2.490846,55.806866
END:VEVENT
BEGIN:VEVENT
DTSTART;TZID=Europe/London:20240112T130000
DTEND;TZID=Europe/London:20240112T150000
DTSTAMP:20260425T164909
CREATED:20231211T204020Z
LAST-MODIFIED:20241010T193004Z
UID:10000483-1705064400-1705071600@www.lammermuirlife.co.uk
SUMMARY:Kids Club
DESCRIPTION:Kids club every Friday 1pm – 3pm \nAll ages welcome \nRefreshments and snacks are provided \nSuggested donation £2
URL:https://www.lammermuirlife.co.uk/event/kids-club/2024-01-12/
LOCATION:Longformacus Village Hall\, Longformacus Village Hall\, Duns Road\, Longformacus\, Scottish Borders\, TD11 3PB\, United Kingdom
CATEGORIES:Events,Longformacus Village Hall
ORGANIZER;CN="Heather Bewick":MAILTO:heath8667hl@gmail.com
GEO:55.806866;-2.490846
X-APPLE-STRUCTURED-LOCATION;VALUE=URI;X-ADDRESS=Longformacus Village Hall Longformacus Village Hall Duns Road Longformacus Scottish Borders TD11 3PB United Kingdom;X-APPLE-RADIUS=500;X-TITLE=Longformacus Village Hall\, Duns Road:geo:-2.490846,55.806866
END:VEVENT
BEGIN:VEVENT
DTSTART;TZID=Europe/London:20240112T110000
DTEND;TZID=Europe/London:20240112T120000
DTSTAMP:20260425T164909
CREATED:20230828T193316Z
LAST-MODIFIED:20240420T124347Z
UID:10000718-1705057200-1705060800@www.lammermuirlife.co.uk
SUMMARY:Tai-Chi
DESCRIPTION:Learn these ancient Chinese Arts for nourishing life and promoting health and wellbeing with instructor John Wilson
URL:https://www.lammermuirlife.co.uk/event/tai-chi-2023-12-15/2024-01-12/
LOCATION:Longformacus Village Hall\, Longformacus Village Hall\, Duns Road\, Longformacus\, Scottish Borders\, TD11 3PB\, United Kingdom
CATEGORIES:Events,Longformacus Village Hall
GEO:55.806866;-2.490846
X-APPLE-STRUCTURED-LOCATION;VALUE=URI;X-ADDRESS=Longformacus Village Hall Longformacus Village Hall Duns Road Longformacus Scottish Borders TD11 3PB United Kingdom;X-APPLE-RADIUS=500;X-TITLE=Longformacus Village Hall\, Duns Road:geo:-2.490846,55.806866
END:VEVENT
BEGIN:VEVENT
DTSTART;TZID=Europe/London:20240108T134500
DTEND;TZID=Europe/London:20240108T151500
DTSTAMP:20260425T164909
CREATED:20230609T075739Z
LAST-MODIFIED:20230907T142357Z
UID:10000395-1704721500-1704726900@www.lammermuirlife.co.uk
SUMMARY:Chair Yoga
DESCRIPTION:Classes are 2-3pm
URL:https://www.lammermuirlife.co.uk/event/yoga-11/2024-01-08/
LOCATION:Longformacus Village Hall\, Longformacus Village Hall\, Duns Road\, Longformacus\, Scottish Borders\, TD11 3PB\, United Kingdom
CATEGORIES:Events,Longformacus Village Hall
ORGANIZER;CN="Kathleen White":MAILTO:canvass.bungee.0q@icloud.com
GEO:55.806866;-2.490846
X-APPLE-STRUCTURED-LOCATION;VALUE=URI;X-ADDRESS=Longformacus Village Hall Longformacus Village Hall Duns Road Longformacus Scottish Borders TD11 3PB United Kingdom;X-APPLE-RADIUS=500;X-TITLE=Longformacus Village Hall\, Duns Road:geo:-2.490846,55.806866
END:VEVENT
BEGIN:VEVENT
DTSTART;TZID=Europe/London:20240108T110000
DTEND;TZID=Europe/London:20240108T130000
DTSTAMP:20260425T164909
CREATED:20240108T220131Z
LAST-MODIFIED:20240326T134012Z
UID:10000814-1704711600-1704718800@www.lammermuirlife.co.uk
SUMMARY:Journaling cafe
DESCRIPTION:Corine is starting up a class where she will be showing how to make a journal book and how to keep journaling through the months ahead. \nEveryone welcome!
URL:https://www.lammermuirlife.co.uk/event/journaling-cafe-2/
LOCATION:Longformacus Village Hall\, Longformacus Village Hall\, Duns Road\, Longformacus\, Scottish Borders\, TD11 3PB\, United Kingdom
CATEGORIES:Events,Longformacus Village Hall
ORGANIZER;CN="Corine Craik":MAILTO:corine.craik485@btinternet.com
GEO:55.806866;-2.490846
X-APPLE-STRUCTURED-LOCATION;VALUE=URI;X-ADDRESS=Longformacus Village Hall Longformacus Village Hall Duns Road Longformacus Scottish Borders TD11 3PB United Kingdom;X-APPLE-RADIUS=500;X-TITLE=Longformacus Village Hall\, Duns Road:geo:-2.490846,55.806866
END:VEVENT
BEGIN:VEVENT
DTSTART;TZID=Europe/London:20240104T090000
DTEND;TZID=Europe/London:20240104T120000
DTSTAMP:20260425T164909
CREATED:20240102T191510Z
LAST-MODIFIED:20240102T191510Z
UID:10000524-1704358800-1704369600@www.lammermuirlife.co.uk
SUMMARY:Hall unavailable for booking
DESCRIPTION:Hall unavailable for booking due to electrician carrying out work in the hall.
URL:https://www.lammermuirlife.co.uk/event/hall-unavailable-for-booking/
LOCATION:Longformacus Village Hall\, Longformacus Village Hall\, Duns Road\, Longformacus\, Scottish Borders\, TD11 3PB\, United Kingdom
CATEGORIES:Events,Longformacus Village Hall
ORGANIZER;CN="Jonathan Wood":MAILTO:jonathanpwood@msn.com
GEO:55.806866;-2.490846
X-APPLE-STRUCTURED-LOCATION;VALUE=URI;X-ADDRESS=Longformacus Village Hall Longformacus Village Hall Duns Road Longformacus Scottish Borders TD11 3PB United Kingdom;X-APPLE-RADIUS=500;X-TITLE=Longformacus Village Hall\, Duns Road:geo:-2.490846,55.806866
END:VEVENT
BEGIN:VEVENT
DTSTART;TZID=Europe/London:20231227T130000
DTEND;TZID=Europe/London:20231227T160000
DTSTAMP:20260425T164909
CREATED:20240102T190827Z
LAST-MODIFIED:20240102T190827Z
UID:10000522-1703682000-1703692800@www.lammermuirlife.co.uk
SUMMARY:Table tennis
DESCRIPTION:
URL:https://www.lammermuirlife.co.uk/event/table-tennis/
LOCATION:Longformacus Village Hall\, Longformacus Village Hall\, Duns Road\, Longformacus\, Scottish Borders\, TD11 3PB\, United Kingdom
CATEGORIES:Events,Longformacus Village Hall
ORGANIZER;CN="Jonathan Wood":MAILTO:jonathanpwood@msn.com
GEO:55.806866;-2.490846
X-APPLE-STRUCTURED-LOCATION;VALUE=URI;X-ADDRESS=Longformacus Village Hall Longformacus Village Hall Duns Road Longformacus Scottish Borders TD11 3PB United Kingdom;X-APPLE-RADIUS=500;X-TITLE=Longformacus Village Hall\, Duns Road:geo:-2.490846,55.806866
END:VEVENT
BEGIN:VEVENT
DTSTART;TZID=Europe/London:20231221T170000
DTEND;TZID=Europe/London:20231221T190000
DTSTAMP:20260425T164909
CREATED:20231211T203250Z
LAST-MODIFIED:20231219T183902Z
UID:10000476-1703178000-1703185200@www.lammermuirlife.co.uk
SUMMARY:Community larder
DESCRIPTION:Longformacus Community larder using the hall to allow people to come in and get fresh veg etc for Christmas.
URL:https://www.lammermuirlife.co.uk/event/community-larder-2/
LOCATION:Longformacus Village Hall\, Longformacus Village Hall\, Duns Road\, Longformacus\, Scottish Borders\, TD11 3PB\, United Kingdom
CATEGORIES:Events,Longformacus Village Hall
ORGANIZER;CN="Corine Craik":MAILTO:corine.craik485@btinternet.com
GEO:55.806866;-2.490846
X-APPLE-STRUCTURED-LOCATION;VALUE=URI;X-ADDRESS=Longformacus Village Hall Longformacus Village Hall Duns Road Longformacus Scottish Borders TD11 3PB United Kingdom;X-APPLE-RADIUS=500;X-TITLE=Longformacus Village Hall\, Duns Road:geo:-2.490846,55.806866
END:VEVENT
BEGIN:VEVENT
DTSTART;TZID=Europe/London:20231220T150000
DTEND;TZID=Europe/London:20231220T160000
DTSTAMP:20260425T164909
CREATED:20231219T184314Z
LAST-MODIFIED:20231219T184314Z
UID:10000521-1703084400-1703088000@www.lammermuirlife.co.uk
SUMMARY:Community Larder - No public access
DESCRIPTION:Corine using the hall for food delivery and set up for public access on Thursday.
URL:https://www.lammermuirlife.co.uk/event/community-larder-no-public-access/
LOCATION:Longformacus Village Hall\, Longformacus Village Hall\, Duns Road\, Longformacus\, Scottish Borders\, TD11 3PB\, United Kingdom
CATEGORIES:Events,Longformacus Village Hall
ORGANIZER;CN="Corine Craik":MAILTO:corine.craik485@btinternet.com
GEO:55.806866;-2.490846
X-APPLE-STRUCTURED-LOCATION;VALUE=URI;X-ADDRESS=Longformacus Village Hall Longformacus Village Hall Duns Road Longformacus Scottish Borders TD11 3PB United Kingdom;X-APPLE-RADIUS=500;X-TITLE=Longformacus Village Hall\, Duns Road:geo:-2.490846,55.806866
END:VEVENT
BEGIN:VEVENT
DTSTART;TZID=Europe/London:20231219T184500
DTEND;TZID=Europe/London:20231219T201500
DTSTAMP:20260425T164909
CREATED:20230829T190330Z
LAST-MODIFIED:20240212T201357Z
UID:10000755-1703011500-1703016900@www.lammermuirlife.co.uk
SUMMARY:Longformacus Choir
DESCRIPTION:
URL:https://www.lammermuirlife.co.uk/event/longformacus-choir-2/2023-12-19/
LOCATION:Longformacus Village Hall\, Longformacus Village Hall\, Duns Road\, Longformacus\, Scottish Borders\, TD11 3PB\, United Kingdom
CATEGORIES:Events,Longformacus Village Hall
ORGANIZER;CN="Kendal Mills":MAILTO:kendalmills63@gmail.com
GEO:55.806866;-2.490846
X-APPLE-STRUCTURED-LOCATION;VALUE=URI;X-ADDRESS=Longformacus Village Hall Longformacus Village Hall Duns Road Longformacus Scottish Borders TD11 3PB United Kingdom;X-APPLE-RADIUS=500;X-TITLE=Longformacus Village Hall\, Duns Road:geo:-2.490846,55.806866
END:VEVENT
BEGIN:VEVENT
DTSTART;TZID=Europe/London:20231215T130000
DTEND;TZID=Europe/London:20231215T150000
DTSTAMP:20260425T164909
CREATED:20211202T200234Z
LAST-MODIFIED:20231211T203817Z
UID:10000324-1702645200-1702652400@www.lammermuirlife.co.uk
SUMMARY:Kids Club
DESCRIPTION:Kids club every Friday 1pm – 3pm \nAll ages welcome \nRefreshments and snacks are provided \nSuggested donation £2
URL:https://www.lammermuirlife.co.uk/event/ready-steady-explore-toddler-group-5-2022-10-27-2022-12-15-2023-09-14-2023-10-19-2023-10-27-2023-12-15/2023-12-15/
LOCATION:Longformacus Village Hall\, Longformacus Village Hall\, Duns Road\, Longformacus\, Scottish Borders\, TD11 3PB\, United Kingdom
CATEGORIES:Events,Longformacus Village Hall
ORGANIZER;CN="Heather Bewick":MAILTO:heath8667hl@gmail.com
GEO:55.806866;-2.490846
X-APPLE-STRUCTURED-LOCATION;VALUE=URI;X-ADDRESS=Longformacus Village Hall Longformacus Village Hall Duns Road Longformacus Scottish Borders TD11 3PB United Kingdom;X-APPLE-RADIUS=500;X-TITLE=Longformacus Village Hall\, Duns Road:geo:-2.490846,55.806866
END:VEVENT
BEGIN:VEVENT
DTSTART;TZID=Europe/London:20231215T130000
DTEND;TZID=Europe/London:20231215T150000
DTSTAMP:20260425T164909
CREATED:20211202T200234Z
LAST-MODIFIED:20231127T084555Z
UID:10000321-1702645200-1702652400@www.lammermuirlife.co.uk
SUMMARY:Kids Club
DESCRIPTION:Kids club every Friday 1pm – 3pm \nAll ages welcome \nRefreshments and snacks are provided \nSuggested donation £2
URL:https://www.lammermuirlife.co.uk/event/ready-steady-explore-toddler-group-5-2022-10-27-2022-12-15-2023-09-14-2023-10-19-2023-10-27/2023-12-15/
LOCATION:Longformacus Village Hall\, Longformacus Village Hall\, Duns Road\, Longformacus\, Scottish Borders\, TD11 3PB\, United Kingdom
CATEGORIES:Events,Longformacus Village Hall
ORGANIZER;CN="Heather Bewick":MAILTO:heath8667hl@gmail.com
GEO:55.806866;-2.490846
X-APPLE-STRUCTURED-LOCATION;VALUE=URI;X-ADDRESS=Longformacus Village Hall Longformacus Village Hall Duns Road Longformacus Scottish Borders TD11 3PB United Kingdom;X-APPLE-RADIUS=500;X-TITLE=Longformacus Village Hall\, Duns Road:geo:-2.490846,55.806866
END:VEVENT
BEGIN:VEVENT
DTSTART;TZID=Europe/London:20231212T184500
DTEND;TZID=Europe/London:20231212T201500
DTSTAMP:20260425T164909
CREATED:20230829T190330Z
LAST-MODIFIED:20240212T201357Z
UID:10000754-1702406700-1702412100@www.lammermuirlife.co.uk
SUMMARY:Longformacus Choir
DESCRIPTION:
URL:https://www.lammermuirlife.co.uk/event/longformacus-choir-2/2023-12-12/
LOCATION:Longformacus Village Hall\, Longformacus Village Hall\, Duns Road\, Longformacus\, Scottish Borders\, TD11 3PB\, United Kingdom
CATEGORIES:Events,Longformacus Village Hall
ORGANIZER;CN="Kendal Mills":MAILTO:kendalmills63@gmail.com
GEO:55.806866;-2.490846
X-APPLE-STRUCTURED-LOCATION;VALUE=URI;X-ADDRESS=Longformacus Village Hall Longformacus Village Hall Duns Road Longformacus Scottish Borders TD11 3PB United Kingdom;X-APPLE-RADIUS=500;X-TITLE=Longformacus Village Hall\, Duns Road:geo:-2.490846,55.806866
END:VEVENT
BEGIN:VEVENT
DTSTART;TZID=Europe/London:20231211T153000
DTEND;TZID=Europe/London:20231211T173000
DTSTAMP:20260425T164909
CREATED:20230203T112621Z
LAST-MODIFIED:20240108T215813Z
UID:10000650-1702308600-1702315800@www.lammermuirlife.co.uk
SUMMARY:Journaling cafe
DESCRIPTION:Corine is starting up a class where she will be showing how to make a journal book and how to keep journaling through the months ahead. \nEveryone welcome!
URL:https://www.lammermuirlife.co.uk/event/journaling-cafe-2023-06-29-2023-07-20-2023-10-26/2023-12-11/
LOCATION:Longformacus Village Hall\, Longformacus Village Hall\, Duns Road\, Longformacus\, Scottish Borders\, TD11 3PB\, United Kingdom
CATEGORIES:Events,Longformacus Village Hall
ORGANIZER;CN="Corine Craik":MAILTO:corine.craik485@btinternet.com
GEO:55.806866;-2.490846
X-APPLE-STRUCTURED-LOCATION;VALUE=URI;X-ADDRESS=Longformacus Village Hall Longformacus Village Hall Duns Road Longformacus Scottish Borders TD11 3PB United Kingdom;X-APPLE-RADIUS=500;X-TITLE=Longformacus Village Hall\, Duns Road:geo:-2.490846,55.806866
END:VEVENT
BEGIN:VEVENT
DTSTART;TZID=Europe/London:20231211T134500
DTEND;TZID=Europe/London:20231211T151500
DTSTAMP:20260425T164909
CREATED:20230609T075438Z
LAST-MODIFIED:20230905T180919Z
UID:10000394-1702302300-1702307700@www.lammermuirlife.co.uk
SUMMARY:Chair Yoga
DESCRIPTION:Classes are 2-3pm
URL:https://www.lammermuirlife.co.uk/event/yoga-10/2023-12-11/
LOCATION:Longformacus Village Hall\, Longformacus Village Hall\, Duns Road\, Longformacus\, Scottish Borders\, TD11 3PB\, United Kingdom
CATEGORIES:Events,Longformacus Village Hall
ORGANIZER;CN="Kathleen White":MAILTO:canvass.bungee.0q@icloud.com
GEO:55.806866;-2.490846
X-APPLE-STRUCTURED-LOCATION;VALUE=URI;X-ADDRESS=Longformacus Village Hall Longformacus Village Hall Duns Road Longformacus Scottish Borders TD11 3PB United Kingdom;X-APPLE-RADIUS=500;X-TITLE=Longformacus Village Hall\, Duns Road:geo:-2.490846,55.806866
END:VEVENT
BEGIN:VEVENT
DTSTART;TZID=Europe/London:20231210T080000
DTEND;TZID=Europe/London:20231210T130000
DTSTAMP:20260425T164909
CREATED:20230321T195753Z
LAST-MODIFIED:20231214T204011Z
UID:10000668-1702195200-1702213200@www.lammermuirlife.co.uk
SUMMARY:Sound Meditation
DESCRIPTION:Local resident holding their relaxing gong sound bath session.
URL:https://www.lammermuirlife.co.uk/event/sound-meditation-3/2023-12-10/
LOCATION:Longformacus Village Hall\, Longformacus Village Hall\, Duns Road\, Longformacus\, Scottish Borders\, TD11 3PB\, United Kingdom
CATEGORIES:Events,Longformacus Village Hall
ORGANIZER;CN="Greig Silver":MAILTO:greigsilver@protonmail.com
GEO:55.806866;-2.490846
X-APPLE-STRUCTURED-LOCATION;VALUE=URI;X-ADDRESS=Longformacus Village Hall Longformacus Village Hall Duns Road Longformacus Scottish Borders TD11 3PB United Kingdom;X-APPLE-RADIUS=500;X-TITLE=Longformacus Village Hall\, Duns Road:geo:-2.490846,55.806866
END:VEVENT
BEGIN:VEVENT
DTSTART;TZID=Europe/London:20231209T190000
DTEND;TZID=Europe/London:20231209T230000
DTSTAMP:20260425T164909
CREATED:20231107T145813Z
LAST-MODIFIED:20231107T145909Z
UID:10000812-1702148400-1702162800@www.lammermuirlife.co.uk
SUMMARY:Longformacus Christmas Concert
DESCRIPTION:Come and join us for music & mince pies. \nBYOB \n£5 on the door
URL:https://www.lammermuirlife.co.uk/event/longformacus-christmas-concert-2/
LOCATION:Longformacus Village Hall\, Longformacus Village Hall\, Duns Road\, Longformacus\, Scottish Borders\, TD11 3PB\, United Kingdom
CATEGORIES:Events,Longformacus Village Hall
ORGANIZER;CN="Jonathan Wood":MAILTO:jonathanpwood@msn.com
GEO:55.806866;-2.490846
X-APPLE-STRUCTURED-LOCATION;VALUE=URI;X-ADDRESS=Longformacus Village Hall Longformacus Village Hall Duns Road Longformacus Scottish Borders TD11 3PB United Kingdom;X-APPLE-RADIUS=500;X-TITLE=Longformacus Village Hall\, Duns Road:geo:-2.490846,55.806866
END:VEVENT
BEGIN:VEVENT
DTSTART;TZID=Europe/London:20231209T130000
DTEND;TZID=Europe/London:20231209T180000
DTSTAMP:20260425T164909
CREATED:20231206T195443Z
LAST-MODIFIED:20231206T195443Z
UID:10000475-1702126800-1702144800@www.lammermuirlife.co.uk
SUMMARY:Music session
DESCRIPTION:
URL:https://www.lammermuirlife.co.uk/event/music-session-9/
LOCATION:Longformacus Village Hall\, Longformacus Village Hall\, Duns Road\, Longformacus\, Scottish Borders\, TD11 3PB\, United Kingdom
CATEGORIES:Events,Longformacus Village Hall
ORGANIZER;CN="Jonathan Wood":MAILTO:jonathanpwood@msn.com
GEO:55.806866;-2.490846
X-APPLE-STRUCTURED-LOCATION;VALUE=URI;X-ADDRESS=Longformacus Village Hall Longformacus Village Hall Duns Road Longformacus Scottish Borders TD11 3PB United Kingdom;X-APPLE-RADIUS=500;X-TITLE=Longformacus Village Hall\, Duns Road:geo:-2.490846,55.806866
END:VEVENT
BEGIN:VEVENT
DTSTART;TZID=Europe/London:20231209T110000
DTEND;TZID=Europe/London:20231209T130000
DTSTAMP:20260425T164909
CREATED:20220105T153510Z
LAST-MODIFIED:20230616T181658Z
UID:10000351-1702119600-1702126800@www.lammermuirlife.co.uk
SUMMARY:Windmill Coffee Shop
DESCRIPTION:Come along to the Windmill Coffee Shop every second Saturday of the month. \nEnjoy a cuppa and a fab selection of homemade cakes. \nAll welcome.
URL:https://www.lammermuirlife.co.uk/event/windmill-coffee-shop-13-2022-12-10-2023-06-10/2023-12-09/
LOCATION:Scottish Borders
CATEGORIES:Events,Longformacus Village Hall
END:VEVENT
BEGIN:VEVENT
DTSTART;TZID=Europe/London:20231208T130000
DTEND;TZID=Europe/London:20231208T160000
DTSTAMP:20260425T164909
CREATED:20220105T154211Z
LAST-MODIFIED:20230829T183612Z
UID:10000432-1702040400-1702051200@www.lammermuirlife.co.uk
SUMMARY:Preparations for Windmill Coffee Shop
DESCRIPTION:
URL:https://www.lammermuirlife.co.uk/event/preparations-for-windmill-coffee-shop-3-2022-12-09-2023-06-09-2023-09-08/2023-12-08/
LOCATION:Longformacus Village Hall\, Longformacus Village Hall\, Duns Road\, Longformacus\, Scottish Borders\, TD11 3PB\, United Kingdom
CATEGORIES:Events,Longformacus Village Hall
ORGANIZER;CN="Heather Bewick":MAILTO:heath8667hl@gmail.com
GEO:55.806866;-2.490846
X-APPLE-STRUCTURED-LOCATION;VALUE=URI;X-ADDRESS=Longformacus Village Hall Longformacus Village Hall Duns Road Longformacus Scottish Borders TD11 3PB United Kingdom;X-APPLE-RADIUS=500;X-TITLE=Longformacus Village Hall\, Duns Road:geo:-2.490846,55.806866
END:VEVENT
END:VCALENDAR