BEGIN:VCALENDAR
VERSION:2.0
PRODID:-//Lammermuir Community Website - ECPv6.15.20//NONSGML v1.0//EN
CALSCALE:GREGORIAN
METHOD:PUBLISH
X-WR-CALNAME:Lammermuir Community Website
X-ORIGINAL-URL:https://www.lammermuirlife.co.uk
X-WR-CALDESC:Events for Lammermuir Community Website
REFRESH-INTERVAL;VALUE=DURATION:PT1H
X-Robots-Tag:noindex
X-PUBLISHED-TTL:PT1H
BEGIN:VTIMEZONE
TZID:Europe/London
BEGIN:DAYLIGHT
TZOFFSETFROM:+0000
TZOFFSETTO:+0100
TZNAME:BST
DTSTART:20240331T010000
END:DAYLIGHT
BEGIN:STANDARD
TZOFFSETFROM:+0100
TZOFFSETTO:+0000
TZNAME:GMT
DTSTART:20241027T010000
END:STANDARD
BEGIN:DAYLIGHT
TZOFFSETFROM:+0000
TZOFFSETTO:+0100
TZNAME:BST
DTSTART:20250330T010000
END:DAYLIGHT
BEGIN:STANDARD
TZOFFSETFROM:+0100
TZOFFSETTO:+0000
TZNAME:GMT
DTSTART:20251026T010000
END:STANDARD
BEGIN:DAYLIGHT
TZOFFSETFROM:+0000
TZOFFSETTO:+0100
TZNAME:BST
DTSTART:20260329T010000
END:DAYLIGHT
BEGIN:STANDARD
TZOFFSETFROM:+0100
TZOFFSETTO:+0000
TZNAME:GMT
DTSTART:20261025T010000
END:STANDARD
BEGIN:DAYLIGHT
TZOFFSETFROM:+0000
TZOFFSETTO:+0100
TZNAME:BST
DTSTART:20270328T010000
END:DAYLIGHT
BEGIN:STANDARD
TZOFFSETFROM:+0100
TZOFFSETTO:+0000
TZNAME:GMT
DTSTART:20271031T010000
END:STANDARD
END:VTIMEZONE
BEGIN:VEVENT
DTSTART;TZID=Europe/London:20260203T184500
DTEND;TZID=Europe/London:20260203T201500
DTSTAMP:20260421T132352
CREATED:20260101T195157Z
LAST-MODIFIED:20260101T195157Z
UID:10001845-1770144300-1770149700@www.lammermuirlife.co.uk
SUMMARY:Longformacus Choir
DESCRIPTION:
URL:https://www.lammermuirlife.co.uk/event/longformacus-choir-5/2026-02-03/
LOCATION:Longformacus Village Hall\, Longformacus Village Hall\, Duns Road\, Longformacus\, Scottish Borders\, TD11 3PB\, United Kingdom
CATEGORIES:Events,Longformacus Village Hall
ORGANIZER;CN="Kendal Mills":MAILTO:kendalmills63@gmail.com
GEO:55.806866;-2.490846
X-APPLE-STRUCTURED-LOCATION;VALUE=URI;X-ADDRESS=Longformacus Village Hall Longformacus Village Hall Duns Road Longformacus Scottish Borders TD11 3PB United Kingdom;X-APPLE-RADIUS=500;X-TITLE=Longformacus Village Hall\, Duns Road:geo:-2.490846,55.806866
END:VEVENT
BEGIN:VEVENT
DTSTART;TZID=Europe/London:20260202T110000
DTEND;TZID=Europe/London:20260202T130000
DTSTAMP:20260421T132352
CREATED:20260110T154108Z
LAST-MODIFIED:20260110T154109Z
UID:10001820-1770030000-1770037200@www.lammermuirlife.co.uk
SUMMARY:Journaling Cafe
DESCRIPTION:Come along and start a project or finish one! \nEveryone welcome
URL:https://www.lammermuirlife.co.uk/event/journaling-cafe-5-2/2026-02-02/
LOCATION:Longformacus Village Hall\, Longformacus Village Hall\, Duns Road\, Longformacus\, Scottish Borders\, TD11 3PB\, United Kingdom
CATEGORIES:Events,Longformacus Village Hall
ORGANIZER;CN="Corine Craik":MAILTO:corine.craik485@btinternet.com
GEO:55.806866;-2.490846
X-APPLE-STRUCTURED-LOCATION;VALUE=URI;X-ADDRESS=Longformacus Village Hall Longformacus Village Hall Duns Road Longformacus Scottish Borders TD11 3PB United Kingdom;X-APPLE-RADIUS=500;X-TITLE=Longformacus Village Hall\, Duns Road:geo:-2.490846,55.806866
END:VEVENT
BEGIN:VEVENT
DTSTART;TZID=Europe/London:20260130T130000
DTEND;TZID=Europe/London:20260130T153000
DTSTAMP:20260421T132352
CREATED:20260105T203556Z
LAST-MODIFIED:20260328T103350Z
UID:10001976-1769778000-1769787000@www.lammermuirlife.co.uk
SUMMARY:Kids Club - Learn with Lizzie
DESCRIPTION:Tickets only \n1.30pm-3pm
URL:https://www.lammermuirlife.co.uk/event/kids-club-learn-with-lizzie-5/2026-01-30/
LOCATION:Longformacus Village Hall\, Longformacus Village Hall\, Duns Road\, Longformacus\, Scottish Borders\, TD11 3PB\, United Kingdom
CATEGORIES:Events,Longformacus Village Hall
ORGANIZER;CN="Lorna Pate":MAILTO:lorna_pate@hotmail.com
GEO:55.806866;-2.490846
X-APPLE-STRUCTURED-LOCATION;VALUE=URI;X-ADDRESS=Longformacus Village Hall Longformacus Village Hall Duns Road Longformacus Scottish Borders TD11 3PB United Kingdom;X-APPLE-RADIUS=500;X-TITLE=Longformacus Village Hall\, Duns Road:geo:-2.490846,55.806866
END:VEVENT
BEGIN:VEVENT
DTSTART;TZID=Europe/London:20260130T110000
DTEND;TZID=Europe/London:20260130T120000
DTSTAMP:20260421T132352
CREATED:20260110T154813Z
LAST-MODIFIED:20260110T154814Z
UID:10001896-1769770800-1769774400@www.lammermuirlife.co.uk
SUMMARY:T'ai Chi
DESCRIPTION:
URL:https://www.lammermuirlife.co.uk/event/tai-chi-4-2/2026-01-30/
LOCATION:Longformacus Village Hall\, Longformacus Village Hall\, Duns Road\, Longformacus\, Scottish Borders\, TD11 3PB\, United Kingdom
CATEGORIES:Events,Longformacus Village Hall
ORGANIZER;CN="Ettie Spencer":MAILTO:ettiespencer@gmail.com
GEO:55.806866;-2.490846
X-APPLE-STRUCTURED-LOCATION;VALUE=URI;X-ADDRESS=Longformacus Village Hall Longformacus Village Hall Duns Road Longformacus Scottish Borders TD11 3PB United Kingdom;X-APPLE-RADIUS=500;X-TITLE=Longformacus Village Hall\, Duns Road:geo:-2.490846,55.806866
END:VEVENT
BEGIN:VEVENT
DTSTART;TZID=Europe/London:20260128T140000
DTEND;TZID=Europe/London:20260128T163000
DTSTAMP:20260421T132352
CREATED:20260110T154406Z
LAST-MODIFIED:20260413T185442Z
UID:10001870-1769608800-1769617800@www.lammermuirlife.co.uk
SUMMARY:Art Class
DESCRIPTION:Held by Rachel Sutherland (artist and landscape architect)
URL:https://www.lammermuirlife.co.uk/event/art-class-3-2/2026-01-28/
LOCATION:Longformacus Village Hall\, Longformacus Village Hall\, Duns Road\, Longformacus\, Scottish Borders\, TD11 3PB\, United Kingdom
CATEGORIES:Events,Longformacus Village Hall
ORGANIZER;CN="Ettie Spencer":MAILTO:ettiespencer@gmail.com
GEO:55.806866;-2.490846
X-APPLE-STRUCTURED-LOCATION;VALUE=URI;X-ADDRESS=Longformacus Village Hall Longformacus Village Hall Duns Road Longformacus Scottish Borders TD11 3PB United Kingdom;X-APPLE-RADIUS=500;X-TITLE=Longformacus Village Hall\, Duns Road:geo:-2.490846,55.806866
END:VEVENT
BEGIN:VEVENT
DTSTART;TZID=Europe/London:20260127T190000
DTEND;TZID=Europe/London:20260127T210000
DTSTAMP:20260421T132352
CREATED:20251106T195734Z
LAST-MODIFIED:20251112T105248Z
UID:10001802-1769540400-1769547600@www.lammermuirlife.co.uk
SUMMARY:Carpet Bowls
DESCRIPTION:Come and join us\, every Tuesday night from November – March. \n7pm \n£2 to play \nEveryone welcome
URL:https://www.lammermuirlife.co.uk/event/carpet-bowls/2026-01-27/
LOCATION:Cranshaws Village Hall\, Cranshaws Village Hall\, Cranshaws\, Scottish Borders\, TD11 3SJ\, United Kingdom
CATEGORIES:Cranshaws Village Hall,Events
ORGANIZER;CN="Neil Anderson":MAILTO:neil@hareheadfarms.co.uk
END:VEVENT
BEGIN:VEVENT
DTSTART;TZID=Europe/London:20260127T184500
DTEND;TZID=Europe/London:20260127T201500
DTSTAMP:20260421T132352
CREATED:20260101T195157Z
LAST-MODIFIED:20260101T195157Z
UID:10001844-1769539500-1769544900@www.lammermuirlife.co.uk
SUMMARY:Longformacus Choir
DESCRIPTION:
URL:https://www.lammermuirlife.co.uk/event/longformacus-choir-5/2026-01-27/
LOCATION:Longformacus Village Hall\, Longformacus Village Hall\, Duns Road\, Longformacus\, Scottish Borders\, TD11 3PB\, United Kingdom
CATEGORIES:Events,Longformacus Village Hall
ORGANIZER;CN="Kendal Mills":MAILTO:kendalmills63@gmail.com
GEO:55.806866;-2.490846
X-APPLE-STRUCTURED-LOCATION;VALUE=URI;X-ADDRESS=Longformacus Village Hall Longformacus Village Hall Duns Road Longformacus Scottish Borders TD11 3PB United Kingdom;X-APPLE-RADIUS=500;X-TITLE=Longformacus Village Hall\, Duns Road:geo:-2.490846,55.806866
END:VEVENT
BEGIN:VEVENT
DTSTART;TZID=Europe/London:20260126T110000
DTEND;TZID=Europe/London:20260126T130000
DTSTAMP:20260421T132352
CREATED:20260110T154108Z
LAST-MODIFIED:20260110T154109Z
UID:10001819-1769425200-1769432400@www.lammermuirlife.co.uk
SUMMARY:Journaling Cafe
DESCRIPTION:Come along and start a project or finish one! \nEveryone welcome
URL:https://www.lammermuirlife.co.uk/event/journaling-cafe-5-2/2026-01-26/
LOCATION:Longformacus Village Hall\, Longformacus Village Hall\, Duns Road\, Longformacus\, Scottish Borders\, TD11 3PB\, United Kingdom
CATEGORIES:Events,Longformacus Village Hall
ORGANIZER;CN="Corine Craik":MAILTO:corine.craik485@btinternet.com
GEO:55.806866;-2.490846
X-APPLE-STRUCTURED-LOCATION;VALUE=URI;X-ADDRESS=Longformacus Village Hall Longformacus Village Hall Duns Road Longformacus Scottish Borders TD11 3PB United Kingdom;X-APPLE-RADIUS=500;X-TITLE=Longformacus Village Hall\, Duns Road:geo:-2.490846,55.806866
END:VEVENT
BEGIN:VEVENT
DTSTART;TZID=Europe/London:20260125T090000
DTEND;TZID=Europe/London:20260125T140000
DTSTAMP:20260421T132352
CREATED:20260101T205725Z
LAST-MODIFIED:20260110T145757Z
UID:10001958-1769331600-1769349600@www.lammermuirlife.co.uk
SUMMARY:Sound Journey
DESCRIPTION:Local resident holding their relaxing sound meditation session
URL:https://www.lammermuirlife.co.uk/event/sound-journey-2/2026-01-25/
LOCATION:Longformacus Village Hall\, Longformacus Village Hall\, Duns Road\, Longformacus\, Scottish Borders\, TD11 3PB\, United Kingdom
CATEGORIES:Events,Longformacus Village Hall
ORGANIZER;CN="Greig Silver":MAILTO:greigsilver@protonmail.com
GEO:55.806866;-2.490846
X-APPLE-STRUCTURED-LOCATION;VALUE=URI;X-ADDRESS=Longformacus Village Hall Longformacus Village Hall Duns Road Longformacus Scottish Borders TD11 3PB United Kingdom;X-APPLE-RADIUS=500;X-TITLE=Longformacus Village Hall\, Duns Road:geo:-2.490846,55.806866
END:VEVENT
BEGIN:VEVENT
DTSTART;TZID=Europe/London:20260123T110000
DTEND;TZID=Europe/London:20260123T120000
DTSTAMP:20260421T132352
CREATED:20260110T154813Z
LAST-MODIFIED:20260110T154814Z
UID:10001894-1769166000-1769169600@www.lammermuirlife.co.uk
SUMMARY:T'ai Chi
DESCRIPTION:
URL:https://www.lammermuirlife.co.uk/event/tai-chi-4-2/2026-01-23/
LOCATION:Longformacus Village Hall\, Longformacus Village Hall\, Duns Road\, Longformacus\, Scottish Borders\, TD11 3PB\, United Kingdom
CATEGORIES:Events,Longformacus Village Hall
ORGANIZER;CN="Ettie Spencer":MAILTO:ettiespencer@gmail.com
GEO:55.806866;-2.490846
X-APPLE-STRUCTURED-LOCATION;VALUE=URI;X-ADDRESS=Longformacus Village Hall Longformacus Village Hall Duns Road Longformacus Scottish Borders TD11 3PB United Kingdom;X-APPLE-RADIUS=500;X-TITLE=Longformacus Village Hall\, Duns Road:geo:-2.490846,55.806866
END:VEVENT
BEGIN:VEVENT
DTSTART;TZID=Europe/London:20260121T140000
DTEND;TZID=Europe/London:20260121T163000
DTSTAMP:20260421T132352
CREATED:20260110T154406Z
LAST-MODIFIED:20260413T185442Z
UID:10001868-1769004000-1769013000@www.lammermuirlife.co.uk
SUMMARY:Art Class
DESCRIPTION:Held by Rachel Sutherland (artist and landscape architect)
URL:https://www.lammermuirlife.co.uk/event/art-class-3-2/2026-01-21/
LOCATION:Longformacus Village Hall\, Longformacus Village Hall\, Duns Road\, Longformacus\, Scottish Borders\, TD11 3PB\, United Kingdom
CATEGORIES:Events,Longformacus Village Hall
ORGANIZER;CN="Ettie Spencer":MAILTO:ettiespencer@gmail.com
GEO:55.806866;-2.490846
X-APPLE-STRUCTURED-LOCATION;VALUE=URI;X-ADDRESS=Longformacus Village Hall Longformacus Village Hall Duns Road Longformacus Scottish Borders TD11 3PB United Kingdom;X-APPLE-RADIUS=500;X-TITLE=Longformacus Village Hall\, Duns Road:geo:-2.490846,55.806866
END:VEVENT
BEGIN:VEVENT
DTSTART;TZID=Europe/London:20260120T190000
DTEND;TZID=Europe/London:20260120T210000
DTSTAMP:20260421T132352
CREATED:20251106T195734Z
LAST-MODIFIED:20251112T105248Z
UID:10001801-1768935600-1768942800@www.lammermuirlife.co.uk
SUMMARY:Carpet Bowls
DESCRIPTION:Come and join us\, every Tuesday night from November – March. \n7pm \n£2 to play \nEveryone welcome
URL:https://www.lammermuirlife.co.uk/event/carpet-bowls/2026-01-20/
LOCATION:Cranshaws Village Hall\, Cranshaws Village Hall\, Cranshaws\, Scottish Borders\, TD11 3SJ\, United Kingdom
CATEGORIES:Cranshaws Village Hall,Events
ORGANIZER;CN="Neil Anderson":MAILTO:neil@hareheadfarms.co.uk
END:VEVENT
BEGIN:VEVENT
DTSTART;TZID=Europe/London:20260120T180000
DTEND;TZID=Europe/London:20260120T220000
DTSTAMP:20260421T132352
CREATED:20251128T161602Z
LAST-MODIFIED:20251128T161641Z
UID:10001812-1768932000-1768946400@www.lammermuirlife.co.uk
SUMMARY:CAP Presentation
DESCRIPTION:Starts at 7pm
URL:https://www.lammermuirlife.co.uk/event/cap-presentation/
LOCATION:Longformacus Village Hall\, Longformacus Village Hall\, Duns Road\, Longformacus\, Scottish Borders\, TD11 3PB\, United Kingdom
CATEGORIES:Events,Longformacus Village Hall
GEO:55.806866;-2.490846
X-APPLE-STRUCTURED-LOCATION;VALUE=URI;X-ADDRESS=Longformacus Village Hall Longformacus Village Hall Duns Road Longformacus Scottish Borders TD11 3PB United Kingdom;X-APPLE-RADIUS=500;X-TITLE=Longformacus Village Hall\, Duns Road:geo:-2.490846,55.806866
END:VEVENT
BEGIN:VEVENT
DTSTART;TZID=Europe/London:20260119T110000
DTEND;TZID=Europe/London:20260119T130000
DTSTAMP:20260421T132352
CREATED:20260110T154108Z
LAST-MODIFIED:20260110T154109Z
UID:10001817-1768820400-1768827600@www.lammermuirlife.co.uk
SUMMARY:Journaling Cafe
DESCRIPTION:Come along and start a project or finish one! \nEveryone welcome
URL:https://www.lammermuirlife.co.uk/event/journaling-cafe-5-2/2026-01-19/
LOCATION:Longformacus Village Hall\, Longformacus Village Hall\, Duns Road\, Longformacus\, Scottish Borders\, TD11 3PB\, United Kingdom
CATEGORIES:Events,Longformacus Village Hall
ORGANIZER;CN="Corine Craik":MAILTO:corine.craik485@btinternet.com
GEO:55.806866;-2.490846
X-APPLE-STRUCTURED-LOCATION;VALUE=URI;X-ADDRESS=Longformacus Village Hall Longformacus Village Hall Duns Road Longformacus Scottish Borders TD11 3PB United Kingdom;X-APPLE-RADIUS=500;X-TITLE=Longformacus Village Hall\, Duns Road:geo:-2.490846,55.806866
END:VEVENT
BEGIN:VEVENT
DTSTART;TZID=Europe/London:20260113T190000
DTEND;TZID=Europe/London:20260113T210000
DTSTAMP:20260421T132352
CREATED:20251106T195734Z
LAST-MODIFIED:20251112T105248Z
UID:10001800-1768330800-1768338000@www.lammermuirlife.co.uk
SUMMARY:Carpet Bowls
DESCRIPTION:Come and join us\, every Tuesday night from November – March. \n7pm \n£2 to play \nEveryone welcome
URL:https://www.lammermuirlife.co.uk/event/carpet-bowls/2026-01-13/
LOCATION:Cranshaws Village Hall\, Cranshaws Village Hall\, Cranshaws\, Scottish Borders\, TD11 3SJ\, United Kingdom
CATEGORIES:Cranshaws Village Hall,Events
ORGANIZER;CN="Neil Anderson":MAILTO:neil@hareheadfarms.co.uk
END:VEVENT
BEGIN:VEVENT
DTSTART;TZID=Europe/London:20260113T184500
DTEND;TZID=Europe/London:20260113T201500
DTSTAMP:20260421T132352
CREATED:20260101T195157Z
LAST-MODIFIED:20260101T195157Z
UID:10001843-1768329900-1768335300@www.lammermuirlife.co.uk
SUMMARY:Longformacus Choir
DESCRIPTION:
URL:https://www.lammermuirlife.co.uk/event/longformacus-choir-5/2026-01-13/
LOCATION:Longformacus Village Hall\, Longformacus Village Hall\, Duns Road\, Longformacus\, Scottish Borders\, TD11 3PB\, United Kingdom
CATEGORIES:Events,Longformacus Village Hall
ORGANIZER;CN="Kendal Mills":MAILTO:kendalmills63@gmail.com
GEO:55.806866;-2.490846
X-APPLE-STRUCTURED-LOCATION;VALUE=URI;X-ADDRESS=Longformacus Village Hall Longformacus Village Hall Duns Road Longformacus Scottish Borders TD11 3PB United Kingdom;X-APPLE-RADIUS=500;X-TITLE=Longformacus Village Hall\, Duns Road:geo:-2.490846,55.806866
END:VEVENT
BEGIN:VEVENT
DTSTART;TZID=Europe/London:20260106T190000
DTEND;TZID=Europe/London:20260106T210000
DTSTAMP:20260421T132352
CREATED:20251106T195734Z
LAST-MODIFIED:20251112T105248Z
UID:10001799-1767726000-1767733200@www.lammermuirlife.co.uk
SUMMARY:Carpet Bowls
DESCRIPTION:Come and join us\, every Tuesday night from November – March. \n7pm \n£2 to play \nEveryone welcome
URL:https://www.lammermuirlife.co.uk/event/carpet-bowls/2026-01-06/
LOCATION:Cranshaws Village Hall\, Cranshaws Village Hall\, Cranshaws\, Scottish Borders\, TD11 3SJ\, United Kingdom
CATEGORIES:Cranshaws Village Hall,Events
ORGANIZER;CN="Neil Anderson":MAILTO:neil@hareheadfarms.co.uk
END:VEVENT
BEGIN:VEVENT
DTSTART;TZID=Europe/London:20260106T184500
DTEND;TZID=Europe/London:20260106T201500
DTSTAMP:20260421T132352
CREATED:20260101T195157Z
LAST-MODIFIED:20260101T195157Z
UID:10001842-1767725100-1767730500@www.lammermuirlife.co.uk
SUMMARY:Longformacus Choir
DESCRIPTION:
URL:https://www.lammermuirlife.co.uk/event/longformacus-choir-5/2026-01-06/
LOCATION:Longformacus Village Hall\, Longformacus Village Hall\, Duns Road\, Longformacus\, Scottish Borders\, TD11 3PB\, United Kingdom
CATEGORIES:Events,Longformacus Village Hall
ORGANIZER;CN="Kendal Mills":MAILTO:kendalmills63@gmail.com
GEO:55.806866;-2.490846
X-APPLE-STRUCTURED-LOCATION;VALUE=URI;X-ADDRESS=Longformacus Village Hall Longformacus Village Hall Duns Road Longformacus Scottish Borders TD11 3PB United Kingdom;X-APPLE-RADIUS=500;X-TITLE=Longformacus Village Hall\, Duns Road:geo:-2.490846,55.806866
END:VEVENT
BEGIN:VEVENT
DTSTART;TZID=Europe/London:20251230T190000
DTEND;TZID=Europe/London:20251230T210000
DTSTAMP:20260421T132352
CREATED:20251106T195734Z
LAST-MODIFIED:20251112T105248Z
UID:10001798-1767121200-1767128400@www.lammermuirlife.co.uk
SUMMARY:Carpet Bowls
DESCRIPTION:Come and join us\, every Tuesday night from November – March. \n7pm \n£2 to play \nEveryone welcome
URL:https://www.lammermuirlife.co.uk/event/carpet-bowls/2025-12-30/
LOCATION:Cranshaws Village Hall\, Cranshaws Village Hall\, Cranshaws\, Scottish Borders\, TD11 3SJ\, United Kingdom
CATEGORIES:Cranshaws Village Hall,Events
ORGANIZER;CN="Neil Anderson":MAILTO:neil@hareheadfarms.co.uk
END:VEVENT
BEGIN:VEVENT
DTSTART;TZID=Europe/London:20251223T190000
DTEND;TZID=Europe/London:20251223T210000
DTSTAMP:20260421T132352
CREATED:20251106T195734Z
LAST-MODIFIED:20251112T105248Z
UID:10001797-1766516400-1766523600@www.lammermuirlife.co.uk
SUMMARY:Carpet Bowls
DESCRIPTION:Come and join us\, every Tuesday night from November – March. \n7pm \n£2 to play \nEveryone welcome
URL:https://www.lammermuirlife.co.uk/event/carpet-bowls/2025-12-23/
LOCATION:Cranshaws Village Hall\, Cranshaws Village Hall\, Cranshaws\, Scottish Borders\, TD11 3SJ\, United Kingdom
CATEGORIES:Cranshaws Village Hall,Events
ORGANIZER;CN="Neil Anderson":MAILTO:neil@hareheadfarms.co.uk
END:VEVENT
BEGIN:VEVENT
DTSTART;TZID=Europe/London:20251223T184500
DTEND;TZID=Europe/London:20251223T201500
DTSTAMP:20260421T132352
CREATED:20250821T180445Z
LAST-MODIFIED:20250821T180739Z
UID:10001650-1766515500-1766520900@www.lammermuirlife.co.uk
SUMMARY:Longformacus Choir
DESCRIPTION:
URL:https://www.lammermuirlife.co.uk/event/longformacus-choir-4/2025-12-23/
LOCATION:Longformacus Village Hall\, Longformacus Village Hall\, Duns Road\, Longformacus\, Scottish Borders\, TD11 3PB\, United Kingdom
CATEGORIES:Events,Longformacus Village Hall
ORGANIZER;CN="Kendal Mills":MAILTO:kendalmills63@gmail.com
GEO:55.806866;-2.490846
X-APPLE-STRUCTURED-LOCATION;VALUE=URI;X-ADDRESS=Longformacus Village Hall Longformacus Village Hall Duns Road Longformacus Scottish Borders TD11 3PB United Kingdom;X-APPLE-RADIUS=500;X-TITLE=Longformacus Village Hall\, Duns Road:geo:-2.490846,55.806866
END:VEVENT
BEGIN:VEVENT
DTSTART;TZID=Europe/London:20251221T160000
DTEND;TZID=Europe/London:20251221T180000
DTSTAMP:20260421T132352
CREATED:20251126T133441Z
LAST-MODIFIED:20251203T194123Z
UID:10001809-1766332800-1766340000@www.lammermuirlife.co.uk
SUMMARY:Christmas Party
DESCRIPTION:Come and join us for party games and a visit from Santa!  \n4pm – 6pm on Sunday the 21st of December  \nPlease message or WhatsApp Sarah – on 07784598856 with your child’s name\, age and a contact number by Friday the 12th of December if you would like to come along. \nSpaces are limited and must be pre booked so Santa knows what to bring 🎁  \nFree of charge and open to kids up to Primary 7 \nWe look forward to seeing you there 🎅🏼
URL:https://www.lammermuirlife.co.uk/event/christmas-party/
LOCATION:Cranshaws Village Hall\, Cranshaws Village Hall\, Cranshaws\, Scottish Borders\, TD11 3SJ\, United Kingdom
CATEGORIES:Cranshaws Village Hall,Events
ATTACH;FMTTYPE=image/jpeg:https://www.lammermuirlife.co.uk/wp-content/uploads/2025/11/IMG_8859.jpeg
ORGANIZER;CN="Cranshaws Hall Committee":MAILTO:cranshawsvh_secretary@gmail.com
END:VEVENT
BEGIN:VEVENT
DTSTART;TZID=Europe/London:20251221T090000
DTEND;TZID=Europe/London:20251221T140000
DTSTAMP:20260421T132352
CREATED:20250204T102718Z
LAST-MODIFIED:20251020T143726Z
UID:10001472-1766307600-1766325600@www.lammermuirlife.co.uk
SUMMARY:Sound Journey
DESCRIPTION:Local resident holding their relaxing sound meditation session
URL:https://www.lammermuirlife.co.uk/event/sound-journey/2025-12-21/
LOCATION:Longformacus Village Hall\, Longformacus Village Hall\, Duns Road\, Longformacus\, Scottish Borders\, TD11 3PB\, United Kingdom
CATEGORIES:Events,Longformacus Village Hall
ORGANIZER;CN="Greig Silver":MAILTO:greigsilver@protonmail.com
GEO:55.806866;-2.490846
X-APPLE-STRUCTURED-LOCATION;VALUE=URI;X-ADDRESS=Longformacus Village Hall Longformacus Village Hall Duns Road Longformacus Scottish Borders TD11 3PB United Kingdom;X-APPLE-RADIUS=500;X-TITLE=Longformacus Village Hall\, Duns Road:geo:-2.490846,55.806866
END:VEVENT
BEGIN:VEVENT
DTSTART;TZID=Europe/London:20251219T110000
DTEND;TZID=Europe/London:20251219T120000
DTSTAMP:20260421T132352
CREATED:20250717T194359Z
LAST-MODIFIED:20250717T194401Z
UID:10001291-1766142000-1766145600@www.lammermuirlife.co.uk
SUMMARY:T'ai Chi
DESCRIPTION:
URL:https://www.lammermuirlife.co.uk/event/tai-chi-3-2-2/2025-12-19/
LOCATION:Longformacus Village Hall\, Longformacus Village Hall\, Duns Road\, Longformacus\, Scottish Borders\, TD11 3PB\, United Kingdom
CATEGORIES:Events,Longformacus Village Hall
GEO:55.806866;-2.490846
X-APPLE-STRUCTURED-LOCATION;VALUE=URI;X-ADDRESS=Longformacus Village Hall Longformacus Village Hall Duns Road Longformacus Scottish Borders TD11 3PB United Kingdom;X-APPLE-RADIUS=500;X-TITLE=Longformacus Village Hall\, Duns Road:geo:-2.490846,55.806866
END:VEVENT
BEGIN:VEVENT
DTSTART;TZID=Europe/London:20251217T140000
DTEND;TZID=Europe/London:20251217T163000
DTSTAMP:20260421T132352
CREATED:20250828T195756Z
LAST-MODIFIED:20250828T200009Z
UID:10001718-1765980000-1765989000@www.lammermuirlife.co.uk
SUMMARY:Art Class
DESCRIPTION:Held by Rachel Sutherland (artist and landscape architect)
URL:https://www.lammermuirlife.co.uk/event/art-class/2025-12-17/
LOCATION:Longformacus Village Hall\, Longformacus Village Hall\, Duns Road\, Longformacus\, Scottish Borders\, TD11 3PB\, United Kingdom
CATEGORIES:Events,Longformacus Village Hall
ORGANIZER;CN="Ettie Spencer":MAILTO:ettiespencer@gmail.com
GEO:55.806866;-2.490846
X-APPLE-STRUCTURED-LOCATION;VALUE=URI;X-ADDRESS=Longformacus Village Hall Longformacus Village Hall Duns Road Longformacus Scottish Borders TD11 3PB United Kingdom;X-APPLE-RADIUS=500;X-TITLE=Longformacus Village Hall\, Duns Road:geo:-2.490846,55.806866
END:VEVENT
BEGIN:VEVENT
DTSTART;TZID=Europe/London:20251216T190000
DTEND;TZID=Europe/London:20251216T210000
DTSTAMP:20260421T132352
CREATED:20251106T195734Z
LAST-MODIFIED:20251112T105248Z
UID:10001796-1765911600-1765918800@www.lammermuirlife.co.uk
SUMMARY:Carpet Bowls
DESCRIPTION:Come and join us\, every Tuesday night from November – March. \n7pm \n£2 to play \nEveryone welcome
URL:https://www.lammermuirlife.co.uk/event/carpet-bowls/2025-12-16/
LOCATION:Cranshaws Village Hall\, Cranshaws Village Hall\, Cranshaws\, Scottish Borders\, TD11 3SJ\, United Kingdom
CATEGORIES:Cranshaws Village Hall,Events
ORGANIZER;CN="Neil Anderson":MAILTO:neil@hareheadfarms.co.uk
END:VEVENT
BEGIN:VEVENT
DTSTART;TZID=Europe/London:20251216T184500
DTEND;TZID=Europe/London:20251216T201500
DTSTAMP:20260421T132352
CREATED:20250821T180445Z
LAST-MODIFIED:20250821T180739Z
UID:10001649-1765910700-1765916100@www.lammermuirlife.co.uk
SUMMARY:Longformacus Choir
DESCRIPTION:
URL:https://www.lammermuirlife.co.uk/event/longformacus-choir-4/2025-12-16/
LOCATION:Longformacus Village Hall\, Longformacus Village Hall\, Duns Road\, Longformacus\, Scottish Borders\, TD11 3PB\, United Kingdom
CATEGORIES:Events,Longformacus Village Hall
ORGANIZER;CN="Kendal Mills":MAILTO:kendalmills63@gmail.com
GEO:55.806866;-2.490846
X-APPLE-STRUCTURED-LOCATION;VALUE=URI;X-ADDRESS=Longformacus Village Hall Longformacus Village Hall Duns Road Longformacus Scottish Borders TD11 3PB United Kingdom;X-APPLE-RADIUS=500;X-TITLE=Longformacus Village Hall\, Duns Road:geo:-2.490846,55.806866
END:VEVENT
BEGIN:VEVENT
DTSTART;TZID=Europe/London:20251215T110000
DTEND;TZID=Europe/London:20251215T130000
DTSTAMP:20260421T132352
CREATED:20250104T150855Z
LAST-MODIFIED:20250717T194649Z
UID:10001036-1765796400-1765803600@www.lammermuirlife.co.uk
SUMMARY:Journaling Cafe
DESCRIPTION:Come along and start a project or finish one! \nEveryone welcome \n 
URL:https://www.lammermuirlife.co.uk/event/journaling-cafe-4/2025-12-15/
LOCATION:Longformacus Village Hall\, Longformacus Village Hall\, Duns Road\, Longformacus\, Scottish Borders\, TD11 3PB\, United Kingdom
CATEGORIES:Events,Longformacus Village Hall
ORGANIZER;CN="Corine Craik":MAILTO:corine.craik485@btinternet.com
GEO:55.806866;-2.490846
X-APPLE-STRUCTURED-LOCATION;VALUE=URI;X-ADDRESS=Longformacus Village Hall Longformacus Village Hall Duns Road Longformacus Scottish Borders TD11 3PB United Kingdom;X-APPLE-RADIUS=500;X-TITLE=Longformacus Village Hall\, Duns Road:geo:-2.490846,55.806866
END:VEVENT
BEGIN:VEVENT
DTSTART;TZID=Europe/London:20251213T183000
DTEND;TZID=Europe/London:20251213T223000
DTSTAMP:20260421T132352
CREATED:20251126T134249Z
LAST-MODIFIED:20251126T134249Z
UID:10001810-1765650600-1765665000@www.lammermuirlife.co.uk
SUMMARY:Pub Night
DESCRIPTION:Come along for a social night at the hall. Play cards\, darts and dominoes or just come for a chat and a get together.  \nThe bar will be open but please feel free to bring along some nibbles.  \nHall will be open from 6.30pm onwards  \nEveryone welcome\, the more the merrier ☺️
URL:https://www.lammermuirlife.co.uk/event/pub-night/
LOCATION:Cranshaws Village Hall\, Cranshaws Village Hall\, Cranshaws\, Scottish Borders\, TD11 3SJ\, United Kingdom
CATEGORIES:Cranshaws Village Hall,Events
ATTACH;FMTTYPE=image/jpeg:https://www.lammermuirlife.co.uk/wp-content/uploads/2025/11/IMG_8862.jpeg
ORGANIZER;CN="Cranshaws Hall Committee":MAILTO:cranshawsvh_secretary@gmail.com
END:VEVENT
BEGIN:VEVENT
DTSTART;TZID=Europe/London:20251213T090000
DTEND;TZID=Europe/London:20251213T120000
DTSTAMP:20260421T132352
CREATED:20251114T084646Z
LAST-MODIFIED:20251114T084646Z
UID:10001808-1765616400-1765627200@www.lammermuirlife.co.uk
SUMMARY:Family Craft session
DESCRIPTION:Family craft session led by Crafty Creative and ParentSpace.
URL:https://www.lammermuirlife.co.uk/event/family-craft-session/
LOCATION:Longformacus Village Hall\, Longformacus Village Hall\, Duns Road\, Longformacus\, Scottish Borders\, TD11 3PB\, United Kingdom
CATEGORIES:Events,Longformacus Village Hall
ORGANIZER;CN="Crafty Creative and ParentSpace":MAILTO:sarah@parentspace.org.uk
GEO:55.806866;-2.490846
X-APPLE-STRUCTURED-LOCATION;VALUE=URI;X-ADDRESS=Longformacus Village Hall Longformacus Village Hall Duns Road Longformacus Scottish Borders TD11 3PB United Kingdom;X-APPLE-RADIUS=500;X-TITLE=Longformacus Village Hall\, Duns Road:geo:-2.490846,55.806866
END:VEVENT
END:VCALENDAR