BEGIN:VCALENDAR
VERSION:2.0
PRODID:-//Lammermuir Community Website - ECPv6.15.20//NONSGML v1.0//EN
CALSCALE:GREGORIAN
METHOD:PUBLISH
X-WR-CALNAME:Lammermuir Community Website
X-ORIGINAL-URL:https://www.lammermuirlife.co.uk
X-WR-CALDESC:Events for Lammermuir Community Website
REFRESH-INTERVAL;VALUE=DURATION:PT1H
X-Robots-Tag:noindex
X-PUBLISHED-TTL:PT1H
BEGIN:VTIMEZONE
TZID:Europe/London
BEGIN:DAYLIGHT
TZOFFSETFROM:+0000
TZOFFSETTO:+0100
TZNAME:BST
DTSTART:20230326T010000
END:DAYLIGHT
BEGIN:STANDARD
TZOFFSETFROM:+0100
TZOFFSETTO:+0000
TZNAME:GMT
DTSTART:20231029T010000
END:STANDARD
BEGIN:DAYLIGHT
TZOFFSETFROM:+0000
TZOFFSETTO:+0100
TZNAME:BST
DTSTART:20240331T010000
END:DAYLIGHT
BEGIN:STANDARD
TZOFFSETFROM:+0100
TZOFFSETTO:+0000
TZNAME:GMT
DTSTART:20241027T010000
END:STANDARD
BEGIN:DAYLIGHT
TZOFFSETFROM:+0000
TZOFFSETTO:+0100
TZNAME:BST
DTSTART:20250330T010000
END:DAYLIGHT
BEGIN:STANDARD
TZOFFSETFROM:+0100
TZOFFSETTO:+0000
TZNAME:GMT
DTSTART:20251026T010000
END:STANDARD
END:VTIMEZONE
BEGIN:VEVENT
DTSTART;TZID=Europe/London:20240614T130000
DTEND;TZID=Europe/London:20240614T150000
DTSTAMP:20260424T063227
CREATED:20231211T204020Z
LAST-MODIFIED:20241010T193004Z
UID:10000503-1718370000-1718377200@www.lammermuirlife.co.uk
SUMMARY:Kids Club
DESCRIPTION:Kids club every Friday 1pm – 3pm \nAll ages welcome \nRefreshments and snacks are provided \nSuggested donation £2
URL:https://www.lammermuirlife.co.uk/event/kids-club/2024-06-14/
LOCATION:Longformacus Village Hall\, Longformacus Village Hall\, Duns Road\, Longformacus\, Scottish Borders\, TD11 3PB\, United Kingdom
CATEGORIES:Events,Longformacus Village Hall
ORGANIZER;CN="Heather Bewick":MAILTO:heath8667hl@gmail.com
GEO:55.806866;-2.490846
X-APPLE-STRUCTURED-LOCATION;VALUE=URI;X-ADDRESS=Longformacus Village Hall Longformacus Village Hall Duns Road Longformacus Scottish Borders TD11 3PB United Kingdom;X-APPLE-RADIUS=500;X-TITLE=Longformacus Village Hall\, Duns Road:geo:-2.490846,55.806866
END:VEVENT
BEGIN:VEVENT
DTSTART;TZID=Europe/London:20240614T110000
DTEND;TZID=Europe/London:20240614T120000
DTSTAMP:20260424T063227
CREATED:20230828T193316Z
LAST-MODIFIED:20240420T124347Z
UID:10000738-1718362800-1718366400@www.lammermuirlife.co.uk
SUMMARY:Tai-Chi
DESCRIPTION:Learn these ancient Chinese Arts for nourishing life and promoting health and wellbeing with instructor John Wilson
URL:https://www.lammermuirlife.co.uk/event/tai-chi-2023-12-15/2024-06-14/
LOCATION:Longformacus Village Hall\, Longformacus Village Hall\, Duns Road\, Longformacus\, Scottish Borders\, TD11 3PB\, United Kingdom
CATEGORIES:Events,Longformacus Village Hall
GEO:55.806866;-2.490846
X-APPLE-STRUCTURED-LOCATION;VALUE=URI;X-ADDRESS=Longformacus Village Hall Longformacus Village Hall Duns Road Longformacus Scottish Borders TD11 3PB United Kingdom;X-APPLE-RADIUS=500;X-TITLE=Longformacus Village Hall\, Duns Road:geo:-2.490846,55.806866
END:VEVENT
BEGIN:VEVENT
DTSTART;TZID=Europe/London:20240612T140000
DTEND;TZID=Europe/London:20240612T160000
DTSTAMP:20260424T063227
CREATED:20240326T140113Z
LAST-MODIFIED:20240430T202129Z
UID:10000587-1718200800-1718208000@www.lammermuirlife.co.uk
SUMMARY:Art Classes
DESCRIPTION:To be held by Rachel Sutherland (artist and landscape architect)
URL:https://www.lammermuirlife.co.uk/event/art-classes-2-2024-05-08/2024-06-12/
LOCATION:Longformacus Village Hall\, Longformacus Village Hall\, Duns Road\, Longformacus\, Scottish Borders\, TD11 3PB\, United Kingdom
CATEGORIES:Events,Longformacus Village Hall
GEO:55.806866;-2.490846
X-APPLE-STRUCTURED-LOCATION;VALUE=URI;X-ADDRESS=Longformacus Village Hall Longformacus Village Hall Duns Road Longformacus Scottish Borders TD11 3PB United Kingdom;X-APPLE-RADIUS=500;X-TITLE=Longformacus Village Hall\, Duns Road:geo:-2.490846,55.806866
END:VEVENT
BEGIN:VEVENT
DTSTART;TZID=Europe/London:20240611T184500
DTEND;TZID=Europe/London:20240611T201500
DTSTAMP:20260424T063227
CREATED:20230829T190330Z
LAST-MODIFIED:20240212T201357Z
UID:10000774-1718131500-1718136900@www.lammermuirlife.co.uk
SUMMARY:Longformacus Choir
DESCRIPTION:
URL:https://www.lammermuirlife.co.uk/event/longformacus-choir-2/2024-06-11/
LOCATION:Longformacus Village Hall\, Longformacus Village Hall\, Duns Road\, Longformacus\, Scottish Borders\, TD11 3PB\, United Kingdom
CATEGORIES:Events,Longformacus Village Hall
ORGANIZER;CN="Kendal Mills":MAILTO:kendalmills63@gmail.com
GEO:55.806866;-2.490846
X-APPLE-STRUCTURED-LOCATION;VALUE=URI;X-ADDRESS=Longformacus Village Hall Longformacus Village Hall Duns Road Longformacus Scottish Borders TD11 3PB United Kingdom;X-APPLE-RADIUS=500;X-TITLE=Longformacus Village Hall\, Duns Road:geo:-2.490846,55.806866
END:VEVENT
BEGIN:VEVENT
DTSTART;TZID=Europe/London:20240610T134500
DTEND;TZID=Europe/London:20240610T151500
DTSTAMP:20260424T063227
CREATED:20240306T201306Z
LAST-MODIFIED:20240425T121149Z
UID:10000845-1718027100-1718032500@www.lammermuirlife.co.uk
SUMMARY:Chair Yoga
DESCRIPTION:Classes are 2pm-3pm
URL:https://www.lammermuirlife.co.uk/event/chair-yoga-2024-06-03/2024-06-10/
LOCATION:Longformacus Village Hall\, Longformacus Village Hall\, Duns Road\, Longformacus\, Scottish Borders\, TD11 3PB\, United Kingdom
CATEGORIES:Events,Longformacus Village Hall
ORGANIZER;CN="Kathleen White":MAILTO:canvass.bungee.0q@icloud.com
GEO:55.806866;-2.490846
X-APPLE-STRUCTURED-LOCATION;VALUE=URI;X-ADDRESS=Longformacus Village Hall Longformacus Village Hall Duns Road Longformacus Scottish Borders TD11 3PB United Kingdom;X-APPLE-RADIUS=500;X-TITLE=Longformacus Village Hall\, Duns Road:geo:-2.490846,55.806866
END:VEVENT
BEGIN:VEVENT
DTSTART;TZID=Europe/London:20240610T110000
DTEND;TZID=Europe/London:20240610T130000
DTSTAMP:20260424T063227
CREATED:20240326T134531Z
LAST-MODIFIED:20241029T094639Z
UID:10000548-1718017200-1718024400@www.lammermuirlife.co.uk
SUMMARY:Journaling Cafe
DESCRIPTION:Corine is starting up a class where she will be showing how to make a journal book and how to keep journaling through the months ahead. \nEveryone welcome
URL:https://www.lammermuirlife.co.uk/event/journaling-cafe-3/2024-06-10/
LOCATION:Longformacus Village Hall\, Longformacus Village Hall\, Duns Road\, Longformacus\, Scottish Borders\, TD11 3PB\, United Kingdom
CATEGORIES:Events,Longformacus Village Hall
ORGANIZER;CN="Corine Craik":MAILTO:corine.craik485@btinternet.com
GEO:55.806866;-2.490846
X-APPLE-STRUCTURED-LOCATION;VALUE=URI;X-ADDRESS=Longformacus Village Hall Longformacus Village Hall Duns Road Longformacus Scottish Borders TD11 3PB United Kingdom;X-APPLE-RADIUS=500;X-TITLE=Longformacus Village Hall\, Duns Road:geo:-2.490846,55.806866
END:VEVENT
BEGIN:VEVENT
DTSTART;TZID=Europe/London:20240609T133000
DTEND;TZID=Europe/London:20240609T173000
DTSTAMP:20260424T063227
CREATED:20240220T200045Z
LAST-MODIFIED:20240220T200045Z
UID:10000842-1717939800-1717954200@www.lammermuirlife.co.uk
SUMMARY:Heritage Centre Open Day
DESCRIPTION:Heritage centre having tea and coffee in the hall as part of opening day
URL:https://www.lammermuirlife.co.uk/event/heritage-centre-open-day-2/2024-06-09/
LOCATION:Longformacus Village Hall\, Longformacus Village Hall\, Duns Road\, Longformacus\, Scottish Borders\, TD11 3PB\, United Kingdom
CATEGORIES:Events,Longformacus Village Hall
ORGANIZER;CN="Kathleen White":MAILTO:canvass.bungee.0q@icloud.com
GEO:55.806866;-2.490846
X-APPLE-STRUCTURED-LOCATION;VALUE=URI;X-ADDRESS=Longformacus Village Hall Longformacus Village Hall Duns Road Longformacus Scottish Borders TD11 3PB United Kingdom;X-APPLE-RADIUS=500;X-TITLE=Longformacus Village Hall\, Duns Road:geo:-2.490846,55.806866
END:VEVENT
BEGIN:VEVENT
DTSTART;TZID=Europe/London:20240609T080000
DTEND;TZID=Europe/London:20240609T130000
DTSTAMP:20260424T063227
CREATED:20230321T195753Z
LAST-MODIFIED:20231214T204011Z
UID:10000673-1717920000-1717938000@www.lammermuirlife.co.uk
SUMMARY:Sound Meditation
DESCRIPTION:Local resident holding their relaxing gong sound bath session.
URL:https://www.lammermuirlife.co.uk/event/sound-meditation-3/2024-06-09/
LOCATION:Longformacus Village Hall\, Longformacus Village Hall\, Duns Road\, Longformacus\, Scottish Borders\, TD11 3PB\, United Kingdom
CATEGORIES:Events,Longformacus Village Hall
ORGANIZER;CN="Greig Silver":MAILTO:greigsilver@protonmail.com
GEO:55.806866;-2.490846
X-APPLE-STRUCTURED-LOCATION;VALUE=URI;X-ADDRESS=Longformacus Village Hall Longformacus Village Hall Duns Road Longformacus Scottish Borders TD11 3PB United Kingdom;X-APPLE-RADIUS=500;X-TITLE=Longformacus Village Hall\, Duns Road:geo:-2.490846,55.806866
END:VEVENT
BEGIN:VEVENT
DTSTART;TZID=Europe/London:20240608T110000
DTEND;TZID=Europe/London:20240608T130000
DTSTAMP:20260424T063227
CREATED:20240128T132035Z
LAST-MODIFIED:20240128T132035Z
UID:10000818-1717844400-1717851600@www.lammermuirlife.co.uk
SUMMARY:Windmill Coffee Shop
DESCRIPTION:Come along to the Windmill Coffee Shop every second Saturday of the month. \nEnjoy a cuppa and a fab selection of homemade cakes. \nAll welcome.
URL:https://www.lammermuirlife.co.uk/event/windmill-coffee-shop-10/2024-06-08/
LOCATION:Longformacus Village Hall\, Longformacus Village Hall\, Duns Road\, Longformacus\, Scottish Borders\, TD11 3PB\, United Kingdom
CATEGORIES:Events,Longformacus Village Hall
ORGANIZER;CN="Heather Bewick":MAILTO:heath8667hl@gmail.com
GEO:55.806866;-2.490846
X-APPLE-STRUCTURED-LOCATION;VALUE=URI;X-ADDRESS=Longformacus Village Hall Longformacus Village Hall Duns Road Longformacus Scottish Borders TD11 3PB United Kingdom;X-APPLE-RADIUS=500;X-TITLE=Longformacus Village Hall\, Duns Road:geo:-2.490846,55.806866
END:VEVENT
BEGIN:VEVENT
DTSTART;TZID=Europe/London:20240607T130000
DTEND;TZID=Europe/London:20240607T160000
DTSTAMP:20260424T063227
CREATED:20240128T132649Z
LAST-MODIFIED:20240128T133021Z
UID:10000830-1717765200-1717776000@www.lammermuirlife.co.uk
SUMMARY:Preparations for Windmill Coffee Shop
DESCRIPTION:
URL:https://www.lammermuirlife.co.uk/event/preparations-for-windmill-coffee-shop-4-2024-06-14/
LOCATION:Longformacus Village Hall\, Longformacus Village Hall\, Duns Road\, Longformacus\, Scottish Borders\, TD11 3PB\, United Kingdom
CATEGORIES:Events,Longformacus Village Hall
ORGANIZER;CN="Heather Bewick":MAILTO:heath8667hl@gmail.com
GEO:55.806866;-2.490846
X-APPLE-STRUCTURED-LOCATION;VALUE=URI;X-ADDRESS=Longformacus Village Hall Longformacus Village Hall Duns Road Longformacus Scottish Borders TD11 3PB United Kingdom;X-APPLE-RADIUS=500;X-TITLE=Longformacus Village Hall\, Duns Road:geo:-2.490846,55.806866
END:VEVENT
BEGIN:VEVENT
DTSTART;TZID=Europe/London:20240607T130000
DTEND;TZID=Europe/London:20240607T150000
DTSTAMP:20260424T063227
CREATED:20231211T204020Z
LAST-MODIFIED:20241010T193004Z
UID:10000502-1717765200-1717772400@www.lammermuirlife.co.uk
SUMMARY:Kids Club
DESCRIPTION:Kids club every Friday 1pm – 3pm \nAll ages welcome \nRefreshments and snacks are provided \nSuggested donation £2
URL:https://www.lammermuirlife.co.uk/event/kids-club/2024-06-07/
LOCATION:Longformacus Village Hall\, Longformacus Village Hall\, Duns Road\, Longformacus\, Scottish Borders\, TD11 3PB\, United Kingdom
CATEGORIES:Events,Longformacus Village Hall
ORGANIZER;CN="Heather Bewick":MAILTO:heath8667hl@gmail.com
GEO:55.806866;-2.490846
X-APPLE-STRUCTURED-LOCATION;VALUE=URI;X-ADDRESS=Longformacus Village Hall Longformacus Village Hall Duns Road Longformacus Scottish Borders TD11 3PB United Kingdom;X-APPLE-RADIUS=500;X-TITLE=Longformacus Village Hall\, Duns Road:geo:-2.490846,55.806866
END:VEVENT
BEGIN:VEVENT
DTSTART;TZID=Europe/London:20240607T110000
DTEND;TZID=Europe/London:20240607T120000
DTSTAMP:20260424T063227
CREATED:20230828T193316Z
LAST-MODIFIED:20240420T124347Z
UID:10000737-1717758000-1717761600@www.lammermuirlife.co.uk
SUMMARY:Tai-Chi
DESCRIPTION:Learn these ancient Chinese Arts for nourishing life and promoting health and wellbeing with instructor John Wilson
URL:https://www.lammermuirlife.co.uk/event/tai-chi-2023-12-15/2024-06-07/
LOCATION:Longformacus Village Hall\, Longformacus Village Hall\, Duns Road\, Longformacus\, Scottish Borders\, TD11 3PB\, United Kingdom
CATEGORIES:Events,Longformacus Village Hall
GEO:55.806866;-2.490846
X-APPLE-STRUCTURED-LOCATION;VALUE=URI;X-ADDRESS=Longformacus Village Hall Longformacus Village Hall Duns Road Longformacus Scottish Borders TD11 3PB United Kingdom;X-APPLE-RADIUS=500;X-TITLE=Longformacus Village Hall\, Duns Road:geo:-2.490846,55.806866
END:VEVENT
BEGIN:VEVENT
DTSTART;TZID=Europe/London:20240605T140000
DTEND;TZID=Europe/London:20240605T160000
DTSTAMP:20260424T063227
CREATED:20240326T140113Z
LAST-MODIFIED:20240430T202129Z
UID:10000586-1717596000-1717603200@www.lammermuirlife.co.uk
SUMMARY:Art Classes
DESCRIPTION:To be held by Rachel Sutherland (artist and landscape architect)
URL:https://www.lammermuirlife.co.uk/event/art-classes-2-2024-05-08/2024-06-05/
LOCATION:Longformacus Village Hall\, Longformacus Village Hall\, Duns Road\, Longformacus\, Scottish Borders\, TD11 3PB\, United Kingdom
CATEGORIES:Events,Longformacus Village Hall
GEO:55.806866;-2.490846
X-APPLE-STRUCTURED-LOCATION;VALUE=URI;X-ADDRESS=Longformacus Village Hall Longformacus Village Hall Duns Road Longformacus Scottish Borders TD11 3PB United Kingdom;X-APPLE-RADIUS=500;X-TITLE=Longformacus Village Hall\, Duns Road:geo:-2.490846,55.806866
END:VEVENT
BEGIN:VEVENT
DTSTART;TZID=Europe/London:20240604T184500
DTEND;TZID=Europe/London:20240604T201500
DTSTAMP:20260424T063227
CREATED:20230829T190330Z
LAST-MODIFIED:20240212T201357Z
UID:10000773-1717526700-1717532100@www.lammermuirlife.co.uk
SUMMARY:Longformacus Choir
DESCRIPTION:
URL:https://www.lammermuirlife.co.uk/event/longformacus-choir-2/2024-06-04/
LOCATION:Longformacus Village Hall\, Longformacus Village Hall\, Duns Road\, Longformacus\, Scottish Borders\, TD11 3PB\, United Kingdom
CATEGORIES:Events,Longformacus Village Hall
ORGANIZER;CN="Kendal Mills":MAILTO:kendalmills63@gmail.com
GEO:55.806866;-2.490846
X-APPLE-STRUCTURED-LOCATION;VALUE=URI;X-ADDRESS=Longformacus Village Hall Longformacus Village Hall Duns Road Longformacus Scottish Borders TD11 3PB United Kingdom;X-APPLE-RADIUS=500;X-TITLE=Longformacus Village Hall\, Duns Road:geo:-2.490846,55.806866
END:VEVENT
BEGIN:VEVENT
DTSTART;TZID=Europe/London:20240604T070000
DTEND;TZID=Europe/London:20240604T090000
DTSTAMP:20260424T063227
CREATED:20240426T090954Z
LAST-MODIFIED:20240426T090954Z
UID:10000890-1717484400-1717491600@www.lammermuirlife.co.uk
SUMMARY:Duke of Edinburgh overnight stay
DESCRIPTION:Using the hall kitchen and bathroom facilities
URL:https://www.lammermuirlife.co.uk/event/duke-of-edinburgh-overnight-stay-6/
LOCATION:Longformacus Village Hall\, Longformacus Village Hall\, Duns Road\, Longformacus\, Scottish Borders\, TD11 3PB\, United Kingdom
CATEGORIES:Events,Longformacus Village Hall
GEO:55.806866;-2.490846
X-APPLE-STRUCTURED-LOCATION;VALUE=URI;X-ADDRESS=Longformacus Village Hall Longformacus Village Hall Duns Road Longformacus Scottish Borders TD11 3PB United Kingdom;X-APPLE-RADIUS=500;X-TITLE=Longformacus Village Hall\, Duns Road:geo:-2.490846,55.806866
END:VEVENT
BEGIN:VEVENT
DTSTART;TZID=Europe/London:20240603T190000
DTEND;TZID=Europe/London:20240603T210000
DTSTAMP:20260424T063227
CREATED:20240312T191250Z
LAST-MODIFIED:20240312T191250Z
UID:10000534-1717441200-1717448400@www.lammermuirlife.co.uk
SUMMARY:CELCA General Meeting
DESCRIPTION:
URL:https://www.lammermuirlife.co.uk/event/celca-general-meeting-2/
LOCATION:Longformacus Village Hall\, Longformacus Village Hall\, Duns Road\, Longformacus\, Scottish Borders\, TD11 3PB\, United Kingdom
CATEGORIES:Events,Longformacus Village Hall
GEO:55.806866;-2.490846
X-APPLE-STRUCTURED-LOCATION;VALUE=URI;X-ADDRESS=Longformacus Village Hall Longformacus Village Hall Duns Road Longformacus Scottish Borders TD11 3PB United Kingdom;X-APPLE-RADIUS=500;X-TITLE=Longformacus Village Hall\, Duns Road:geo:-2.490846,55.806866
END:VEVENT
BEGIN:VEVENT
DTSTART;TZID=Europe/London:20240603T170000
DTEND;TZID=Europe/London:20240603T210000
DTSTAMP:20260424T063227
CREATED:20240428T094708Z
LAST-MODIFIED:20240429T112840Z
UID:10000888-1717434000-1717448400@www.lammermuirlife.co.uk
SUMMARY:Duke of Edinburgh overnight stay
DESCRIPTION:Using the hall kitchen and bathroom facilities
URL:https://www.lammermuirlife.co.uk/event/duke-of-edinburgh-overnight-stay-7/
LOCATION:Longformacus Village Hall\, Longformacus Village Hall\, Duns Road\, Longformacus\, Scottish Borders\, TD11 3PB\, United Kingdom
CATEGORIES:Events,Longformacus Village Hall
GEO:55.806866;-2.490846
X-APPLE-STRUCTURED-LOCATION;VALUE=URI;X-ADDRESS=Longformacus Village Hall Longformacus Village Hall Duns Road Longformacus Scottish Borders TD11 3PB United Kingdom;X-APPLE-RADIUS=500;X-TITLE=Longformacus Village Hall\, Duns Road:geo:-2.490846,55.806866
END:VEVENT
BEGIN:VEVENT
DTSTART;TZID=Europe/London:20240603T134500
DTEND;TZID=Europe/London:20240603T151500
DTSTAMP:20260424T063227
CREATED:20240306T201306Z
LAST-MODIFIED:20240425T121149Z
UID:10000844-1717422300-1717427700@www.lammermuirlife.co.uk
SUMMARY:Chair Yoga
DESCRIPTION:Classes are 2pm-3pm
URL:https://www.lammermuirlife.co.uk/event/chair-yoga-2024-06-03/2024-06-03/
LOCATION:Longformacus Village Hall\, Longformacus Village Hall\, Duns Road\, Longformacus\, Scottish Borders\, TD11 3PB\, United Kingdom
CATEGORIES:Events,Longformacus Village Hall
ORGANIZER;CN="Kathleen White":MAILTO:canvass.bungee.0q@icloud.com
GEO:55.806866;-2.490846
X-APPLE-STRUCTURED-LOCATION;VALUE=URI;X-ADDRESS=Longformacus Village Hall Longformacus Village Hall Duns Road Longformacus Scottish Borders TD11 3PB United Kingdom;X-APPLE-RADIUS=500;X-TITLE=Longformacus Village Hall\, Duns Road:geo:-2.490846,55.806866
END:VEVENT
BEGIN:VEVENT
DTSTART;TZID=Europe/London:20240603T110000
DTEND;TZID=Europe/London:20240603T130000
DTSTAMP:20260424T063227
CREATED:20240326T134531Z
LAST-MODIFIED:20241029T094639Z
UID:10000547-1717412400-1717419600@www.lammermuirlife.co.uk
SUMMARY:Journaling Cafe
DESCRIPTION:Corine is starting up a class where she will be showing how to make a journal book and how to keep journaling through the months ahead. \nEveryone welcome
URL:https://www.lammermuirlife.co.uk/event/journaling-cafe-3/2024-06-03/
LOCATION:Longformacus Village Hall\, Longformacus Village Hall\, Duns Road\, Longformacus\, Scottish Borders\, TD11 3PB\, United Kingdom
CATEGORIES:Events,Longformacus Village Hall
ORGANIZER;CN="Corine Craik":MAILTO:corine.craik485@btinternet.com
GEO:55.806866;-2.490846
X-APPLE-STRUCTURED-LOCATION;VALUE=URI;X-ADDRESS=Longformacus Village Hall Longformacus Village Hall Duns Road Longformacus Scottish Borders TD11 3PB United Kingdom;X-APPLE-RADIUS=500;X-TITLE=Longformacus Village Hall\, Duns Road:geo:-2.490846,55.806866
END:VEVENT
BEGIN:VEVENT
DTSTART;TZID=Europe/London:20240603T070000
DTEND;TZID=Europe/London:20240603T090000
DTSTAMP:20260424T063227
CREATED:20240426T090656Z
LAST-MODIFIED:20240426T090656Z
UID:10000616-1717398000-1717405200@www.lammermuirlife.co.uk
SUMMARY:Duke of Edinburgh overnight stay
DESCRIPTION:Using the hall kitchen and bathroom facilities
URL:https://www.lammermuirlife.co.uk/event/duke-of-edinburgh-overnight-stay-5/
LOCATION:Longformacus Village Hall\, Longformacus Village Hall\, Duns Road\, Longformacus\, Scottish Borders\, TD11 3PB\, United Kingdom
CATEGORIES:Events,Longformacus Village Hall
GEO:55.806866;-2.490846
X-APPLE-STRUCTURED-LOCATION;VALUE=URI;X-ADDRESS=Longformacus Village Hall Longformacus Village Hall Duns Road Longformacus Scottish Borders TD11 3PB United Kingdom;X-APPLE-RADIUS=500;X-TITLE=Longformacus Village Hall\, Duns Road:geo:-2.490846,55.806866
END:VEVENT
BEGIN:VEVENT
DTSTART;TZID=Europe/London:20240602T170000
DTEND;TZID=Europe/London:20240602T210000
DTSTAMP:20260424T063227
CREATED:20240426T090424Z
LAST-MODIFIED:20240426T090424Z
UID:10000614-1717347600-1717362000@www.lammermuirlife.co.uk
SUMMARY:Duke of Edinburgh overnight stay
DESCRIPTION:Using the hall kitchen and bathroom facilities.
URL:https://www.lammermuirlife.co.uk/event/duke-of-edinburgh-overnight-stay-2/
LOCATION:Longformacus Village Hall\, Longformacus Village Hall\, Duns Road\, Longformacus\, Scottish Borders\, TD11 3PB\, United Kingdom
CATEGORIES:Events,Longformacus Village Hall
GEO:55.806866;-2.490846
X-APPLE-STRUCTURED-LOCATION;VALUE=URI;X-ADDRESS=Longformacus Village Hall Longformacus Village Hall Duns Road Longformacus Scottish Borders TD11 3PB United Kingdom;X-APPLE-RADIUS=500;X-TITLE=Longformacus Village Hall\, Duns Road:geo:-2.490846,55.806866
END:VEVENT
BEGIN:VEVENT
DTSTART;TZID=Europe/London:20240531T130000
DTEND;TZID=Europe/London:20240531T150000
DTSTAMP:20260424T063227
CREATED:20231211T204020Z
LAST-MODIFIED:20241010T193004Z
UID:10000501-1717160400-1717167600@www.lammermuirlife.co.uk
SUMMARY:Kids Club
DESCRIPTION:Kids club every Friday 1pm – 3pm \nAll ages welcome \nRefreshments and snacks are provided \nSuggested donation £2
URL:https://www.lammermuirlife.co.uk/event/kids-club/2024-05-31/
LOCATION:Longformacus Village Hall\, Longformacus Village Hall\, Duns Road\, Longformacus\, Scottish Borders\, TD11 3PB\, United Kingdom
CATEGORIES:Events,Longformacus Village Hall
ORGANIZER;CN="Heather Bewick":MAILTO:heath8667hl@gmail.com
GEO:55.806866;-2.490846
X-APPLE-STRUCTURED-LOCATION;VALUE=URI;X-ADDRESS=Longformacus Village Hall Longformacus Village Hall Duns Road Longformacus Scottish Borders TD11 3PB United Kingdom;X-APPLE-RADIUS=500;X-TITLE=Longformacus Village Hall\, Duns Road:geo:-2.490846,55.806866
END:VEVENT
BEGIN:VEVENT
DTSTART;TZID=Europe/London:20240531T110000
DTEND;TZID=Europe/London:20240531T120000
DTSTAMP:20260424T063227
CREATED:20230828T193316Z
LAST-MODIFIED:20240420T124347Z
UID:10000736-1717153200-1717156800@www.lammermuirlife.co.uk
SUMMARY:Tai-Chi
DESCRIPTION:Learn these ancient Chinese Arts for nourishing life and promoting health and wellbeing with instructor John Wilson
URL:https://www.lammermuirlife.co.uk/event/tai-chi-2023-12-15/2024-05-31/
LOCATION:Longformacus Village Hall\, Longformacus Village Hall\, Duns Road\, Longformacus\, Scottish Borders\, TD11 3PB\, United Kingdom
CATEGORIES:Events,Longformacus Village Hall
GEO:55.806866;-2.490846
X-APPLE-STRUCTURED-LOCATION;VALUE=URI;X-ADDRESS=Longformacus Village Hall Longformacus Village Hall Duns Road Longformacus Scottish Borders TD11 3PB United Kingdom;X-APPLE-RADIUS=500;X-TITLE=Longformacus Village Hall\, Duns Road:geo:-2.490846,55.806866
END:VEVENT
BEGIN:VEVENT
DTSTART;TZID=Europe/London:20240529T140000
DTEND;TZID=Europe/London:20240529T160000
DTSTAMP:20260424T063227
CREATED:20240326T140113Z
LAST-MODIFIED:20240430T202129Z
UID:10000585-1716991200-1716998400@www.lammermuirlife.co.uk
SUMMARY:Art Classes
DESCRIPTION:To be held by Rachel Sutherland (artist and landscape architect)
URL:https://www.lammermuirlife.co.uk/event/art-classes-2-2024-05-08/2024-05-29/
LOCATION:Longformacus Village Hall\, Longformacus Village Hall\, Duns Road\, Longformacus\, Scottish Borders\, TD11 3PB\, United Kingdom
CATEGORIES:Events,Longformacus Village Hall
GEO:55.806866;-2.490846
X-APPLE-STRUCTURED-LOCATION;VALUE=URI;X-ADDRESS=Longformacus Village Hall Longformacus Village Hall Duns Road Longformacus Scottish Borders TD11 3PB United Kingdom;X-APPLE-RADIUS=500;X-TITLE=Longformacus Village Hall\, Duns Road:geo:-2.490846,55.806866
END:VEVENT
BEGIN:VEVENT
DTSTART;TZID=Europe/London:20240528T184500
DTEND;TZID=Europe/London:20240528T201500
DTSTAMP:20260424T063227
CREATED:20230829T190330Z
LAST-MODIFIED:20240212T201357Z
UID:10000772-1716921900-1716927300@www.lammermuirlife.co.uk
SUMMARY:Longformacus Choir
DESCRIPTION:
URL:https://www.lammermuirlife.co.uk/event/longformacus-choir-2/2024-05-28/
LOCATION:Longformacus Village Hall\, Longformacus Village Hall\, Duns Road\, Longformacus\, Scottish Borders\, TD11 3PB\, United Kingdom
CATEGORIES:Events,Longformacus Village Hall
ORGANIZER;CN="Kendal Mills":MAILTO:kendalmills63@gmail.com
GEO:55.806866;-2.490846
X-APPLE-STRUCTURED-LOCATION;VALUE=URI;X-ADDRESS=Longformacus Village Hall Longformacus Village Hall Duns Road Longformacus Scottish Borders TD11 3PB United Kingdom;X-APPLE-RADIUS=500;X-TITLE=Longformacus Village Hall\, Duns Road:geo:-2.490846,55.806866
END:VEVENT
BEGIN:VEVENT
DTSTART;TZID=Europe/London:20240527T110000
DTEND;TZID=Europe/London:20240527T130000
DTSTAMP:20260424T063227
CREATED:20240326T134531Z
LAST-MODIFIED:20241029T094639Z
UID:10000546-1716807600-1716814800@www.lammermuirlife.co.uk
SUMMARY:Journaling Cafe
DESCRIPTION:Corine is starting up a class where she will be showing how to make a journal book and how to keep journaling through the months ahead. \nEveryone welcome
URL:https://www.lammermuirlife.co.uk/event/journaling-cafe-3/2024-05-27/
LOCATION:Longformacus Village Hall\, Longformacus Village Hall\, Duns Road\, Longformacus\, Scottish Borders\, TD11 3PB\, United Kingdom
CATEGORIES:Events,Longformacus Village Hall
ORGANIZER;CN="Corine Craik":MAILTO:corine.craik485@btinternet.com
GEO:55.806866;-2.490846
X-APPLE-STRUCTURED-LOCATION;VALUE=URI;X-ADDRESS=Longformacus Village Hall Longformacus Village Hall Duns Road Longformacus Scottish Borders TD11 3PB United Kingdom;X-APPLE-RADIUS=500;X-TITLE=Longformacus Village Hall\, Duns Road:geo:-2.490846,55.806866
END:VEVENT
BEGIN:VEVENT
DTSTART;TZID=Europe/London:20240525T140000
DTEND;TZID=Europe/London:20240525T230000
DTSTAMP:20260424T063227
CREATED:20240220T195539Z
LAST-MODIFIED:20240220T195539Z
UID:10000841-1716645600-1716678000@www.lammermuirlife.co.uk
SUMMARY:Heritage Centre Concert
DESCRIPTION:
URL:https://www.lammermuirlife.co.uk/event/heritage-centre-concert-3/
LOCATION:Longformacus Village Hall\, Longformacus Village Hall\, Duns Road\, Longformacus\, Scottish Borders\, TD11 3PB\, United Kingdom
CATEGORIES:Events,Longformacus Village Hall
ORGANIZER;CN="Kathleen White":MAILTO:canvass.bungee.0q@icloud.com
GEO:55.806866;-2.490846
X-APPLE-STRUCTURED-LOCATION;VALUE=URI;X-ADDRESS=Longformacus Village Hall Longformacus Village Hall Duns Road Longformacus Scottish Borders TD11 3PB United Kingdom;X-APPLE-RADIUS=500;X-TITLE=Longformacus Village Hall\, Duns Road:geo:-2.490846,55.806866
END:VEVENT
BEGIN:VEVENT
DTSTART;TZID=Europe/London:20240524T130000
DTEND;TZID=Europe/London:20240524T150000
DTSTAMP:20260424T063227
CREATED:20231211T204020Z
LAST-MODIFIED:20241010T193004Z
UID:10000500-1716555600-1716562800@www.lammermuirlife.co.uk
SUMMARY:Kids Club
DESCRIPTION:Kids club every Friday 1pm – 3pm \nAll ages welcome \nRefreshments and snacks are provided \nSuggested donation £2
URL:https://www.lammermuirlife.co.uk/event/kids-club/2024-05-24/
LOCATION:Longformacus Village Hall\, Longformacus Village Hall\, Duns Road\, Longformacus\, Scottish Borders\, TD11 3PB\, United Kingdom
CATEGORIES:Events,Longformacus Village Hall
ORGANIZER;CN="Heather Bewick":MAILTO:heath8667hl@gmail.com
GEO:55.806866;-2.490846
X-APPLE-STRUCTURED-LOCATION;VALUE=URI;X-ADDRESS=Longformacus Village Hall Longformacus Village Hall Duns Road Longformacus Scottish Borders TD11 3PB United Kingdom;X-APPLE-RADIUS=500;X-TITLE=Longformacus Village Hall\, Duns Road:geo:-2.490846,55.806866
END:VEVENT
BEGIN:VEVENT
DTSTART;TZID=Europe/London:20240524T110000
DTEND;TZID=Europe/London:20240524T120000
DTSTAMP:20260424T063227
CREATED:20230828T193316Z
LAST-MODIFIED:20240420T124347Z
UID:10000735-1716548400-1716552000@www.lammermuirlife.co.uk
SUMMARY:Tai-Chi
DESCRIPTION:Learn these ancient Chinese Arts for nourishing life and promoting health and wellbeing with instructor John Wilson
URL:https://www.lammermuirlife.co.uk/event/tai-chi-2023-12-15/2024-05-24/
LOCATION:Longformacus Village Hall\, Longformacus Village Hall\, Duns Road\, Longformacus\, Scottish Borders\, TD11 3PB\, United Kingdom
CATEGORIES:Events,Longformacus Village Hall
GEO:55.806866;-2.490846
X-APPLE-STRUCTURED-LOCATION;VALUE=URI;X-ADDRESS=Longformacus Village Hall Longformacus Village Hall Duns Road Longformacus Scottish Borders TD11 3PB United Kingdom;X-APPLE-RADIUS=500;X-TITLE=Longformacus Village Hall\, Duns Road:geo:-2.490846,55.806866
END:VEVENT
BEGIN:VEVENT
DTSTART;TZID=Europe/London:20240523T180000
DTEND;TZID=Europe/London:20240523T200000
DTSTAMP:20260424T063227
CREATED:20240524T194215Z
LAST-MODIFIED:20240524T194215Z
UID:10000894-1716487200-1716494400@www.lammermuirlife.co.uk
SUMMARY:Music session
DESCRIPTION:
URL:https://www.lammermuirlife.co.uk/event/music-session-10/
LOCATION:Longformacus Village Hall\, Longformacus Village Hall\, Duns Road\, Longformacus\, Scottish Borders\, TD11 3PB\, United Kingdom
CATEGORIES:Events,Longformacus Village Hall
ORGANIZER;CN="Jonathan Wood":MAILTO:jonathanpwood@msn.com
GEO:55.806866;-2.490846
X-APPLE-STRUCTURED-LOCATION;VALUE=URI;X-ADDRESS=Longformacus Village Hall Longformacus Village Hall Duns Road Longformacus Scottish Borders TD11 3PB United Kingdom;X-APPLE-RADIUS=500;X-TITLE=Longformacus Village Hall\, Duns Road:geo:-2.490846,55.806866
END:VEVENT
END:VCALENDAR