BEGIN:VCALENDAR
VERSION:2.0
PRODID:-//Lammermuir Community Website - ECPv6.15.20//NONSGML v1.0//EN
CALSCALE:GREGORIAN
METHOD:PUBLISH
X-WR-CALNAME:Lammermuir Community Website
X-ORIGINAL-URL:https://www.lammermuirlife.co.uk
X-WR-CALDESC:Events for Lammermuir Community Website
REFRESH-INTERVAL;VALUE=DURATION:PT1H
X-Robots-Tag:noindex
X-PUBLISHED-TTL:PT1H
BEGIN:VTIMEZONE
TZID:Europe/London
BEGIN:DAYLIGHT
TZOFFSETFROM:+0000
TZOFFSETTO:+0100
TZNAME:BST
DTSTART:20230326T010000
END:DAYLIGHT
BEGIN:STANDARD
TZOFFSETFROM:+0100
TZOFFSETTO:+0000
TZNAME:GMT
DTSTART:20231029T010000
END:STANDARD
BEGIN:DAYLIGHT
TZOFFSETFROM:+0000
TZOFFSETTO:+0100
TZNAME:BST
DTSTART:20240331T010000
END:DAYLIGHT
BEGIN:STANDARD
TZOFFSETFROM:+0100
TZOFFSETTO:+0000
TZNAME:GMT
DTSTART:20241027T010000
END:STANDARD
BEGIN:DAYLIGHT
TZOFFSETFROM:+0000
TZOFFSETTO:+0100
TZNAME:BST
DTSTART:20250330T010000
END:DAYLIGHT
BEGIN:STANDARD
TZOFFSETFROM:+0100
TZOFFSETTO:+0000
TZNAME:GMT
DTSTART:20251026T010000
END:STANDARD
END:VTIMEZONE
BEGIN:VEVENT
DTSTART;TZID=Europe/London:20240813T184500
DTEND;TZID=Europe/London:20240813T201500
DTSTAMP:20260424T000807
CREATED:20230829T190330Z
LAST-MODIFIED:20240212T201357Z
UID:10000782-1723574700-1723580100@www.lammermuirlife.co.uk
SUMMARY:Longformacus Choir
DESCRIPTION:
URL:https://www.lammermuirlife.co.uk/event/longformacus-choir-2/2024-08-13/
LOCATION:Longformacus Village Hall\, Longformacus Village Hall\, Duns Road\, Longformacus\, Scottish Borders\, TD11 3PB\, United Kingdom
CATEGORIES:Events,Longformacus Village Hall
ORGANIZER;CN="Kendal Mills":MAILTO:kendalmills63@gmail.com
GEO:55.806866;-2.490846
X-APPLE-STRUCTURED-LOCATION;VALUE=URI;X-ADDRESS=Longformacus Village Hall Longformacus Village Hall Duns Road Longformacus Scottish Borders TD11 3PB United Kingdom;X-APPLE-RADIUS=500;X-TITLE=Longformacus Village Hall\, Duns Road:geo:-2.490846,55.806866
END:VEVENT
BEGIN:VEVENT
DTSTART;TZID=Europe/London:20240812T110000
DTEND;TZID=Europe/London:20240812T130000
DTSTAMP:20260424T000807
CREATED:20240326T134531Z
LAST-MODIFIED:20241029T094639Z
UID:10000554-1723460400-1723467600@www.lammermuirlife.co.uk
SUMMARY:Journaling Cafe
DESCRIPTION:Corine is starting up a class where she will be showing how to make a journal book and how to keep journaling through the months ahead. \nEveryone welcome
URL:https://www.lammermuirlife.co.uk/event/journaling-cafe-3/2024-08-12/
LOCATION:Longformacus Village Hall\, Longformacus Village Hall\, Duns Road\, Longformacus\, Scottish Borders\, TD11 3PB\, United Kingdom
CATEGORIES:Events,Longformacus Village Hall
ORGANIZER;CN="Corine Craik":MAILTO:corine.craik485@btinternet.com
GEO:55.806866;-2.490846
X-APPLE-STRUCTURED-LOCATION;VALUE=URI;X-ADDRESS=Longformacus Village Hall Longformacus Village Hall Duns Road Longformacus Scottish Borders TD11 3PB United Kingdom;X-APPLE-RADIUS=500;X-TITLE=Longformacus Village Hall\, Duns Road:geo:-2.490846,55.806866
END:VEVENT
BEGIN:VEVENT
DTSTART;TZID=Europe/London:20240811T090000
DTEND;TZID=Europe/London:20240811T150000
DTSTAMP:20260424T000807
CREATED:20240517T091300Z
LAST-MODIFIED:20240517T091300Z
UID:10000893-1723366800-1723388400@www.lammermuirlife.co.uk
SUMMARY:Private Party
DESCRIPTION:Local resident hiring the hall for a kids birthday party
URL:https://www.lammermuirlife.co.uk/event/private-party-11/
LOCATION:Longformacus Village Hall\, Longformacus Village Hall\, Duns Road\, Longformacus\, Scottish Borders\, TD11 3PB\, United Kingdom
CATEGORIES:Events,Longformacus Village Hall
GEO:55.806866;-2.490846
X-APPLE-STRUCTURED-LOCATION;VALUE=URI;X-ADDRESS=Longformacus Village Hall Longformacus Village Hall Duns Road Longformacus Scottish Borders TD11 3PB United Kingdom;X-APPLE-RADIUS=500;X-TITLE=Longformacus Village Hall\, Duns Road:geo:-2.490846,55.806866
END:VEVENT
BEGIN:VEVENT
DTSTART;TZID=Europe/London:20240809T130000
DTEND;TZID=Europe/London:20240809T150000
DTSTAMP:20260424T000807
CREATED:20231211T204020Z
LAST-MODIFIED:20241010T193004Z
UID:10000511-1723208400-1723215600@www.lammermuirlife.co.uk
SUMMARY:Kids Club
DESCRIPTION:Kids club every Friday 1pm – 3pm \nAll ages welcome \nRefreshments and snacks are provided \nSuggested donation £2
URL:https://www.lammermuirlife.co.uk/event/kids-club/2024-08-09/
LOCATION:Longformacus Village Hall\, Longformacus Village Hall\, Duns Road\, Longformacus\, Scottish Borders\, TD11 3PB\, United Kingdom
CATEGORIES:Events,Longformacus Village Hall
ORGANIZER;CN="Heather Bewick":MAILTO:heath8667hl@gmail.com
GEO:55.806866;-2.490846
X-APPLE-STRUCTURED-LOCATION;VALUE=URI;X-ADDRESS=Longformacus Village Hall Longformacus Village Hall Duns Road Longformacus Scottish Borders TD11 3PB United Kingdom;X-APPLE-RADIUS=500;X-TITLE=Longformacus Village Hall\, Duns Road:geo:-2.490846,55.806866
END:VEVENT
BEGIN:VEVENT
DTSTART;TZID=Europe/London:20240806T184500
DTEND;TZID=Europe/London:20240806T201500
DTSTAMP:20260424T000807
CREATED:20230829T190330Z
LAST-MODIFIED:20240212T201357Z
UID:10000781-1722969900-1722975300@www.lammermuirlife.co.uk
SUMMARY:Longformacus Choir
DESCRIPTION:
URL:https://www.lammermuirlife.co.uk/event/longformacus-choir-2/2024-08-06/
LOCATION:Longformacus Village Hall\, Longformacus Village Hall\, Duns Road\, Longformacus\, Scottish Borders\, TD11 3PB\, United Kingdom
CATEGORIES:Events,Longformacus Village Hall
ORGANIZER;CN="Kendal Mills":MAILTO:kendalmills63@gmail.com
GEO:55.806866;-2.490846
X-APPLE-STRUCTURED-LOCATION;VALUE=URI;X-ADDRESS=Longformacus Village Hall Longformacus Village Hall Duns Road Longformacus Scottish Borders TD11 3PB United Kingdom;X-APPLE-RADIUS=500;X-TITLE=Longformacus Village Hall\, Duns Road:geo:-2.490846,55.806866
END:VEVENT
BEGIN:VEVENT
DTSTART;TZID=Europe/London:20240805T110000
DTEND;TZID=Europe/London:20240805T130000
DTSTAMP:20260424T000807
CREATED:20240326T134531Z
LAST-MODIFIED:20241029T094639Z
UID:10000553-1722855600-1722862800@www.lammermuirlife.co.uk
SUMMARY:Journaling Cafe
DESCRIPTION:Corine is starting up a class where she will be showing how to make a journal book and how to keep journaling through the months ahead. \nEveryone welcome
URL:https://www.lammermuirlife.co.uk/event/journaling-cafe-3/2024-08-05/
LOCATION:Longformacus Village Hall\, Longformacus Village Hall\, Duns Road\, Longformacus\, Scottish Borders\, TD11 3PB\, United Kingdom
CATEGORIES:Events,Longformacus Village Hall
ORGANIZER;CN="Corine Craik":MAILTO:corine.craik485@btinternet.com
GEO:55.806866;-2.490846
X-APPLE-STRUCTURED-LOCATION;VALUE=URI;X-ADDRESS=Longformacus Village Hall Longformacus Village Hall Duns Road Longformacus Scottish Borders TD11 3PB United Kingdom;X-APPLE-RADIUS=500;X-TITLE=Longformacus Village Hall\, Duns Road:geo:-2.490846,55.806866
END:VEVENT
BEGIN:VEVENT
DTSTART;TZID=Europe/London:20240804T080000
DTEND;TZID=Europe/London:20240804T130000
DTSTAMP:20260424T000807
CREATED:20230321T195753Z
LAST-MODIFIED:20231214T204613Z
UID:10000677-1722758400-1722776400@www.lammermuirlife.co.uk
SUMMARY:Sound Meditation
DESCRIPTION:Local resident holding their relaxing gong sound bath session.
URL:https://www.lammermuirlife.co.uk/event/sound-meditation-3-2024-08-11/
LOCATION:Longformacus Village Hall\, Longformacus Village Hall\, Duns Road\, Longformacus\, Scottish Borders\, TD11 3PB\, United Kingdom
CATEGORIES:Events,Longformacus Village Hall
ORGANIZER;CN="Greig Silver":MAILTO:greigsilver@protonmail.com
GEO:55.806866;-2.490846
X-APPLE-STRUCTURED-LOCATION;VALUE=URI;X-ADDRESS=Longformacus Village Hall Longformacus Village Hall Duns Road Longformacus Scottish Borders TD11 3PB United Kingdom;X-APPLE-RADIUS=500;X-TITLE=Longformacus Village Hall\, Duns Road:geo:-2.490846,55.806866
END:VEVENT
BEGIN:VEVENT
DTSTART;TZID=Europe/London:20240803T110000
DTEND;TZID=Europe/London:20240803T130000
DTSTAMP:20260424T000807
CREATED:20240128T132035Z
LAST-MODIFIED:20240721T195314Z
UID:10000821-1722682800-1722690000@www.lammermuirlife.co.uk
SUMMARY:Windmill Coffee Shop
DESCRIPTION:Come along to the Windmill Coffee Shop every first Saturday of the month. \nEnjoy a cuppa and a fab selection of homemade cakes. \nAll welcome.
URL:https://www.lammermuirlife.co.uk/event/windmill-coffee-shop-10-2024-08-10/
LOCATION:Longformacus Village Hall\, Longformacus Village Hall\, Duns Road\, Longformacus\, Scottish Borders\, TD11 3PB\, United Kingdom
CATEGORIES:Events,Longformacus Village Hall
ORGANIZER;CN="Heather Bewick":MAILTO:heath8667hl@gmail.com
GEO:55.806866;-2.490846
X-APPLE-STRUCTURED-LOCATION;VALUE=URI;X-ADDRESS=Longformacus Village Hall Longformacus Village Hall Duns Road Longformacus Scottish Borders TD11 3PB United Kingdom;X-APPLE-RADIUS=500;X-TITLE=Longformacus Village Hall\, Duns Road:geo:-2.490846,55.806866
END:VEVENT
BEGIN:VEVENT
DTSTART;TZID=Europe/London:20240802T130000
DTEND;TZID=Europe/London:20240802T160000
DTSTAMP:20260424T000807
CREATED:20240128T132649Z
LAST-MODIFIED:20240721T195547Z
UID:10000831-1722603600-1722614400@www.lammermuirlife.co.uk
SUMMARY:Preparations for Windmill Coffee Shop
DESCRIPTION:
URL:https://www.lammermuirlife.co.uk/event/preparations-for-windmill-coffee-shop-4-2024-08-09/
LOCATION:Longformacus Village Hall\, Longformacus Village Hall\, Duns Road\, Longformacus\, Scottish Borders\, TD11 3PB\, United Kingdom
CATEGORIES:Events,Longformacus Village Hall
ORGANIZER;CN="Heather Bewick":MAILTO:heath8667hl@gmail.com
GEO:55.806866;-2.490846
X-APPLE-STRUCTURED-LOCATION;VALUE=URI;X-ADDRESS=Longformacus Village Hall Longformacus Village Hall Duns Road Longformacus Scottish Borders TD11 3PB United Kingdom;X-APPLE-RADIUS=500;X-TITLE=Longformacus Village Hall\, Duns Road:geo:-2.490846,55.806866
END:VEVENT
BEGIN:VEVENT
DTSTART;TZID=Europe/London:20240802T130000
DTEND;TZID=Europe/London:20240802T150000
DTSTAMP:20260424T000807
CREATED:20231211T204020Z
LAST-MODIFIED:20241010T193004Z
UID:10000510-1722603600-1722610800@www.lammermuirlife.co.uk
SUMMARY:Kids Club
DESCRIPTION:Kids club every Friday 1pm – 3pm \nAll ages welcome \nRefreshments and snacks are provided \nSuggested donation £2
URL:https://www.lammermuirlife.co.uk/event/kids-club/2024-08-02/
LOCATION:Longformacus Village Hall\, Longformacus Village Hall\, Duns Road\, Longformacus\, Scottish Borders\, TD11 3PB\, United Kingdom
CATEGORIES:Events,Longformacus Village Hall
ORGANIZER;CN="Heather Bewick":MAILTO:heath8667hl@gmail.com
GEO:55.806866;-2.490846
X-APPLE-STRUCTURED-LOCATION;VALUE=URI;X-ADDRESS=Longformacus Village Hall Longformacus Village Hall Duns Road Longformacus Scottish Borders TD11 3PB United Kingdom;X-APPLE-RADIUS=500;X-TITLE=Longformacus Village Hall\, Duns Road:geo:-2.490846,55.806866
END:VEVENT
BEGIN:VEVENT
DTSTART;TZID=Europe/London:20240801T120000
DTEND;TZID=Europe/London:20240801T180000
DTSTAMP:20260424T000807
CREATED:20240729T193819Z
LAST-MODIFIED:20240729T193859Z
UID:10000927-1722513600-1722535200@www.lammermuirlife.co.uk
SUMMARY:Music session
DESCRIPTION:
URL:https://www.lammermuirlife.co.uk/event/music-session-11/
LOCATION:Longformacus Village Hall\, Longformacus Village Hall\, Duns Road\, Longformacus\, Scottish Borders\, TD11 3PB\, United Kingdom
CATEGORIES:Events,Longformacus Village Hall
ORGANIZER;CN="Jonathan Wood":MAILTO:jonathanpwood@msn.com
GEO:55.806866;-2.490846
X-APPLE-STRUCTURED-LOCATION;VALUE=URI;X-ADDRESS=Longformacus Village Hall Longformacus Village Hall Duns Road Longformacus Scottish Borders TD11 3PB United Kingdom;X-APPLE-RADIUS=500;X-TITLE=Longformacus Village Hall\, Duns Road:geo:-2.490846,55.806866
END:VEVENT
BEGIN:VEVENT
DTSTART;TZID=Europe/London:20240730T184500
DTEND;TZID=Europe/London:20240730T201500
DTSTAMP:20260424T000807
CREATED:20230829T190330Z
LAST-MODIFIED:20240212T201357Z
UID:10000780-1722365100-1722370500@www.lammermuirlife.co.uk
SUMMARY:Longformacus Choir
DESCRIPTION:
URL:https://www.lammermuirlife.co.uk/event/longformacus-choir-2/2024-07-30/
LOCATION:Longformacus Village Hall\, Longformacus Village Hall\, Duns Road\, Longformacus\, Scottish Borders\, TD11 3PB\, United Kingdom
CATEGORIES:Events,Longformacus Village Hall
ORGANIZER;CN="Kendal Mills":MAILTO:kendalmills63@gmail.com
GEO:55.806866;-2.490846
X-APPLE-STRUCTURED-LOCATION;VALUE=URI;X-ADDRESS=Longformacus Village Hall Longformacus Village Hall Duns Road Longformacus Scottish Borders TD11 3PB United Kingdom;X-APPLE-RADIUS=500;X-TITLE=Longformacus Village Hall\, Duns Road:geo:-2.490846,55.806866
END:VEVENT
BEGIN:VEVENT
DTSTART;TZID=Europe/London:20240729T110000
DTEND;TZID=Europe/London:20240729T130000
DTSTAMP:20260424T000807
CREATED:20240326T134531Z
LAST-MODIFIED:20241029T094639Z
UID:10000552-1722250800-1722258000@www.lammermuirlife.co.uk
SUMMARY:Journaling Cafe
DESCRIPTION:Corine is starting up a class where she will be showing how to make a journal book and how to keep journaling through the months ahead. \nEveryone welcome
URL:https://www.lammermuirlife.co.uk/event/journaling-cafe-3/2024-07-29/
LOCATION:Longformacus Village Hall\, Longformacus Village Hall\, Duns Road\, Longformacus\, Scottish Borders\, TD11 3PB\, United Kingdom
CATEGORIES:Events,Longformacus Village Hall
ORGANIZER;CN="Corine Craik":MAILTO:corine.craik485@btinternet.com
GEO:55.806866;-2.490846
X-APPLE-STRUCTURED-LOCATION;VALUE=URI;X-ADDRESS=Longformacus Village Hall Longformacus Village Hall Duns Road Longformacus Scottish Borders TD11 3PB United Kingdom;X-APPLE-RADIUS=500;X-TITLE=Longformacus Village Hall\, Duns Road:geo:-2.490846,55.806866
END:VEVENT
BEGIN:VEVENT
DTSTART;TZID=Europe/London:20240726T130000
DTEND;TZID=Europe/London:20240726T150000
DTSTAMP:20260424T000807
CREATED:20231211T204020Z
LAST-MODIFIED:20241010T193004Z
UID:10000509-1721998800-1722006000@www.lammermuirlife.co.uk
SUMMARY:Kids Club
DESCRIPTION:Kids club every Friday 1pm – 3pm \nAll ages welcome \nRefreshments and snacks are provided \nSuggested donation £2
URL:https://www.lammermuirlife.co.uk/event/kids-club/2024-07-26/
LOCATION:Longformacus Village Hall\, Longformacus Village Hall\, Duns Road\, Longformacus\, Scottish Borders\, TD11 3PB\, United Kingdom
CATEGORIES:Events,Longformacus Village Hall
ORGANIZER;CN="Heather Bewick":MAILTO:heath8667hl@gmail.com
GEO:55.806866;-2.490846
X-APPLE-STRUCTURED-LOCATION;VALUE=URI;X-ADDRESS=Longformacus Village Hall Longformacus Village Hall Duns Road Longformacus Scottish Borders TD11 3PB United Kingdom;X-APPLE-RADIUS=500;X-TITLE=Longformacus Village Hall\, Duns Road:geo:-2.490846,55.806866
END:VEVENT
BEGIN:VEVENT
DTSTART;TZID=Europe/London:20240723T184500
DTEND;TZID=Europe/London:20240723T201500
DTSTAMP:20260424T000807
CREATED:20230829T190330Z
LAST-MODIFIED:20240212T201357Z
UID:10000779-1721760300-1721765700@www.lammermuirlife.co.uk
SUMMARY:Longformacus Choir
DESCRIPTION:
URL:https://www.lammermuirlife.co.uk/event/longformacus-choir-2/2024-07-23/
LOCATION:Longformacus Village Hall\, Longformacus Village Hall\, Duns Road\, Longformacus\, Scottish Borders\, TD11 3PB\, United Kingdom
CATEGORIES:Events,Longformacus Village Hall
ORGANIZER;CN="Kendal Mills":MAILTO:kendalmills63@gmail.com
GEO:55.806866;-2.490846
X-APPLE-STRUCTURED-LOCATION;VALUE=URI;X-ADDRESS=Longformacus Village Hall Longformacus Village Hall Duns Road Longformacus Scottish Borders TD11 3PB United Kingdom;X-APPLE-RADIUS=500;X-TITLE=Longformacus Village Hall\, Duns Road:geo:-2.490846,55.806866
END:VEVENT
BEGIN:VEVENT
DTSTART;TZID=Europe/London:20240722T110000
DTEND;TZID=Europe/London:20240722T130000
DTSTAMP:20260424T000807
CREATED:20240326T134531Z
LAST-MODIFIED:20241029T094639Z
UID:10000551-1721646000-1721653200@www.lammermuirlife.co.uk
SUMMARY:Journaling Cafe
DESCRIPTION:Corine is starting up a class where she will be showing how to make a journal book and how to keep journaling through the months ahead. \nEveryone welcome
URL:https://www.lammermuirlife.co.uk/event/journaling-cafe-3/2024-07-22/
LOCATION:Longformacus Village Hall\, Longformacus Village Hall\, Duns Road\, Longformacus\, Scottish Borders\, TD11 3PB\, United Kingdom
CATEGORIES:Events,Longformacus Village Hall
ORGANIZER;CN="Corine Craik":MAILTO:corine.craik485@btinternet.com
GEO:55.806866;-2.490846
X-APPLE-STRUCTURED-LOCATION;VALUE=URI;X-ADDRESS=Longformacus Village Hall Longformacus Village Hall Duns Road Longformacus Scottish Borders TD11 3PB United Kingdom;X-APPLE-RADIUS=500;X-TITLE=Longformacus Village Hall\, Duns Road:geo:-2.490846,55.806866
END:VEVENT
BEGIN:VEVENT
DTSTART;TZID=Europe/London:20240719T130000
DTEND;TZID=Europe/London:20240719T150000
DTSTAMP:20260424T000807
CREATED:20231211T204020Z
LAST-MODIFIED:20241010T193004Z
UID:10000508-1721394000-1721401200@www.lammermuirlife.co.uk
SUMMARY:Kids Club
DESCRIPTION:Kids club every Friday 1pm – 3pm \nAll ages welcome \nRefreshments and snacks are provided \nSuggested donation £2
URL:https://www.lammermuirlife.co.uk/event/kids-club/2024-07-19/
LOCATION:Longformacus Village Hall\, Longformacus Village Hall\, Duns Road\, Longformacus\, Scottish Borders\, TD11 3PB\, United Kingdom
CATEGORIES:Events,Longformacus Village Hall
ORGANIZER;CN="Heather Bewick":MAILTO:heath8667hl@gmail.com
GEO:55.806866;-2.490846
X-APPLE-STRUCTURED-LOCATION;VALUE=URI;X-ADDRESS=Longformacus Village Hall Longformacus Village Hall Duns Road Longformacus Scottish Borders TD11 3PB United Kingdom;X-APPLE-RADIUS=500;X-TITLE=Longformacus Village Hall\, Duns Road:geo:-2.490846,55.806866
END:VEVENT
BEGIN:VEVENT
DTSTART;TZID=Europe/London:20240716T180000
DTEND;TZID=Europe/London:20240716T193000
DTSTAMP:20260424T000807
CREATED:20240715T131351Z
LAST-MODIFIED:20240715T131351Z
UID:10000905-1721152800-1721158200@www.lammermuirlife.co.uk
SUMMARY:Committee meeting
DESCRIPTION:
URL:https://www.lammermuirlife.co.uk/event/committee-meeting-5/
LOCATION:Longformacus Village Hall\, Longformacus Village Hall\, Duns Road\, Longformacus\, Scottish Borders\, TD11 3PB\, United Kingdom
CATEGORIES:Events,Longformacus Village Hall
ORGANIZER;CN="Jonathan Wood":MAILTO:jonathanpwood@msn.com
GEO:55.806866;-2.490846
X-APPLE-STRUCTURED-LOCATION;VALUE=URI;X-ADDRESS=Longformacus Village Hall Longformacus Village Hall Duns Road Longformacus Scottish Borders TD11 3PB United Kingdom;X-APPLE-RADIUS=500;X-TITLE=Longformacus Village Hall\, Duns Road:geo:-2.490846,55.806866
END:VEVENT
BEGIN:VEVENT
DTSTART;TZID=Europe/London:20240715T110000
DTEND;TZID=Europe/London:20240715T130000
DTSTAMP:20260424T000807
CREATED:20240326T134531Z
LAST-MODIFIED:20241029T094639Z
UID:10000550-1721041200-1721048400@www.lammermuirlife.co.uk
SUMMARY:Journaling Cafe
DESCRIPTION:Corine is starting up a class where she will be showing how to make a journal book and how to keep journaling through the months ahead. \nEveryone welcome
URL:https://www.lammermuirlife.co.uk/event/journaling-cafe-3/2024-07-15/
LOCATION:Longformacus Village Hall\, Longformacus Village Hall\, Duns Road\, Longformacus\, Scottish Borders\, TD11 3PB\, United Kingdom
CATEGORIES:Events,Longformacus Village Hall
ORGANIZER;CN="Corine Craik":MAILTO:corine.craik485@btinternet.com
GEO:55.806866;-2.490846
X-APPLE-STRUCTURED-LOCATION;VALUE=URI;X-ADDRESS=Longformacus Village Hall Longformacus Village Hall Duns Road Longformacus Scottish Borders TD11 3PB United Kingdom;X-APPLE-RADIUS=500;X-TITLE=Longformacus Village Hall\, Duns Road:geo:-2.490846,55.806866
END:VEVENT
BEGIN:VEVENT
DTSTART;TZID=Europe/London:20240712T130000
DTEND;TZID=Europe/London:20240712T150000
DTSTAMP:20260424T000807
CREATED:20231211T204020Z
LAST-MODIFIED:20241010T193004Z
UID:10000507-1720789200-1720796400@www.lammermuirlife.co.uk
SUMMARY:Kids Club
DESCRIPTION:Kids club every Friday 1pm – 3pm \nAll ages welcome \nRefreshments and snacks are provided \nSuggested donation £2
URL:https://www.lammermuirlife.co.uk/event/kids-club/2024-07-12/
LOCATION:Longformacus Village Hall\, Longformacus Village Hall\, Duns Road\, Longformacus\, Scottish Borders\, TD11 3PB\, United Kingdom
CATEGORIES:Events,Longformacus Village Hall
ORGANIZER;CN="Heather Bewick":MAILTO:heath8667hl@gmail.com
GEO:55.806866;-2.490846
X-APPLE-STRUCTURED-LOCATION;VALUE=URI;X-ADDRESS=Longformacus Village Hall Longformacus Village Hall Duns Road Longformacus Scottish Borders TD11 3PB United Kingdom;X-APPLE-RADIUS=500;X-TITLE=Longformacus Village Hall\, Duns Road:geo:-2.490846,55.806866
END:VEVENT
BEGIN:VEVENT
DTSTART;TZID=Europe/London:20240712T123000
DTEND;TZID=Europe/London:20240712T130000
DTSTAMP:20260424T000807
CREATED:20240530T140346Z
LAST-MODIFIED:20240530T140346Z
UID:10000896-1720787400-1720789200@www.lammermuirlife.co.uk
SUMMARY:MSP surgery
DESCRIPTION:MSP surgery with Rachael Hamilton
URL:https://www.lammermuirlife.co.uk/event/msp-surgery/
LOCATION:Longformacus Village Hall\, Longformacus Village Hall\, Duns Road\, Longformacus\, Scottish Borders\, TD11 3PB\, United Kingdom
CATEGORIES:Events,Longformacus Village Hall
GEO:55.806866;-2.490846
X-APPLE-STRUCTURED-LOCATION;VALUE=URI;X-ADDRESS=Longformacus Village Hall Longformacus Village Hall Duns Road Longformacus Scottish Borders TD11 3PB United Kingdom;X-APPLE-RADIUS=500;X-TITLE=Longformacus Village Hall\, Duns Road:geo:-2.490846,55.806866
END:VEVENT
BEGIN:VEVENT
DTSTART;TZID=Europe/London:20240709T184500
DTEND;TZID=Europe/London:20240709T201500
DTSTAMP:20260424T000807
CREATED:20230829T190330Z
LAST-MODIFIED:20240212T201357Z
UID:10000778-1720550700-1720556100@www.lammermuirlife.co.uk
SUMMARY:Longformacus Choir
DESCRIPTION:
URL:https://www.lammermuirlife.co.uk/event/longformacus-choir-2/2024-07-09/
LOCATION:Longformacus Village Hall\, Longformacus Village Hall\, Duns Road\, Longformacus\, Scottish Borders\, TD11 3PB\, United Kingdom
CATEGORIES:Events,Longformacus Village Hall
ORGANIZER;CN="Kendal Mills":MAILTO:kendalmills63@gmail.com
GEO:55.806866;-2.490846
X-APPLE-STRUCTURED-LOCATION;VALUE=URI;X-ADDRESS=Longformacus Village Hall Longformacus Village Hall Duns Road Longformacus Scottish Borders TD11 3PB United Kingdom;X-APPLE-RADIUS=500;X-TITLE=Longformacus Village Hall\, Duns Road:geo:-2.490846,55.806866
END:VEVENT
BEGIN:VEVENT
DTSTART;TZID=Europe/London:20240707T080000
DTEND;TZID=Europe/London:20240707T130000
DTSTAMP:20260424T000807
CREATED:20230321T195753Z
LAST-MODIFIED:20231214T204408Z
UID:10000675-1720339200-1720357200@www.lammermuirlife.co.uk
SUMMARY:Sound Meditation
DESCRIPTION:Local resident holding their relaxing gong sound bath session.
URL:https://www.lammermuirlife.co.uk/event/sound-meditation-3-2024-07-14/
LOCATION:Longformacus Village Hall\, Longformacus Village Hall\, Duns Road\, Longformacus\, Scottish Borders\, TD11 3PB\, United Kingdom
CATEGORIES:Events,Longformacus Village Hall
ORGANIZER;CN="Greig Silver":MAILTO:greigsilver@protonmail.com
GEO:55.806866;-2.490846
X-APPLE-STRUCTURED-LOCATION;VALUE=URI;X-ADDRESS=Longformacus Village Hall Longformacus Village Hall Duns Road Longformacus Scottish Borders TD11 3PB United Kingdom;X-APPLE-RADIUS=500;X-TITLE=Longformacus Village Hall\, Duns Road:geo:-2.490846,55.806866
END:VEVENT
BEGIN:VEVENT
DTSTART;TZID=Europe/London:20240705T130000
DTEND;TZID=Europe/London:20240705T150000
DTSTAMP:20260424T000807
CREATED:20231211T204020Z
LAST-MODIFIED:20241010T193004Z
UID:10000506-1720184400-1720191600@www.lammermuirlife.co.uk
SUMMARY:Kids Club
DESCRIPTION:Kids club every Friday 1pm – 3pm \nAll ages welcome \nRefreshments and snacks are provided \nSuggested donation £2
URL:https://www.lammermuirlife.co.uk/event/kids-club/2024-07-05/
LOCATION:Longformacus Village Hall\, Longformacus Village Hall\, Duns Road\, Longformacus\, Scottish Borders\, TD11 3PB\, United Kingdom
CATEGORIES:Events,Longformacus Village Hall
ORGANIZER;CN="Heather Bewick":MAILTO:heath8667hl@gmail.com
GEO:55.806866;-2.490846
X-APPLE-STRUCTURED-LOCATION;VALUE=URI;X-ADDRESS=Longformacus Village Hall Longformacus Village Hall Duns Road Longformacus Scottish Borders TD11 3PB United Kingdom;X-APPLE-RADIUS=500;X-TITLE=Longformacus Village Hall\, Duns Road:geo:-2.490846,55.806866
END:VEVENT
BEGIN:VEVENT
DTSTART;TZID=Europe/London:20240704T063000
DTEND;TZID=Europe/London:20240704T223000
DTSTAMP:20260424T000807
CREATED:20240530T141906Z
LAST-MODIFIED:20240530T141906Z
UID:10000895-1720074600-1720132200@www.lammermuirlife.co.uk
SUMMARY:General Election
DESCRIPTION:Polling place for the general election 7am- 10pm
URL:https://www.lammermuirlife.co.uk/event/general-election/
LOCATION:Longformacus Village Hall\, Longformacus Village Hall\, Duns Road\, Longformacus\, Scottish Borders\, TD11 3PB\, United Kingdom
CATEGORIES:Events,Longformacus Village Hall
GEO:55.806866;-2.490846
X-APPLE-STRUCTURED-LOCATION;VALUE=URI;X-ADDRESS=Longformacus Village Hall Longformacus Village Hall Duns Road Longformacus Scottish Borders TD11 3PB United Kingdom;X-APPLE-RADIUS=500;X-TITLE=Longformacus Village Hall\, Duns Road:geo:-2.490846,55.806866
END:VEVENT
BEGIN:VEVENT
DTSTART;TZID=Europe/London:20240703T100000
DTEND;TZID=Europe/London:20240703T130000
DTSTAMP:20260424T000807
CREATED:20240530T144346Z
LAST-MODIFIED:20240530T144430Z
UID:10000897-1720000800-1720011600@www.lammermuirlife.co.uk
SUMMARY:Private booking
DESCRIPTION:Local resident hiring the hall to rehearse upcoming show
URL:https://www.lammermuirlife.co.uk/event/private-booking-12/
LOCATION:Longformacus Village Hall\, Longformacus Village Hall\, Duns Road\, Longformacus\, Scottish Borders\, TD11 3PB\, United Kingdom
CATEGORIES:Events,Longformacus Village Hall
ORGANIZER;CN="Katherina Radeva":MAILTO:kat@katherinaradeva.co.uk
GEO:55.806866;-2.490846
X-APPLE-STRUCTURED-LOCATION;VALUE=URI;X-ADDRESS=Longformacus Village Hall Longformacus Village Hall Duns Road Longformacus Scottish Borders TD11 3PB United Kingdom;X-APPLE-RADIUS=500;X-TITLE=Longformacus Village Hall\, Duns Road:geo:-2.490846,55.806866
END:VEVENT
BEGIN:VEVENT
DTSTART;TZID=Europe/London:20240702T184500
DTEND;TZID=Europe/London:20240702T201500
DTSTAMP:20260424T000807
CREATED:20230829T190330Z
LAST-MODIFIED:20240212T201357Z
UID:10000777-1719945900-1719951300@www.lammermuirlife.co.uk
SUMMARY:Longformacus Choir
DESCRIPTION:
URL:https://www.lammermuirlife.co.uk/event/longformacus-choir-2/2024-07-02/
LOCATION:Longformacus Village Hall\, Longformacus Village Hall\, Duns Road\, Longformacus\, Scottish Borders\, TD11 3PB\, United Kingdom
CATEGORIES:Events,Longformacus Village Hall
ORGANIZER;CN="Kendal Mills":MAILTO:kendalmills63@gmail.com
GEO:55.806866;-2.490846
X-APPLE-STRUCTURED-LOCATION;VALUE=URI;X-ADDRESS=Longformacus Village Hall Longformacus Village Hall Duns Road Longformacus Scottish Borders TD11 3PB United Kingdom;X-APPLE-RADIUS=500;X-TITLE=Longformacus Village Hall\, Duns Road:geo:-2.490846,55.806866
END:VEVENT
BEGIN:VEVENT
DTSTART;TZID=Europe/London:20240702T100000
DTEND;TZID=Europe/London:20240702T130000
DTSTAMP:20260424T000807
CREATED:20240604T081227Z
LAST-MODIFIED:20240604T081227Z
UID:10000903-1719914400-1719925200@www.lammermuirlife.co.uk
SUMMARY:Private booking
DESCRIPTION:Local resident hiring the hall to rehearse upcoming show
URL:https://www.lammermuirlife.co.uk/event/private-booking-15/
LOCATION:Longformacus Village Hall\, Longformacus Village Hall\, Duns Road\, Longformacus\, Scottish Borders\, TD11 3PB\, United Kingdom
CATEGORIES:Events,Longformacus Village Hall
ORGANIZER;CN="Katherina Radeva":MAILTO:kat@katherinaradeva.co.uk
GEO:55.806866;-2.490846
X-APPLE-STRUCTURED-LOCATION;VALUE=URI;X-ADDRESS=Longformacus Village Hall Longformacus Village Hall Duns Road Longformacus Scottish Borders TD11 3PB United Kingdom;X-APPLE-RADIUS=500;X-TITLE=Longformacus Village Hall\, Duns Road:geo:-2.490846,55.806866
END:VEVENT
BEGIN:VEVENT
DTSTART;TZID=Europe/London:20240701T110000
DTEND;TZID=Europe/London:20240701T130000
DTSTAMP:20260424T000807
CREATED:20240326T134531Z
LAST-MODIFIED:20241029T094639Z
UID:10000979-1719831600-1719838800@www.lammermuirlife.co.uk
SUMMARY:Journaling Cafe
DESCRIPTION:Corine is starting up a class where she will be showing how to make a journal book and how to keep journaling through the months ahead. \nEveryone welcome
URL:https://www.lammermuirlife.co.uk/event/journaling-cafe-3/2024-07-01/
LOCATION:Longformacus Village Hall\, Longformacus Village Hall\, Duns Road\, Longformacus\, Scottish Borders\, TD11 3PB\, United Kingdom
CATEGORIES:Events,Longformacus Village Hall
ORGANIZER;CN="Corine Craik":MAILTO:corine.craik485@btinternet.com
GEO:55.806866;-2.490846
X-APPLE-STRUCTURED-LOCATION;VALUE=URI;X-ADDRESS=Longformacus Village Hall Longformacus Village Hall Duns Road Longformacus Scottish Borders TD11 3PB United Kingdom;X-APPLE-RADIUS=500;X-TITLE=Longformacus Village Hall\, Duns Road:geo:-2.490846,55.806866
END:VEVENT
BEGIN:VEVENT
DTSTART;TZID=Europe/London:20240628T130000
DTEND;TZID=Europe/London:20240628T150000
DTSTAMP:20260424T000807
CREATED:20231211T204020Z
LAST-MODIFIED:20241010T193004Z
UID:10000505-1719579600-1719586800@www.lammermuirlife.co.uk
SUMMARY:Kids Club
DESCRIPTION:Kids club every Friday 1pm – 3pm \nAll ages welcome \nRefreshments and snacks are provided \nSuggested donation £2
URL:https://www.lammermuirlife.co.uk/event/kids-club/2024-06-28/
LOCATION:Longformacus Village Hall\, Longformacus Village Hall\, Duns Road\, Longformacus\, Scottish Borders\, TD11 3PB\, United Kingdom
CATEGORIES:Events,Longformacus Village Hall
ORGANIZER;CN="Heather Bewick":MAILTO:heath8667hl@gmail.com
GEO:55.806866;-2.490846
X-APPLE-STRUCTURED-LOCATION;VALUE=URI;X-ADDRESS=Longformacus Village Hall Longformacus Village Hall Duns Road Longformacus Scottish Borders TD11 3PB United Kingdom;X-APPLE-RADIUS=500;X-TITLE=Longformacus Village Hall\, Duns Road:geo:-2.490846,55.806866
END:VEVENT
END:VCALENDAR