BEGIN:VCALENDAR
VERSION:2.0
PRODID:-//Lammermuir Community Website - ECPv6.15.20//NONSGML v1.0//EN
CALSCALE:GREGORIAN
METHOD:PUBLISH
X-WR-CALNAME:Lammermuir Community Website
X-ORIGINAL-URL:https://www.lammermuirlife.co.uk
X-WR-CALDESC:Events for Lammermuir Community Website
REFRESH-INTERVAL;VALUE=DURATION:PT1H
X-Robots-Tag:noindex
X-PUBLISHED-TTL:PT1H
BEGIN:VTIMEZONE
TZID:Europe/London
BEGIN:DAYLIGHT
TZOFFSETFROM:+0000
TZOFFSETTO:+0100
TZNAME:BST
DTSTART:20230326T010000
END:DAYLIGHT
BEGIN:STANDARD
TZOFFSETFROM:+0100
TZOFFSETTO:+0000
TZNAME:GMT
DTSTART:20231029T010000
END:STANDARD
BEGIN:DAYLIGHT
TZOFFSETFROM:+0000
TZOFFSETTO:+0100
TZNAME:BST
DTSTART:20240331T010000
END:DAYLIGHT
BEGIN:STANDARD
TZOFFSETFROM:+0100
TZOFFSETTO:+0000
TZNAME:GMT
DTSTART:20241027T010000
END:STANDARD
BEGIN:DAYLIGHT
TZOFFSETFROM:+0000
TZOFFSETTO:+0100
TZNAME:BST
DTSTART:20250330T010000
END:DAYLIGHT
BEGIN:STANDARD
TZOFFSETFROM:+0100
TZOFFSETTO:+0000
TZNAME:GMT
DTSTART:20251026T010000
END:STANDARD
END:VTIMEZONE
BEGIN:VEVENT
DTSTART;TZID=Europe/London:20241005T110000
DTEND;TZID=Europe/London:20241005T130000
DTSTAMP:20260424T001229
CREATED:20240128T132035Z
LAST-MODIFIED:20240721T200608Z
UID:10000823-1728126000-1728133200@www.lammermuirlife.co.uk
SUMMARY:Windmill Coffee Shop
DESCRIPTION:Come along to the Windmill Coffee Shop every second Saturday of the month. \nEnjoy a cuppa and a fab selection of homemade cakes. \nAll welcome.
URL:https://www.lammermuirlife.co.uk/event/windmill-coffee-shop-10-2024-09-14/2024-10-05/
LOCATION:Longformacus Village Hall\, Longformacus Village Hall\, Duns Road\, Longformacus\, Scottish Borders\, TD11 3PB\, United Kingdom
CATEGORIES:Events,Longformacus Village Hall
ORGANIZER;CN="Heather Bewick":MAILTO:heath8667hl@gmail.com
GEO:55.806866;-2.490846
X-APPLE-STRUCTURED-LOCATION;VALUE=URI;X-ADDRESS=Longformacus Village Hall Longformacus Village Hall Duns Road Longformacus Scottish Borders TD11 3PB United Kingdom;X-APPLE-RADIUS=500;X-TITLE=Longformacus Village Hall\, Duns Road:geo:-2.490846,55.806866
END:VEVENT
BEGIN:VEVENT
DTSTART;TZID=Europe/London:20241004T130000
DTEND;TZID=Europe/London:20241004T160000
DTSTAMP:20260424T001229
CREATED:20240128T132649Z
LAST-MODIFIED:20240721T195859Z
UID:10000833-1728046800-1728057600@www.lammermuirlife.co.uk
SUMMARY:Preparations for Windmill Coffee Shop
DESCRIPTION:
URL:https://www.lammermuirlife.co.uk/event/preparations-for-windmill-coffee-shop-4-2024-10-11/
LOCATION:Longformacus Village Hall\, Longformacus Village Hall\, Duns Road\, Longformacus\, Scottish Borders\, TD11 3PB\, United Kingdom
CATEGORIES:Events,Longformacus Village Hall
ORGANIZER;CN="Heather Bewick":MAILTO:heath8667hl@gmail.com
GEO:55.806866;-2.490846
X-APPLE-STRUCTURED-LOCATION;VALUE=URI;X-ADDRESS=Longformacus Village Hall Longformacus Village Hall Duns Road Longformacus Scottish Borders TD11 3PB United Kingdom;X-APPLE-RADIUS=500;X-TITLE=Longformacus Village Hall\, Duns Road:geo:-2.490846,55.806866
END:VEVENT
BEGIN:VEVENT
DTSTART;TZID=Europe/London:20241004T110000
DTEND;TZID=Europe/London:20241004T120000
DTSTAMP:20260424T001229
CREATED:20240721T194520Z
LAST-MODIFIED:20240721T194520Z
UID:10000915-1728039600-1728043200@www.lammermuirlife.co.uk
SUMMARY:T'ai Chi
DESCRIPTION:
URL:https://www.lammermuirlife.co.uk/event/tai-chi-2/2024-10-04/
LOCATION:Longformacus Village Hall\, Longformacus Village Hall\, Duns Road\, Longformacus\, Scottish Borders\, TD11 3PB\, United Kingdom
CATEGORIES:Events,Longformacus Village Hall
GEO:55.806866;-2.490846
X-APPLE-STRUCTURED-LOCATION;VALUE=URI;X-ADDRESS=Longformacus Village Hall Longformacus Village Hall Duns Road Longformacus Scottish Borders TD11 3PB United Kingdom;X-APPLE-RADIUS=500;X-TITLE=Longformacus Village Hall\, Duns Road:geo:-2.490846,55.806866
END:VEVENT
BEGIN:VEVENT
DTSTART;TZID=Europe/London:20241003T140000
DTEND;TZID=Europe/London:20241003T200000
DTSTAMP:20260424T001229
CREATED:20240508T184846Z
LAST-MODIFIED:20240627T204127Z
UID:10000891-1727964000-1727985600@www.lammermuirlife.co.uk
SUMMARY:Sunlaws Development Company Public Consultation
DESCRIPTION:Public consultation meeting to discuss a battery energy storage scheme on Roxburgh Estate. \n3pm-7pm
URL:https://www.lammermuirlife.co.uk/event/sunlaws-development-company-public-consultation/
LOCATION:Longformacus Village Hall\, Longformacus Village Hall\, Duns Road\, Longformacus\, Scottish Borders\, TD11 3PB\, United Kingdom
CATEGORIES:Events,Longformacus Village Hall
GEO:55.806866;-2.490846
X-APPLE-STRUCTURED-LOCATION;VALUE=URI;X-ADDRESS=Longformacus Village Hall Longformacus Village Hall Duns Road Longformacus Scottish Borders TD11 3PB United Kingdom;X-APPLE-RADIUS=500;X-TITLE=Longformacus Village Hall\, Duns Road:geo:-2.490846,55.806866
END:VEVENT
BEGIN:VEVENT
DTSTART;TZID=Europe/London:20241002T140000
DTEND;TZID=Europe/London:20241002T163000
DTSTAMP:20260424T001229
CREATED:20240326T140113Z
LAST-MODIFIED:20240821T195215Z
UID:10000598-1727877600-1727886600@www.lammermuirlife.co.uk
SUMMARY:Art Classes
DESCRIPTION:To be held by Rachel Sutherland (artist and landscape architect)
URL:https://www.lammermuirlife.co.uk/event/art-classes-2-2024-08-28/2024-10-02/
LOCATION:Longformacus Village Hall\, Longformacus Village Hall\, Duns Road\, Longformacus\, Scottish Borders\, TD11 3PB\, United Kingdom
CATEGORIES:Events,Longformacus Village Hall
GEO:55.806866;-2.490846
X-APPLE-STRUCTURED-LOCATION;VALUE=URI;X-ADDRESS=Longformacus Village Hall Longformacus Village Hall Duns Road Longformacus Scottish Borders TD11 3PB United Kingdom;X-APPLE-RADIUS=500;X-TITLE=Longformacus Village Hall\, Duns Road:geo:-2.490846,55.806866
END:VEVENT
BEGIN:VEVENT
DTSTART;TZID=Europe/London:20241001T184500
DTEND;TZID=Europe/London:20241001T201500
DTSTAMP:20260424T001229
CREATED:20230829T190330Z
LAST-MODIFIED:20240212T201357Z
UID:10000787-1727808300-1727813700@www.lammermuirlife.co.uk
SUMMARY:Longformacus Choir
DESCRIPTION:
URL:https://www.lammermuirlife.co.uk/event/longformacus-choir-2/2024-10-01/
LOCATION:Longformacus Village Hall\, Longformacus Village Hall\, Duns Road\, Longformacus\, Scottish Borders\, TD11 3PB\, United Kingdom
CATEGORIES:Events,Longformacus Village Hall
ORGANIZER;CN="Kendal Mills":MAILTO:kendalmills63@gmail.com
GEO:55.806866;-2.490846
X-APPLE-STRUCTURED-LOCATION;VALUE=URI;X-ADDRESS=Longformacus Village Hall Longformacus Village Hall Duns Road Longformacus Scottish Borders TD11 3PB United Kingdom;X-APPLE-RADIUS=500;X-TITLE=Longformacus Village Hall\, Duns Road:geo:-2.490846,55.806866
END:VEVENT
BEGIN:VEVENT
DTSTART;TZID=Europe/London:20240930T190000
DTEND;TZID=Europe/London:20240930T210000
DTSTAMP:20260424T001229
CREATED:20240906T084426Z
LAST-MODIFIED:20240929T194514Z
UID:10000933-1727722800-1727730000@www.lammermuirlife.co.uk
SUMMARY:CELCA Trustees meeting
DESCRIPTION:
URL:https://www.lammermuirlife.co.uk/event/celca-trustees-meeting/
LOCATION:Longformacus Village Hall\, Longformacus Village Hall\, Duns Road\, Longformacus\, Scottish Borders\, TD11 3PB\, United Kingdom
CATEGORIES:Events,Longformacus Village Hall
GEO:55.806866;-2.490846
X-APPLE-STRUCTURED-LOCATION;VALUE=URI;X-ADDRESS=Longformacus Village Hall Longformacus Village Hall Duns Road Longformacus Scottish Borders TD11 3PB United Kingdom;X-APPLE-RADIUS=500;X-TITLE=Longformacus Village Hall\, Duns Road:geo:-2.490846,55.806866
END:VEVENT
BEGIN:VEVENT
DTSTART;TZID=Europe/London:20240930T134500
DTEND;TZID=Europe/London:20240930T151500
DTSTAMP:20260424T001229
CREATED:20240306T201458Z
LAST-MODIFIED:20240306T201458Z
UID:10000851-1727703900-1727709300@www.lammermuirlife.co.uk
SUMMARY:Chair Yoga
DESCRIPTION:Classes are 2pm-3pm
URL:https://www.lammermuirlife.co.uk/event/chair-yoga-2/2024-09-30/
LOCATION:Longformacus Village Hall\, Longformacus Village Hall\, Duns Road\, Longformacus\, Scottish Borders\, TD11 3PB\, United Kingdom
CATEGORIES:Events,Longformacus Village Hall
ORGANIZER;CN="Kathleen White":MAILTO:canvass.bungee.0q@icloud.com
GEO:55.806866;-2.490846
X-APPLE-STRUCTURED-LOCATION;VALUE=URI;X-ADDRESS=Longformacus Village Hall Longformacus Village Hall Duns Road Longformacus Scottish Borders TD11 3PB United Kingdom;X-APPLE-RADIUS=500;X-TITLE=Longformacus Village Hall\, Duns Road:geo:-2.490846,55.806866
END:VEVENT
BEGIN:VEVENT
DTSTART;TZID=Europe/London:20240930T110000
DTEND;TZID=Europe/London:20240930T130000
DTSTAMP:20260424T001229
CREATED:20240326T134531Z
LAST-MODIFIED:20241029T094639Z
UID:10000560-1727694000-1727701200@www.lammermuirlife.co.uk
SUMMARY:Journaling Cafe
DESCRIPTION:Corine is starting up a class where she will be showing how to make a journal book and how to keep journaling through the months ahead. \nEveryone welcome
URL:https://www.lammermuirlife.co.uk/event/journaling-cafe-3/2024-09-30/
LOCATION:Longformacus Village Hall\, Longformacus Village Hall\, Duns Road\, Longformacus\, Scottish Borders\, TD11 3PB\, United Kingdom
CATEGORIES:Events,Longformacus Village Hall
ORGANIZER;CN="Corine Craik":MAILTO:corine.craik485@btinternet.com
GEO:55.806866;-2.490846
X-APPLE-STRUCTURED-LOCATION;VALUE=URI;X-ADDRESS=Longformacus Village Hall Longformacus Village Hall Duns Road Longformacus Scottish Borders TD11 3PB United Kingdom;X-APPLE-RADIUS=500;X-TITLE=Longformacus Village Hall\, Duns Road:geo:-2.490846,55.806866
END:VEVENT
BEGIN:VEVENT
DTSTART;TZID=Europe/London:20240927T110000
DTEND;TZID=Europe/London:20240927T120000
DTSTAMP:20260424T001229
CREATED:20240721T194520Z
LAST-MODIFIED:20240721T194520Z
UID:10000914-1727434800-1727438400@www.lammermuirlife.co.uk
SUMMARY:T'ai Chi
DESCRIPTION:
URL:https://www.lammermuirlife.co.uk/event/tai-chi-2/2024-09-27/
LOCATION:Longformacus Village Hall\, Longformacus Village Hall\, Duns Road\, Longformacus\, Scottish Borders\, TD11 3PB\, United Kingdom
CATEGORIES:Events,Longformacus Village Hall
GEO:55.806866;-2.490846
X-APPLE-STRUCTURED-LOCATION;VALUE=URI;X-ADDRESS=Longformacus Village Hall Longformacus Village Hall Duns Road Longformacus Scottish Borders TD11 3PB United Kingdom;X-APPLE-RADIUS=500;X-TITLE=Longformacus Village Hall\, Duns Road:geo:-2.490846,55.806866
END:VEVENT
BEGIN:VEVENT
DTSTART;TZID=Europe/London:20240925T140000
DTEND;TZID=Europe/London:20240925T163000
DTSTAMP:20260424T001229
CREATED:20240326T140113Z
LAST-MODIFIED:20240821T195215Z
UID:10000597-1727272800-1727281800@www.lammermuirlife.co.uk
SUMMARY:Art Classes
DESCRIPTION:To be held by Rachel Sutherland (artist and landscape architect)
URL:https://www.lammermuirlife.co.uk/event/art-classes-2-2024-08-28/2024-09-25/
LOCATION:Longformacus Village Hall\, Longformacus Village Hall\, Duns Road\, Longformacus\, Scottish Borders\, TD11 3PB\, United Kingdom
CATEGORIES:Events,Longformacus Village Hall
GEO:55.806866;-2.490846
X-APPLE-STRUCTURED-LOCATION;VALUE=URI;X-ADDRESS=Longformacus Village Hall Longformacus Village Hall Duns Road Longformacus Scottish Borders TD11 3PB United Kingdom;X-APPLE-RADIUS=500;X-TITLE=Longformacus Village Hall\, Duns Road:geo:-2.490846,55.806866
END:VEVENT
BEGIN:VEVENT
DTSTART;TZID=Europe/London:20240924T184500
DTEND;TZID=Europe/London:20240924T201500
DTSTAMP:20260424T001229
CREATED:20230829T190330Z
LAST-MODIFIED:20240212T201357Z
UID:10000786-1727203500-1727208900@www.lammermuirlife.co.uk
SUMMARY:Longformacus Choir
DESCRIPTION:
URL:https://www.lammermuirlife.co.uk/event/longformacus-choir-2/2024-09-24/
LOCATION:Longformacus Village Hall\, Longformacus Village Hall\, Duns Road\, Longformacus\, Scottish Borders\, TD11 3PB\, United Kingdom
CATEGORIES:Events,Longformacus Village Hall
ORGANIZER;CN="Kendal Mills":MAILTO:kendalmills63@gmail.com
GEO:55.806866;-2.490846
X-APPLE-STRUCTURED-LOCATION;VALUE=URI;X-ADDRESS=Longformacus Village Hall Longformacus Village Hall Duns Road Longformacus Scottish Borders TD11 3PB United Kingdom;X-APPLE-RADIUS=500;X-TITLE=Longformacus Village Hall\, Duns Road:geo:-2.490846,55.806866
END:VEVENT
BEGIN:VEVENT
DTSTART;TZID=Europe/London:20240923T134500
DTEND;TZID=Europe/London:20240923T151500
DTSTAMP:20260424T001229
CREATED:20240306T201458Z
LAST-MODIFIED:20240306T201458Z
UID:10000850-1727099100-1727104500@www.lammermuirlife.co.uk
SUMMARY:Chair Yoga
DESCRIPTION:Classes are 2pm-3pm
URL:https://www.lammermuirlife.co.uk/event/chair-yoga-2/2024-09-23/
LOCATION:Longformacus Village Hall\, Longformacus Village Hall\, Duns Road\, Longformacus\, Scottish Borders\, TD11 3PB\, United Kingdom
CATEGORIES:Events,Longformacus Village Hall
ORGANIZER;CN="Kathleen White":MAILTO:canvass.bungee.0q@icloud.com
GEO:55.806866;-2.490846
X-APPLE-STRUCTURED-LOCATION;VALUE=URI;X-ADDRESS=Longformacus Village Hall Longformacus Village Hall Duns Road Longformacus Scottish Borders TD11 3PB United Kingdom;X-APPLE-RADIUS=500;X-TITLE=Longformacus Village Hall\, Duns Road:geo:-2.490846,55.806866
END:VEVENT
BEGIN:VEVENT
DTSTART;TZID=Europe/London:20240923T110000
DTEND;TZID=Europe/London:20240923T130000
DTSTAMP:20260424T001229
CREATED:20240326T134531Z
LAST-MODIFIED:20241029T094639Z
UID:10000559-1727089200-1727096400@www.lammermuirlife.co.uk
SUMMARY:Journaling Cafe
DESCRIPTION:Corine is starting up a class where she will be showing how to make a journal book and how to keep journaling through the months ahead. \nEveryone welcome
URL:https://www.lammermuirlife.co.uk/event/journaling-cafe-3/2024-09-23/
LOCATION:Longformacus Village Hall\, Longformacus Village Hall\, Duns Road\, Longformacus\, Scottish Borders\, TD11 3PB\, United Kingdom
CATEGORIES:Events,Longformacus Village Hall
ORGANIZER;CN="Corine Craik":MAILTO:corine.craik485@btinternet.com
GEO:55.806866;-2.490846
X-APPLE-STRUCTURED-LOCATION;VALUE=URI;X-ADDRESS=Longformacus Village Hall Longformacus Village Hall Duns Road Longformacus Scottish Borders TD11 3PB United Kingdom;X-APPLE-RADIUS=500;X-TITLE=Longformacus Village Hall\, Duns Road:geo:-2.490846,55.806866
END:VEVENT
BEGIN:VEVENT
DTSTART;TZID=Europe/London:20240920T110000
DTEND;TZID=Europe/London:20240920T120000
DTSTAMP:20260424T001229
CREATED:20240721T194520Z
LAST-MODIFIED:20240721T194520Z
UID:10000913-1726830000-1726833600@www.lammermuirlife.co.uk
SUMMARY:T'ai Chi
DESCRIPTION:
URL:https://www.lammermuirlife.co.uk/event/tai-chi-2/2024-09-20/
LOCATION:Longformacus Village Hall\, Longformacus Village Hall\, Duns Road\, Longformacus\, Scottish Borders\, TD11 3PB\, United Kingdom
CATEGORIES:Events,Longformacus Village Hall
GEO:55.806866;-2.490846
X-APPLE-STRUCTURED-LOCATION;VALUE=URI;X-ADDRESS=Longformacus Village Hall Longformacus Village Hall Duns Road Longformacus Scottish Borders TD11 3PB United Kingdom;X-APPLE-RADIUS=500;X-TITLE=Longformacus Village Hall\, Duns Road:geo:-2.490846,55.806866
END:VEVENT
BEGIN:VEVENT
DTSTART;TZID=Europe/London:20240918T140000
DTEND;TZID=Europe/London:20240918T163000
DTSTAMP:20260424T001229
CREATED:20240326T140113Z
LAST-MODIFIED:20240821T195215Z
UID:10000596-1726668000-1726677000@www.lammermuirlife.co.uk
SUMMARY:Art Classes
DESCRIPTION:To be held by Rachel Sutherland (artist and landscape architect)
URL:https://www.lammermuirlife.co.uk/event/art-classes-2-2024-08-28/2024-09-18/
LOCATION:Longformacus Village Hall\, Longformacus Village Hall\, Duns Road\, Longformacus\, Scottish Borders\, TD11 3PB\, United Kingdom
CATEGORIES:Events,Longformacus Village Hall
GEO:55.806866;-2.490846
X-APPLE-STRUCTURED-LOCATION;VALUE=URI;X-ADDRESS=Longformacus Village Hall Longformacus Village Hall Duns Road Longformacus Scottish Borders TD11 3PB United Kingdom;X-APPLE-RADIUS=500;X-TITLE=Longformacus Village Hall\, Duns Road:geo:-2.490846,55.806866
END:VEVENT
BEGIN:VEVENT
DTSTART;TZID=Europe/London:20240917T184500
DTEND;TZID=Europe/London:20240917T201500
DTSTAMP:20260424T001229
CREATED:20230829T190330Z
LAST-MODIFIED:20240212T201357Z
UID:10000785-1726598700-1726604100@www.lammermuirlife.co.uk
SUMMARY:Longformacus Choir
DESCRIPTION:
URL:https://www.lammermuirlife.co.uk/event/longformacus-choir-2/2024-09-17/
LOCATION:Longformacus Village Hall\, Longformacus Village Hall\, Duns Road\, Longformacus\, Scottish Borders\, TD11 3PB\, United Kingdom
CATEGORIES:Events,Longformacus Village Hall
ORGANIZER;CN="Kendal Mills":MAILTO:kendalmills63@gmail.com
GEO:55.806866;-2.490846
X-APPLE-STRUCTURED-LOCATION;VALUE=URI;X-ADDRESS=Longformacus Village Hall Longformacus Village Hall Duns Road Longformacus Scottish Borders TD11 3PB United Kingdom;X-APPLE-RADIUS=500;X-TITLE=Longformacus Village Hall\, Duns Road:geo:-2.490846,55.806866
END:VEVENT
BEGIN:VEVENT
DTSTART;TZID=Europe/London:20240916T110000
DTEND;TZID=Europe/London:20240916T130000
DTSTAMP:20260424T001229
CREATED:20240326T134531Z
LAST-MODIFIED:20241029T094639Z
UID:10000558-1726484400-1726491600@www.lammermuirlife.co.uk
SUMMARY:Journaling Cafe
DESCRIPTION:Corine is starting up a class where she will be showing how to make a journal book and how to keep journaling through the months ahead. \nEveryone welcome
URL:https://www.lammermuirlife.co.uk/event/journaling-cafe-3/2024-09-16/
LOCATION:Longformacus Village Hall\, Longformacus Village Hall\, Duns Road\, Longformacus\, Scottish Borders\, TD11 3PB\, United Kingdom
CATEGORIES:Events,Longformacus Village Hall
ORGANIZER;CN="Corine Craik":MAILTO:corine.craik485@btinternet.com
GEO:55.806866;-2.490846
X-APPLE-STRUCTURED-LOCATION;VALUE=URI;X-ADDRESS=Longformacus Village Hall Longformacus Village Hall Duns Road Longformacus Scottish Borders TD11 3PB United Kingdom;X-APPLE-RADIUS=500;X-TITLE=Longformacus Village Hall\, Duns Road:geo:-2.490846,55.806866
END:VEVENT
BEGIN:VEVENT
DTSTART;TZID=Europe/London:20240914T110000
DTEND;TZID=Europe/London:20240914T130000
DTSTAMP:20260424T001229
CREATED:20240128T132035Z
LAST-MODIFIED:20240128T132035Z
UID:10000819-1726311600-1726318800@www.lammermuirlife.co.uk
SUMMARY:Windmill Coffee Shop
DESCRIPTION:Come along to the Windmill Coffee Shop every second Saturday of the month. \nEnjoy a cuppa and a fab selection of homemade cakes. \nAll welcome.
URL:https://www.lammermuirlife.co.uk/event/windmill-coffee-shop-10/2024-09-14/
LOCATION:Longformacus Village Hall\, Longformacus Village Hall\, Duns Road\, Longformacus\, Scottish Borders\, TD11 3PB\, United Kingdom
CATEGORIES:Events,Longformacus Village Hall
ORGANIZER;CN="Heather Bewick":MAILTO:heath8667hl@gmail.com
GEO:55.806866;-2.490846
X-APPLE-STRUCTURED-LOCATION;VALUE=URI;X-ADDRESS=Longformacus Village Hall Longformacus Village Hall Duns Road Longformacus Scottish Borders TD11 3PB United Kingdom;X-APPLE-RADIUS=500;X-TITLE=Longformacus Village Hall\, Duns Road:geo:-2.490846,55.806866
END:VEVENT
BEGIN:VEVENT
DTSTART;TZID=Europe/London:20240913T110000
DTEND;TZID=Europe/London:20240913T120000
DTSTAMP:20260424T001229
CREATED:20240721T194520Z
LAST-MODIFIED:20240721T194520Z
UID:10000912-1726225200-1726228800@www.lammermuirlife.co.uk
SUMMARY:T'ai Chi
DESCRIPTION:
URL:https://www.lammermuirlife.co.uk/event/tai-chi-2/2024-09-13/
LOCATION:Longformacus Village Hall\, Longformacus Village Hall\, Duns Road\, Longformacus\, Scottish Borders\, TD11 3PB\, United Kingdom
CATEGORIES:Events,Longformacus Village Hall
GEO:55.806866;-2.490846
X-APPLE-STRUCTURED-LOCATION;VALUE=URI;X-ADDRESS=Longformacus Village Hall Longformacus Village Hall Duns Road Longformacus Scottish Borders TD11 3PB United Kingdom;X-APPLE-RADIUS=500;X-TITLE=Longformacus Village Hall\, Duns Road:geo:-2.490846,55.806866
END:VEVENT
BEGIN:VEVENT
DTSTART;TZID=Europe/London:20240911T140000
DTEND;TZID=Europe/London:20240911T163000
DTSTAMP:20260424T001229
CREATED:20240326T140113Z
LAST-MODIFIED:20240821T195215Z
UID:10000595-1726063200-1726072200@www.lammermuirlife.co.uk
SUMMARY:Art Classes
DESCRIPTION:To be held by Rachel Sutherland (artist and landscape architect)
URL:https://www.lammermuirlife.co.uk/event/art-classes-2-2024-08-28/2024-09-11/
LOCATION:Longformacus Village Hall\, Longformacus Village Hall\, Duns Road\, Longformacus\, Scottish Borders\, TD11 3PB\, United Kingdom
CATEGORIES:Events,Longformacus Village Hall
GEO:55.806866;-2.490846
X-APPLE-STRUCTURED-LOCATION;VALUE=URI;X-ADDRESS=Longformacus Village Hall Longformacus Village Hall Duns Road Longformacus Scottish Borders TD11 3PB United Kingdom;X-APPLE-RADIUS=500;X-TITLE=Longformacus Village Hall\, Duns Road:geo:-2.490846,55.806866
END:VEVENT
BEGIN:VEVENT
DTSTART;TZID=Europe/London:20240910T184500
DTEND;TZID=Europe/London:20240910T201500
DTSTAMP:20260424T001229
CREATED:20230829T190330Z
LAST-MODIFIED:20240805T182219Z
UID:10000741-1725993900-1725999300@www.lammermuirlife.co.uk
SUMMARY:Longformacus Choir
DESCRIPTION:
URL:https://www.lammermuirlife.co.uk/event/longformacus-choir-2-2024-09-03/
LOCATION:Longformacus Village Hall\, Longformacus Village Hall\, Duns Road\, Longformacus\, Scottish Borders\, TD11 3PB\, United Kingdom
CATEGORIES:Events,Longformacus Village Hall
ORGANIZER;CN="Kendal Mills":MAILTO:kendalmills63@gmail.com
GEO:55.806866;-2.490846
X-APPLE-STRUCTURED-LOCATION;VALUE=URI;X-ADDRESS=Longformacus Village Hall Longformacus Village Hall Duns Road Longformacus Scottish Borders TD11 3PB United Kingdom;X-APPLE-RADIUS=500;X-TITLE=Longformacus Village Hall\, Duns Road:geo:-2.490846,55.806866
END:VEVENT
BEGIN:VEVENT
DTSTART;TZID=Europe/London:20240909T134500
DTEND;TZID=Europe/London:20240909T151500
DTSTAMP:20260424T001229
CREATED:20240306T201458Z
LAST-MODIFIED:20240306T201458Z
UID:10000849-1725889500-1725894900@www.lammermuirlife.co.uk
SUMMARY:Chair Yoga
DESCRIPTION:Classes are 2pm-3pm
URL:https://www.lammermuirlife.co.uk/event/chair-yoga-2/2024-09-09/
LOCATION:Longformacus Village Hall\, Longformacus Village Hall\, Duns Road\, Longformacus\, Scottish Borders\, TD11 3PB\, United Kingdom
CATEGORIES:Events,Longformacus Village Hall
ORGANIZER;CN="Kathleen White":MAILTO:canvass.bungee.0q@icloud.com
GEO:55.806866;-2.490846
X-APPLE-STRUCTURED-LOCATION;VALUE=URI;X-ADDRESS=Longformacus Village Hall Longformacus Village Hall Duns Road Longformacus Scottish Borders TD11 3PB United Kingdom;X-APPLE-RADIUS=500;X-TITLE=Longformacus Village Hall\, Duns Road:geo:-2.490846,55.806866
END:VEVENT
BEGIN:VEVENT
DTSTART;TZID=Europe/London:20240909T110000
DTEND;TZID=Europe/London:20240909T130000
DTSTAMP:20260424T001229
CREATED:20240326T134531Z
LAST-MODIFIED:20241029T094639Z
UID:10000557-1725879600-1725886800@www.lammermuirlife.co.uk
SUMMARY:Journaling Cafe
DESCRIPTION:Corine is starting up a class where she will be showing how to make a journal book and how to keep journaling through the months ahead. \nEveryone welcome
URL:https://www.lammermuirlife.co.uk/event/journaling-cafe-3/2024-09-09/
LOCATION:Longformacus Village Hall\, Longformacus Village Hall\, Duns Road\, Longformacus\, Scottish Borders\, TD11 3PB\, United Kingdom
CATEGORIES:Events,Longformacus Village Hall
ORGANIZER;CN="Corine Craik":MAILTO:corine.craik485@btinternet.com
GEO:55.806866;-2.490846
X-APPLE-STRUCTURED-LOCATION;VALUE=URI;X-ADDRESS=Longformacus Village Hall Longformacus Village Hall Duns Road Longformacus Scottish Borders TD11 3PB United Kingdom;X-APPLE-RADIUS=500;X-TITLE=Longformacus Village Hall\, Duns Road:geo:-2.490846,55.806866
END:VEVENT
BEGIN:VEVENT
DTSTART;TZID=Europe/London:20240907T110000
DTEND;TZID=Europe/London:20240907T130000
DTSTAMP:20260424T001229
CREATED:20240128T132035Z
LAST-MODIFIED:20240721T200608Z
UID:10000822-1725706800-1725714000@www.lammermuirlife.co.uk
SUMMARY:Windmill Coffee Shop
DESCRIPTION:Come along to the Windmill Coffee Shop every second Saturday of the month. \nEnjoy a cuppa and a fab selection of homemade cakes. \nAll welcome.
URL:https://www.lammermuirlife.co.uk/event/windmill-coffee-shop-10-2024-09-14/2024-09-07/
LOCATION:Longformacus Village Hall\, Longformacus Village Hall\, Duns Road\, Longformacus\, Scottish Borders\, TD11 3PB\, United Kingdom
CATEGORIES:Events,Longformacus Village Hall
ORGANIZER;CN="Heather Bewick":MAILTO:heath8667hl@gmail.com
GEO:55.806866;-2.490846
X-APPLE-STRUCTURED-LOCATION;VALUE=URI;X-ADDRESS=Longformacus Village Hall Longformacus Village Hall Duns Road Longformacus Scottish Borders TD11 3PB United Kingdom;X-APPLE-RADIUS=500;X-TITLE=Longformacus Village Hall\, Duns Road:geo:-2.490846,55.806866
END:VEVENT
BEGIN:VEVENT
DTSTART;TZID=Europe/London:20240906T130000
DTEND;TZID=Europe/London:20240906T160000
DTSTAMP:20260424T001229
CREATED:20240128T132649Z
LAST-MODIFIED:20240721T195727Z
UID:10000832-1725627600-1725638400@www.lammermuirlife.co.uk
SUMMARY:Preparations for Windmill Coffee Shop
DESCRIPTION:
URL:https://www.lammermuirlife.co.uk/event/preparations-for-windmill-coffee-shop-4-2024-09-13/
LOCATION:Longformacus Village Hall\, Longformacus Village Hall\, Duns Road\, Longformacus\, Scottish Borders\, TD11 3PB\, United Kingdom
CATEGORIES:Events,Longformacus Village Hall
ORGANIZER;CN="Heather Bewick":MAILTO:heath8667hl@gmail.com
GEO:55.806866;-2.490846
X-APPLE-STRUCTURED-LOCATION;VALUE=URI;X-ADDRESS=Longformacus Village Hall Longformacus Village Hall Duns Road Longformacus Scottish Borders TD11 3PB United Kingdom;X-APPLE-RADIUS=500;X-TITLE=Longformacus Village Hall\, Duns Road:geo:-2.490846,55.806866
END:VEVENT
BEGIN:VEVENT
DTSTART;TZID=Europe/London:20240906T110000
DTEND;TZID=Europe/London:20240906T120000
DTSTAMP:20260424T001229
CREATED:20240721T194520Z
LAST-MODIFIED:20240721T194520Z
UID:10000911-1725620400-1725624000@www.lammermuirlife.co.uk
SUMMARY:T'ai Chi
DESCRIPTION:
URL:https://www.lammermuirlife.co.uk/event/tai-chi-2/2024-09-06/
LOCATION:Longformacus Village Hall\, Longformacus Village Hall\, Duns Road\, Longformacus\, Scottish Borders\, TD11 3PB\, United Kingdom
CATEGORIES:Events,Longformacus Village Hall
GEO:55.806866;-2.490846
X-APPLE-STRUCTURED-LOCATION;VALUE=URI;X-ADDRESS=Longformacus Village Hall Longformacus Village Hall Duns Road Longformacus Scottish Borders TD11 3PB United Kingdom;X-APPLE-RADIUS=500;X-TITLE=Longformacus Village Hall\, Duns Road:geo:-2.490846,55.806866
END:VEVENT
BEGIN:VEVENT
DTSTART;TZID=Europe/London:20240904T140000
DTEND;TZID=Europe/London:20240904T163000
DTSTAMP:20260424T001229
CREATED:20240326T140113Z
LAST-MODIFIED:20240821T195215Z
UID:10000594-1725458400-1725467400@www.lammermuirlife.co.uk
SUMMARY:Art Classes
DESCRIPTION:To be held by Rachel Sutherland (artist and landscape architect)
URL:https://www.lammermuirlife.co.uk/event/art-classes-2-2024-08-28/2024-09-04/
LOCATION:Longformacus Village Hall\, Longformacus Village Hall\, Duns Road\, Longformacus\, Scottish Borders\, TD11 3PB\, United Kingdom
CATEGORIES:Events,Longformacus Village Hall
GEO:55.806866;-2.490846
X-APPLE-STRUCTURED-LOCATION;VALUE=URI;X-ADDRESS=Longformacus Village Hall Longformacus Village Hall Duns Road Longformacus Scottish Borders TD11 3PB United Kingdom;X-APPLE-RADIUS=500;X-TITLE=Longformacus Village Hall\, Duns Road:geo:-2.490846,55.806866
END:VEVENT
BEGIN:VEVENT
DTSTART;TZID=Europe/London:20240903T180000
DTEND;TZID=Europe/London:20240903T193000
DTSTAMP:20260424T001229
CREATED:20240715T132039Z
LAST-MODIFIED:20240805T182558Z
UID:10000906-1725386400-1725391800@www.lammermuirlife.co.uk
SUMMARY:Committee meeting AGM
DESCRIPTION:
URL:https://www.lammermuirlife.co.uk/event/committee-meeting-agm/
LOCATION:Longformacus Village Hall\, Longformacus Village Hall\, Duns Road\, Longformacus\, Scottish Borders\, TD11 3PB\, United Kingdom
CATEGORIES:Events,Longformacus Village Hall
ORGANIZER;CN="Jonathan Wood":MAILTO:jonathanpwood@msn.com
GEO:55.806866;-2.490846
X-APPLE-STRUCTURED-LOCATION;VALUE=URI;X-ADDRESS=Longformacus Village Hall Longformacus Village Hall Duns Road Longformacus Scottish Borders TD11 3PB United Kingdom;X-APPLE-RADIUS=500;X-TITLE=Longformacus Village Hall\, Duns Road:geo:-2.490846,55.806866
END:VEVENT
BEGIN:VEVENT
DTSTART;TZID=Europe/London:20240902T134500
DTEND;TZID=Europe/London:20240902T151500
DTSTAMP:20260424T001229
CREATED:20240306T201458Z
LAST-MODIFIED:20240306T201458Z
UID:10000848-1725284700-1725290100@www.lammermuirlife.co.uk
SUMMARY:Chair Yoga
DESCRIPTION:Classes are 2pm-3pm
URL:https://www.lammermuirlife.co.uk/event/chair-yoga-2/2024-09-02/
LOCATION:Longformacus Village Hall\, Longformacus Village Hall\, Duns Road\, Longformacus\, Scottish Borders\, TD11 3PB\, United Kingdom
CATEGORIES:Events,Longformacus Village Hall
ORGANIZER;CN="Kathleen White":MAILTO:canvass.bungee.0q@icloud.com
GEO:55.806866;-2.490846
X-APPLE-STRUCTURED-LOCATION;VALUE=URI;X-ADDRESS=Longformacus Village Hall Longformacus Village Hall Duns Road Longformacus Scottish Borders TD11 3PB United Kingdom;X-APPLE-RADIUS=500;X-TITLE=Longformacus Village Hall\, Duns Road:geo:-2.490846,55.806866
END:VEVENT
END:VCALENDAR