BEGIN:VCALENDAR
VERSION:2.0
PRODID:-//Lammermuir Community Website - ECPv6.15.20//NONSGML v1.0//EN
CALSCALE:GREGORIAN
METHOD:PUBLISH
X-WR-CALNAME:Lammermuir Community Website
X-ORIGINAL-URL:https://www.lammermuirlife.co.uk
X-WR-CALDESC:Events for Lammermuir Community Website
REFRESH-INTERVAL;VALUE=DURATION:PT1H
X-Robots-Tag:noindex
X-PUBLISHED-TTL:PT1H
BEGIN:VTIMEZONE
TZID:Europe/London
BEGIN:DAYLIGHT
TZOFFSETFROM:+0000
TZOFFSETTO:+0100
TZNAME:BST
DTSTART:20230326T010000
END:DAYLIGHT
BEGIN:STANDARD
TZOFFSETFROM:+0100
TZOFFSETTO:+0000
TZNAME:GMT
DTSTART:20231029T010000
END:STANDARD
BEGIN:DAYLIGHT
TZOFFSETFROM:+0000
TZOFFSETTO:+0100
TZNAME:BST
DTSTART:20240331T010000
END:DAYLIGHT
BEGIN:STANDARD
TZOFFSETFROM:+0100
TZOFFSETTO:+0000
TZNAME:GMT
DTSTART:20241027T010000
END:STANDARD
BEGIN:DAYLIGHT
TZOFFSETFROM:+0000
TZOFFSETTO:+0100
TZNAME:BST
DTSTART:20250330T010000
END:DAYLIGHT
BEGIN:STANDARD
TZOFFSETFROM:+0100
TZOFFSETTO:+0000
TZNAME:GMT
DTSTART:20251026T010000
END:STANDARD
BEGIN:DAYLIGHT
TZOFFSETFROM:+0000
TZOFFSETTO:+0100
TZNAME:BST
DTSTART:20260329T010000
END:DAYLIGHT
BEGIN:STANDARD
TZOFFSETFROM:+0100
TZOFFSETTO:+0000
TZNAME:GMT
DTSTART:20261025T010000
END:STANDARD
END:VTIMEZONE
BEGIN:VEVENT
DTSTART;TZID=Europe/London:20250114T174500
DTEND;TZID=Europe/London:20250114T184500
DTSTAMP:20260423T074142
CREATED:20240715T134311Z
LAST-MODIFIED:20250108T184417Z
UID:10000908-1736876700-1736880300@www.lammermuirlife.co.uk
SUMMARY:Committee meeting
DESCRIPTION:
URL:https://www.lammermuirlife.co.uk/event/committee-meeting-6/
LOCATION:Longformacus Village Hall\, Longformacus Village Hall\, Duns Road\, Longformacus\, Scottish Borders\, TD11 3PB\, United Kingdom
CATEGORIES:Events,Longformacus Village Hall
ORGANIZER;CN="Jonathan Wood":MAILTO:jonathanpwood@msn.com
GEO:55.806866;-2.490846
X-APPLE-STRUCTURED-LOCATION;VALUE=URI;X-ADDRESS=Longformacus Village Hall Longformacus Village Hall Duns Road Longformacus Scottish Borders TD11 3PB United Kingdom;X-APPLE-RADIUS=500;X-TITLE=Longformacus Village Hall\, Duns Road:geo:-2.490846,55.806866
END:VEVENT
BEGIN:VEVENT
DTSTART;TZID=Europe/London:20250113T134500
DTEND;TZID=Europe/London:20250113T151500
DTSTAMP:20260423T074142
CREATED:20240306T202154Z
LAST-MODIFIED:20250508T150321Z
UID:10000863-1736775900-1736781300@www.lammermuirlife.co.uk
SUMMARY:Chair Yoga
DESCRIPTION:Classes are 2pm-3pm
URL:https://www.lammermuirlife.co.uk/event/chair-yoga-3/2025-01-13/
LOCATION:Longformacus Village Hall\, Longformacus Village Hall\, Duns Road\, Longformacus\, Scottish Borders\, TD11 3PB\, United Kingdom
CATEGORIES:Events,Longformacus Village Hall
ORGANIZER;CN="Kathleen White":MAILTO:canvass.bungee.0q@icloud.com
GEO:55.806866;-2.490846
X-APPLE-STRUCTURED-LOCATION;VALUE=URI;X-ADDRESS=Longformacus Village Hall Longformacus Village Hall Duns Road Longformacus Scottish Borders TD11 3PB United Kingdom;X-APPLE-RADIUS=500;X-TITLE=Longformacus Village Hall\, Duns Road:geo:-2.490846,55.806866
END:VEVENT
BEGIN:VEVENT
DTSTART;TZID=Europe/London:20250113T110000
DTEND;TZID=Europe/London:20250113T130000
DTSTAMP:20260423T074142
CREATED:20250104T150855Z
LAST-MODIFIED:20250717T194649Z
UID:10000988-1736766000-1736773200@www.lammermuirlife.co.uk
SUMMARY:Journaling Cafe
DESCRIPTION:Come along and start a project or finish one! \nEveryone welcome \n 
URL:https://www.lammermuirlife.co.uk/event/journaling-cafe-4/2025-01-13/
LOCATION:Longformacus Village Hall\, Longformacus Village Hall\, Duns Road\, Longformacus\, Scottish Borders\, TD11 3PB\, United Kingdom
CATEGORIES:Events,Longformacus Village Hall
ORGANIZER;CN="Corine Craik":MAILTO:corine.craik485@btinternet.com
GEO:55.806866;-2.490846
X-APPLE-STRUCTURED-LOCATION;VALUE=URI;X-ADDRESS=Longformacus Village Hall Longformacus Village Hall Duns Road Longformacus Scottish Borders TD11 3PB United Kingdom;X-APPLE-RADIUS=500;X-TITLE=Longformacus Village Hall\, Duns Road:geo:-2.490846,55.806866
END:VEVENT
BEGIN:VEVENT
DTSTART;TZID=Europe/London:20250110T110000
DTEND;TZID=Europe/London:20250110T120000
DTSTAMP:20260423T074142
CREATED:20250104T160557Z
LAST-MODIFIED:20250104T172324Z
UID:10001242-1736506800-1736510400@www.lammermuirlife.co.uk
SUMMARY:T'ai Chi
DESCRIPTION:
URL:https://www.lammermuirlife.co.uk/event/tai-chi-3/2025-01-10/
LOCATION:Longformacus Village Hall\, Longformacus Village Hall\, Duns Road\, Longformacus\, Scottish Borders\, TD11 3PB\, United Kingdom
CATEGORIES:Events,Longformacus Village Hall
GEO:55.806866;-2.490846
X-APPLE-STRUCTURED-LOCATION;VALUE=URI;X-ADDRESS=Longformacus Village Hall Longformacus Village Hall Duns Road Longformacus Scottish Borders TD11 3PB United Kingdom;X-APPLE-RADIUS=500;X-TITLE=Longformacus Village Hall\, Duns Road:geo:-2.490846,55.806866
END:VEVENT
BEGIN:VEVENT
DTSTART;TZID=Europe/London:20241220T110000
DTEND;TZID=Europe/London:20241220T120000
DTSTAMP:20260423T074142
CREATED:20240721T194520Z
LAST-MODIFIED:20240721T194520Z
UID:10000926-1734692400-1734696000@www.lammermuirlife.co.uk
SUMMARY:T'ai Chi
DESCRIPTION:
URL:https://www.lammermuirlife.co.uk/event/tai-chi-2/2024-12-20/
LOCATION:Longformacus Village Hall\, Longformacus Village Hall\, Duns Road\, Longformacus\, Scottish Borders\, TD11 3PB\, United Kingdom
CATEGORIES:Events,Longformacus Village Hall
GEO:55.806866;-2.490846
X-APPLE-STRUCTURED-LOCATION;VALUE=URI;X-ADDRESS=Longformacus Village Hall Longformacus Village Hall Duns Road Longformacus Scottish Borders TD11 3PB United Kingdom;X-APPLE-RADIUS=500;X-TITLE=Longformacus Village Hall\, Duns Road:geo:-2.490846,55.806866
END:VEVENT
BEGIN:VEVENT
DTSTART;TZID=Europe/London:20241218T140000
DTEND;TZID=Europe/London:20241218T163000
DTSTAMP:20260423T074142
CREATED:20240326T140113Z
LAST-MODIFIED:20240821T195215Z
UID:10000608-1734530400-1734539400@www.lammermuirlife.co.uk
SUMMARY:Art Classes
DESCRIPTION:To be held by Rachel Sutherland (artist and landscape architect)
URL:https://www.lammermuirlife.co.uk/event/art-classes-2-2024-08-28/2024-12-18/
LOCATION:Longformacus Village Hall\, Longformacus Village Hall\, Duns Road\, Longformacus\, Scottish Borders\, TD11 3PB\, United Kingdom
CATEGORIES:Events,Longformacus Village Hall
GEO:55.806866;-2.490846
X-APPLE-STRUCTURED-LOCATION;VALUE=URI;X-ADDRESS=Longformacus Village Hall Longformacus Village Hall Duns Road Longformacus Scottish Borders TD11 3PB United Kingdom;X-APPLE-RADIUS=500;X-TITLE=Longformacus Village Hall\, Duns Road:geo:-2.490846,55.806866
END:VEVENT
BEGIN:VEVENT
DTSTART;TZID=Europe/London:20241217T184500
DTEND;TZID=Europe/London:20241217T201500
DTSTAMP:20260423T074142
CREATED:20230829T190330Z
LAST-MODIFIED:20240212T201357Z
UID:10000797-1734461100-1734466500@www.lammermuirlife.co.uk
SUMMARY:Longformacus Choir
DESCRIPTION:
URL:https://www.lammermuirlife.co.uk/event/longformacus-choir-2/2024-12-17/
LOCATION:Longformacus Village Hall\, Longformacus Village Hall\, Duns Road\, Longformacus\, Scottish Borders\, TD11 3PB\, United Kingdom
CATEGORIES:Events,Longformacus Village Hall
ORGANIZER;CN="Kendal Mills":MAILTO:kendalmills63@gmail.com
GEO:55.806866;-2.490846
X-APPLE-STRUCTURED-LOCATION;VALUE=URI;X-ADDRESS=Longformacus Village Hall Longformacus Village Hall Duns Road Longformacus Scottish Borders TD11 3PB United Kingdom;X-APPLE-RADIUS=500;X-TITLE=Longformacus Village Hall\, Duns Road:geo:-2.490846,55.806866
END:VEVENT
BEGIN:VEVENT
DTSTART;TZID=Europe/London:20241216T134500
DTEND;TZID=Europe/London:20241216T151500
DTSTAMP:20260423T074142
CREATED:20241229T211842Z
LAST-MODIFIED:20241229T212132Z
UID:10000861-1734356700-1734362100@www.lammermuirlife.co.uk
SUMMARY:Chair Yoga
DESCRIPTION:Classes are 2pm-3pm
URL:https://www.lammermuirlife.co.uk/event/chair-yoga-2-2/2024-12-16/
LOCATION:Longformacus Village Hall\, Longformacus Village Hall\, Duns Road\, Longformacus\, Scottish Borders\, TD11 3PB\, United Kingdom
CATEGORIES:Events,Longformacus Village Hall
ORGANIZER;CN="Kathleen White":MAILTO:canvass.bungee.0q@icloud.com
GEO:55.806866;-2.490846
X-APPLE-STRUCTURED-LOCATION;VALUE=URI;X-ADDRESS=Longformacus Village Hall Longformacus Village Hall Duns Road Longformacus Scottish Borders TD11 3PB United Kingdom;X-APPLE-RADIUS=500;X-TITLE=Longformacus Village Hall\, Duns Road:geo:-2.490846,55.806866
END:VEVENT
BEGIN:VEVENT
DTSTART;TZID=Europe/London:20241216T110000
DTEND;TZID=Europe/London:20241216T130000
DTSTAMP:20260423T074142
CREATED:20240326T134531Z
LAST-MODIFIED:20241029T094639Z
UID:10000571-1734346800-1734354000@www.lammermuirlife.co.uk
SUMMARY:Journaling Cafe
DESCRIPTION:Corine is starting up a class where she will be showing how to make a journal book and how to keep journaling through the months ahead. \nEveryone welcome
URL:https://www.lammermuirlife.co.uk/event/journaling-cafe-3/2024-12-16/
LOCATION:Longformacus Village Hall\, Longformacus Village Hall\, Duns Road\, Longformacus\, Scottish Borders\, TD11 3PB\, United Kingdom
CATEGORIES:Events,Longformacus Village Hall
ORGANIZER;CN="Corine Craik":MAILTO:corine.craik485@btinternet.com
GEO:55.806866;-2.490846
X-APPLE-STRUCTURED-LOCATION;VALUE=URI;X-ADDRESS=Longformacus Village Hall Longformacus Village Hall Duns Road Longformacus Scottish Borders TD11 3PB United Kingdom;X-APPLE-RADIUS=500;X-TITLE=Longformacus Village Hall\, Duns Road:geo:-2.490846,55.806866
END:VEVENT
BEGIN:VEVENT
DTSTART;TZID=Europe/London:20241213T110000
DTEND;TZID=Europe/London:20241213T120000
DTSTAMP:20260423T074142
CREATED:20240721T194520Z
LAST-MODIFIED:20240721T194520Z
UID:10000925-1734087600-1734091200@www.lammermuirlife.co.uk
SUMMARY:T'ai Chi
DESCRIPTION:
URL:https://www.lammermuirlife.co.uk/event/tai-chi-2/2024-12-13/
LOCATION:Longformacus Village Hall\, Longformacus Village Hall\, Duns Road\, Longformacus\, Scottish Borders\, TD11 3PB\, United Kingdom
CATEGORIES:Events,Longformacus Village Hall
GEO:55.806866;-2.490846
X-APPLE-STRUCTURED-LOCATION;VALUE=URI;X-ADDRESS=Longformacus Village Hall Longformacus Village Hall Duns Road Longformacus Scottish Borders TD11 3PB United Kingdom;X-APPLE-RADIUS=500;X-TITLE=Longformacus Village Hall\, Duns Road:geo:-2.490846,55.806866
END:VEVENT
BEGIN:VEVENT
DTSTART;TZID=Europe/London:20241211T180000
DTEND;TZID=Europe/London:20241211T193000
DTSTAMP:20260423T074142
CREATED:20241209T192714Z
LAST-MODIFIED:20241209T192714Z
UID:10000985-1733940000-1733945400@www.lammermuirlife.co.uk
SUMMARY:Committee Meeting
DESCRIPTION:
URL:https://www.lammermuirlife.co.uk/event/committee-meeting-9/
LOCATION:Longformacus Village Hall\, Longformacus Village Hall\, Duns Road\, Longformacus\, Scottish Borders\, TD11 3PB\, United Kingdom
CATEGORIES:Events,Longformacus Village Hall
ORGANIZER;CN="Jonathan Wood":MAILTO:jonathanpwood@msn.com
GEO:55.806866;-2.490846
X-APPLE-STRUCTURED-LOCATION;VALUE=URI;X-ADDRESS=Longformacus Village Hall Longformacus Village Hall Duns Road Longformacus Scottish Borders TD11 3PB United Kingdom;X-APPLE-RADIUS=500;X-TITLE=Longformacus Village Hall\, Duns Road:geo:-2.490846,55.806866
END:VEVENT
BEGIN:VEVENT
DTSTART;TZID=Europe/London:20241211T140000
DTEND;TZID=Europe/London:20241211T163000
DTSTAMP:20260423T074142
CREATED:20240326T140113Z
LAST-MODIFIED:20240821T195215Z
UID:10000607-1733925600-1733934600@www.lammermuirlife.co.uk
SUMMARY:Art Classes
DESCRIPTION:To be held by Rachel Sutherland (artist and landscape architect)
URL:https://www.lammermuirlife.co.uk/event/art-classes-2-2024-08-28/2024-12-11/
LOCATION:Longformacus Village Hall\, Longformacus Village Hall\, Duns Road\, Longformacus\, Scottish Borders\, TD11 3PB\, United Kingdom
CATEGORIES:Events,Longformacus Village Hall
GEO:55.806866;-2.490846
X-APPLE-STRUCTURED-LOCATION;VALUE=URI;X-ADDRESS=Longformacus Village Hall Longformacus Village Hall Duns Road Longformacus Scottish Borders TD11 3PB United Kingdom;X-APPLE-RADIUS=500;X-TITLE=Longformacus Village Hall\, Duns Road:geo:-2.490846,55.806866
END:VEVENT
BEGIN:VEVENT
DTSTART;TZID=Europe/London:20241210T184500
DTEND;TZID=Europe/London:20241210T201500
DTSTAMP:20260423T074142
CREATED:20230829T190330Z
LAST-MODIFIED:20240212T201357Z
UID:10000796-1733856300-1733861700@www.lammermuirlife.co.uk
SUMMARY:Longformacus Choir
DESCRIPTION:
URL:https://www.lammermuirlife.co.uk/event/longformacus-choir-2/2024-12-10/
LOCATION:Longformacus Village Hall\, Longformacus Village Hall\, Duns Road\, Longformacus\, Scottish Borders\, TD11 3PB\, United Kingdom
CATEGORIES:Events,Longformacus Village Hall
ORGANIZER;CN="Kendal Mills":MAILTO:kendalmills63@gmail.com
GEO:55.806866;-2.490846
X-APPLE-STRUCTURED-LOCATION;VALUE=URI;X-ADDRESS=Longformacus Village Hall Longformacus Village Hall Duns Road Longformacus Scottish Borders TD11 3PB United Kingdom;X-APPLE-RADIUS=500;X-TITLE=Longformacus Village Hall\, Duns Road:geo:-2.490846,55.806866
END:VEVENT
BEGIN:VEVENT
DTSTART;TZID=Europe/London:20241209T134500
DTEND;TZID=Europe/London:20241209T151500
DTSTAMP:20260423T074142
CREATED:20241229T211842Z
LAST-MODIFIED:20241229T212132Z
UID:10000986-1733751900-1733757300@www.lammermuirlife.co.uk
SUMMARY:Chair Yoga
DESCRIPTION:Classes are 2pm-3pm
URL:https://www.lammermuirlife.co.uk/event/chair-yoga-2-2/2024-12-09/
LOCATION:Longformacus Village Hall\, Longformacus Village Hall\, Duns Road\, Longformacus\, Scottish Borders\, TD11 3PB\, United Kingdom
CATEGORIES:Events,Longformacus Village Hall
ORGANIZER;CN="Kathleen White":MAILTO:canvass.bungee.0q@icloud.com
GEO:55.806866;-2.490846
X-APPLE-STRUCTURED-LOCATION;VALUE=URI;X-ADDRESS=Longformacus Village Hall Longformacus Village Hall Duns Road Longformacus Scottish Borders TD11 3PB United Kingdom;X-APPLE-RADIUS=500;X-TITLE=Longformacus Village Hall\, Duns Road:geo:-2.490846,55.806866
END:VEVENT
BEGIN:VEVENT
DTSTART;TZID=Europe/London:20241209T110000
DTEND;TZID=Europe/London:20241209T130000
DTSTAMP:20260423T074142
CREATED:20240326T134531Z
LAST-MODIFIED:20241029T094639Z
UID:10000570-1733742000-1733749200@www.lammermuirlife.co.uk
SUMMARY:Journaling Cafe
DESCRIPTION:Corine is starting up a class where she will be showing how to make a journal book and how to keep journaling through the months ahead. \nEveryone welcome
URL:https://www.lammermuirlife.co.uk/event/journaling-cafe-3/2024-12-09/
LOCATION:Longformacus Village Hall\, Longformacus Village Hall\, Duns Road\, Longformacus\, Scottish Borders\, TD11 3PB\, United Kingdom
CATEGORIES:Events,Longformacus Village Hall
ORGANIZER;CN="Corine Craik":MAILTO:corine.craik485@btinternet.com
GEO:55.806866;-2.490846
X-APPLE-STRUCTURED-LOCATION;VALUE=URI;X-ADDRESS=Longformacus Village Hall Longformacus Village Hall Duns Road Longformacus Scottish Borders TD11 3PB United Kingdom;X-APPLE-RADIUS=500;X-TITLE=Longformacus Village Hall\, Duns Road:geo:-2.490846,55.806866
END:VEVENT
BEGIN:VEVENT
DTSTART;TZID=Europe/London:20241207T190000
DTEND;TZID=Europe/London:20241207T230000
DTSTAMP:20260423T074142
CREATED:20241113T201157Z
LAST-MODIFIED:20241116T135101Z
UID:10000981-1733598000-1733612400@www.lammermuirlife.co.uk
SUMMARY:Longformacus Christmas concert
DESCRIPTION:BYOB & NIBBLES \nMulled wine and mince pies will be served \nDonations welcome on the door
URL:https://www.lammermuirlife.co.uk/event/longformacus-christmas-concert-3/
LOCATION:Longformacus Village Hall\, Longformacus Village Hall\, Duns Road\, Longformacus\, Scottish Borders\, TD11 3PB\, United Kingdom
CATEGORIES:Events,Longformacus Village Hall
ORGANIZER;CN="Jonathan Wood":MAILTO:jonathanpwood@msn.com
GEO:55.806866;-2.490846
X-APPLE-STRUCTURED-LOCATION;VALUE=URI;X-ADDRESS=Longformacus Village Hall Longformacus Village Hall Duns Road Longformacus Scottish Borders TD11 3PB United Kingdom;X-APPLE-RADIUS=500;X-TITLE=Longformacus Village Hall\, Duns Road:geo:-2.490846,55.806866
END:VEVENT
BEGIN:VEVENT
DTSTART;TZID=Europe/London:20241207T110000
DTEND;TZID=Europe/London:20241207T130000
DTSTAMP:20260423T074142
CREATED:20240128T132035Z
LAST-MODIFIED:20240721T200608Z
UID:10000825-1733569200-1733576400@www.lammermuirlife.co.uk
SUMMARY:Windmill Coffee Shop
DESCRIPTION:Come along to the Windmill Coffee Shop every second Saturday of the month. \nEnjoy a cuppa and a fab selection of homemade cakes. \nAll welcome.
URL:https://www.lammermuirlife.co.uk/event/windmill-coffee-shop-10-2024-09-14/2024-12-07/
LOCATION:Longformacus Village Hall\, Longformacus Village Hall\, Duns Road\, Longformacus\, Scottish Borders\, TD11 3PB\, United Kingdom
CATEGORIES:Events,Longformacus Village Hall
ORGANIZER;CN="Heather Bewick":MAILTO:heath8667hl@gmail.com
GEO:55.806866;-2.490846
X-APPLE-STRUCTURED-LOCATION;VALUE=URI;X-ADDRESS=Longformacus Village Hall Longformacus Village Hall Duns Road Longformacus Scottish Borders TD11 3PB United Kingdom;X-APPLE-RADIUS=500;X-TITLE=Longformacus Village Hall\, Duns Road:geo:-2.490846,55.806866
END:VEVENT
BEGIN:VEVENT
DTSTART;TZID=Europe/London:20241206T130000
DTEND;TZID=Europe/London:20241206T160000
DTSTAMP:20260423T074142
CREATED:20240128T132649Z
LAST-MODIFIED:20240721T200049Z
UID:10000835-1733490000-1733500800@www.lammermuirlife.co.uk
SUMMARY:Preparations for Windmill Coffee Shop
DESCRIPTION:
URL:https://www.lammermuirlife.co.uk/event/preparations-for-windmill-coffee-shop-4-2024-12-13/
LOCATION:Longformacus Village Hall\, Longformacus Village Hall\, Duns Road\, Longformacus\, Scottish Borders\, TD11 3PB\, United Kingdom
CATEGORIES:Events,Longformacus Village Hall
ORGANIZER;CN="Heather Bewick":MAILTO:heath8667hl@gmail.com
GEO:55.806866;-2.490846
X-APPLE-STRUCTURED-LOCATION;VALUE=URI;X-ADDRESS=Longformacus Village Hall Longformacus Village Hall Duns Road Longformacus Scottish Borders TD11 3PB United Kingdom;X-APPLE-RADIUS=500;X-TITLE=Longformacus Village Hall\, Duns Road:geo:-2.490846,55.806866
END:VEVENT
BEGIN:VEVENT
DTSTART;TZID=Europe/London:20241206T110000
DTEND;TZID=Europe/London:20241206T120000
DTSTAMP:20260423T074142
CREATED:20240721T194520Z
LAST-MODIFIED:20240721T194520Z
UID:10000924-1733482800-1733486400@www.lammermuirlife.co.uk
SUMMARY:T'ai Chi
DESCRIPTION:
URL:https://www.lammermuirlife.co.uk/event/tai-chi-2/2024-12-06/
LOCATION:Longformacus Village Hall\, Longformacus Village Hall\, Duns Road\, Longformacus\, Scottish Borders\, TD11 3PB\, United Kingdom
CATEGORIES:Events,Longformacus Village Hall
GEO:55.806866;-2.490846
X-APPLE-STRUCTURED-LOCATION;VALUE=URI;X-ADDRESS=Longformacus Village Hall Longformacus Village Hall Duns Road Longformacus Scottish Borders TD11 3PB United Kingdom;X-APPLE-RADIUS=500;X-TITLE=Longformacus Village Hall\, Duns Road:geo:-2.490846,55.806866
END:VEVENT
BEGIN:VEVENT
DTSTART;TZID=Europe/London:20241204T140000
DTEND;TZID=Europe/London:20241204T163000
DTSTAMP:20260423T074142
CREATED:20240326T140113Z
LAST-MODIFIED:20240821T195215Z
UID:10000606-1733320800-1733329800@www.lammermuirlife.co.uk
SUMMARY:Art Classes
DESCRIPTION:To be held by Rachel Sutherland (artist and landscape architect)
URL:https://www.lammermuirlife.co.uk/event/art-classes-2-2024-08-28/2024-12-04/
LOCATION:Longformacus Village Hall\, Longformacus Village Hall\, Duns Road\, Longformacus\, Scottish Borders\, TD11 3PB\, United Kingdom
CATEGORIES:Events,Longformacus Village Hall
GEO:55.806866;-2.490846
X-APPLE-STRUCTURED-LOCATION;VALUE=URI;X-ADDRESS=Longformacus Village Hall Longformacus Village Hall Duns Road Longformacus Scottish Borders TD11 3PB United Kingdom;X-APPLE-RADIUS=500;X-TITLE=Longformacus Village Hall\, Duns Road:geo:-2.490846,55.806866
END:VEVENT
BEGIN:VEVENT
DTSTART;TZID=Europe/London:20241203T184500
DTEND;TZID=Europe/London:20241203T201500
DTSTAMP:20260423T074142
CREATED:20230829T190330Z
LAST-MODIFIED:20240212T201357Z
UID:10000795-1733251500-1733256900@www.lammermuirlife.co.uk
SUMMARY:Longformacus Choir
DESCRIPTION:
URL:https://www.lammermuirlife.co.uk/event/longformacus-choir-2/2024-12-03/
LOCATION:Longformacus Village Hall\, Longformacus Village Hall\, Duns Road\, Longformacus\, Scottish Borders\, TD11 3PB\, United Kingdom
CATEGORIES:Events,Longformacus Village Hall
ORGANIZER;CN="Kendal Mills":MAILTO:kendalmills63@gmail.com
GEO:55.806866;-2.490846
X-APPLE-STRUCTURED-LOCATION;VALUE=URI;X-ADDRESS=Longformacus Village Hall Longformacus Village Hall Duns Road Longformacus Scottish Borders TD11 3PB United Kingdom;X-APPLE-RADIUS=500;X-TITLE=Longformacus Village Hall\, Duns Road:geo:-2.490846,55.806866
END:VEVENT
BEGIN:VEVENT
DTSTART;TZID=Europe/London:20241202T193000
DTEND;TZID=Europe/London:20241202T213000
DTSTAMP:20260423T074142
CREATED:20241121T193852Z
LAST-MODIFIED:20241121T193852Z
UID:10000983-1733167800-1733175000@www.lammermuirlife.co.uk
SUMMARY:LCC/CELCA meeting
DESCRIPTION:
URL:https://www.lammermuirlife.co.uk/event/lcc-celca-meeting/
LOCATION:Longformacus Village Hall\, Longformacus Village Hall\, Duns Road\, Longformacus\, Scottish Borders\, TD11 3PB\, United Kingdom
CATEGORIES:Events,Longformacus Village Hall
GEO:55.806866;-2.490846
X-APPLE-STRUCTURED-LOCATION;VALUE=URI;X-ADDRESS=Longformacus Village Hall Longformacus Village Hall Duns Road Longformacus Scottish Borders TD11 3PB United Kingdom;X-APPLE-RADIUS=500;X-TITLE=Longformacus Village Hall\, Duns Road:geo:-2.490846,55.806866
END:VEVENT
BEGIN:VEVENT
DTSTART;TZID=Europe/London:20241202T134500
DTEND;TZID=Europe/London:20241202T151500
DTSTAMP:20260423T074142
CREATED:20240306T201458Z
LAST-MODIFIED:20240306T201458Z
UID:10000860-1733147100-1733152500@www.lammermuirlife.co.uk
SUMMARY:Chair Yoga
DESCRIPTION:Classes are 2pm-3pm
URL:https://www.lammermuirlife.co.uk/event/chair-yoga-2/2024-12-02/
LOCATION:Longformacus Village Hall\, Longformacus Village Hall\, Duns Road\, Longformacus\, Scottish Borders\, TD11 3PB\, United Kingdom
CATEGORIES:Events,Longformacus Village Hall
ORGANIZER;CN="Kathleen White":MAILTO:canvass.bungee.0q@icloud.com
GEO:55.806866;-2.490846
X-APPLE-STRUCTURED-LOCATION;VALUE=URI;X-ADDRESS=Longformacus Village Hall Longformacus Village Hall Duns Road Longformacus Scottish Borders TD11 3PB United Kingdom;X-APPLE-RADIUS=500;X-TITLE=Longformacus Village Hall\, Duns Road:geo:-2.490846,55.806866
END:VEVENT
BEGIN:VEVENT
DTSTART;TZID=Europe/London:20241202T110000
DTEND;TZID=Europe/London:20241202T130000
DTSTAMP:20260423T074142
CREATED:20240326T134531Z
LAST-MODIFIED:20241029T094639Z
UID:10000569-1733137200-1733144400@www.lammermuirlife.co.uk
SUMMARY:Journaling Cafe
DESCRIPTION:Corine is starting up a class where she will be showing how to make a journal book and how to keep journaling through the months ahead. \nEveryone welcome
URL:https://www.lammermuirlife.co.uk/event/journaling-cafe-3/2024-12-02/
LOCATION:Longformacus Village Hall\, Longformacus Village Hall\, Duns Road\, Longformacus\, Scottish Borders\, TD11 3PB\, United Kingdom
CATEGORIES:Events,Longformacus Village Hall
ORGANIZER;CN="Corine Craik":MAILTO:corine.craik485@btinternet.com
GEO:55.806866;-2.490846
X-APPLE-STRUCTURED-LOCATION;VALUE=URI;X-ADDRESS=Longformacus Village Hall Longformacus Village Hall Duns Road Longformacus Scottish Borders TD11 3PB United Kingdom;X-APPLE-RADIUS=500;X-TITLE=Longformacus Village Hall\, Duns Road:geo:-2.490846,55.806866
END:VEVENT
BEGIN:VEVENT
DTSTART;TZID=Europe/London:20241201T080000
DTEND;TZID=Europe/London:20241201T130000
DTSTAMP:20260423T074142
CREATED:20230321T195753Z
LAST-MODIFIED:20231214T205001Z
UID:10000680-1733040000-1733058000@www.lammermuirlife.co.uk
SUMMARY:Sound Meditation
DESCRIPTION:Local resident holding their relaxing gong sound bath session.
URL:https://www.lammermuirlife.co.uk/event/sound-meditation-3-2024-11-10/2024-12-01/
LOCATION:Longformacus Village Hall\, Longformacus Village Hall\, Duns Road\, Longformacus\, Scottish Borders\, TD11 3PB\, United Kingdom
CATEGORIES:Events,Longformacus Village Hall
ORGANIZER;CN="Greig Silver":MAILTO:greigsilver@protonmail.com
GEO:55.806866;-2.490846
X-APPLE-STRUCTURED-LOCATION;VALUE=URI;X-ADDRESS=Longformacus Village Hall Longformacus Village Hall Duns Road Longformacus Scottish Borders TD11 3PB United Kingdom;X-APPLE-RADIUS=500;X-TITLE=Longformacus Village Hall\, Duns Road:geo:-2.490846,55.806866
END:VEVENT
BEGIN:VEVENT
DTSTART;TZID=Europe/London:20241129T110000
DTEND;TZID=Europe/London:20241129T120000
DTSTAMP:20260423T074142
CREATED:20240721T194520Z
LAST-MODIFIED:20240721T194520Z
UID:10000923-1732878000-1732881600@www.lammermuirlife.co.uk
SUMMARY:T'ai Chi
DESCRIPTION:
URL:https://www.lammermuirlife.co.uk/event/tai-chi-2/2024-11-29/
LOCATION:Longformacus Village Hall\, Longformacus Village Hall\, Duns Road\, Longformacus\, Scottish Borders\, TD11 3PB\, United Kingdom
CATEGORIES:Events,Longformacus Village Hall
GEO:55.806866;-2.490846
X-APPLE-STRUCTURED-LOCATION;VALUE=URI;X-ADDRESS=Longformacus Village Hall Longformacus Village Hall Duns Road Longformacus Scottish Borders TD11 3PB United Kingdom;X-APPLE-RADIUS=500;X-TITLE=Longformacus Village Hall\, Duns Road:geo:-2.490846,55.806866
END:VEVENT
BEGIN:VEVENT
DTSTART;TZID=Europe/London:20241127T140000
DTEND;TZID=Europe/London:20241127T163000
DTSTAMP:20260423T074142
CREATED:20240326T140113Z
LAST-MODIFIED:20240821T195215Z
UID:10000605-1732716000-1732725000@www.lammermuirlife.co.uk
SUMMARY:Art Classes
DESCRIPTION:To be held by Rachel Sutherland (artist and landscape architect)
URL:https://www.lammermuirlife.co.uk/event/art-classes-2-2024-08-28/2024-11-27/
LOCATION:Longformacus Village Hall\, Longformacus Village Hall\, Duns Road\, Longformacus\, Scottish Borders\, TD11 3PB\, United Kingdom
CATEGORIES:Events,Longformacus Village Hall
GEO:55.806866;-2.490846
X-APPLE-STRUCTURED-LOCATION;VALUE=URI;X-ADDRESS=Longformacus Village Hall Longformacus Village Hall Duns Road Longformacus Scottish Borders TD11 3PB United Kingdom;X-APPLE-RADIUS=500;X-TITLE=Longformacus Village Hall\, Duns Road:geo:-2.490846,55.806866
END:VEVENT
BEGIN:VEVENT
DTSTART;TZID=Europe/London:20241126T184500
DTEND;TZID=Europe/London:20241126T201500
DTSTAMP:20260423T074142
CREATED:20230829T190330Z
LAST-MODIFIED:20240212T201357Z
UID:10000794-1732646700-1732652100@www.lammermuirlife.co.uk
SUMMARY:Longformacus Choir
DESCRIPTION:
URL:https://www.lammermuirlife.co.uk/event/longformacus-choir-2/2024-11-26/
LOCATION:Longformacus Village Hall\, Longformacus Village Hall\, Duns Road\, Longformacus\, Scottish Borders\, TD11 3PB\, United Kingdom
CATEGORIES:Events,Longformacus Village Hall
ORGANIZER;CN="Kendal Mills":MAILTO:kendalmills63@gmail.com
GEO:55.806866;-2.490846
X-APPLE-STRUCTURED-LOCATION;VALUE=URI;X-ADDRESS=Longformacus Village Hall Longformacus Village Hall Duns Road Longformacus Scottish Borders TD11 3PB United Kingdom;X-APPLE-RADIUS=500;X-TITLE=Longformacus Village Hall\, Duns Road:geo:-2.490846,55.806866
END:VEVENT
BEGIN:VEVENT
DTSTART;TZID=Europe/London:20241125T134500
DTEND;TZID=Europe/London:20241125T151500
DTSTAMP:20260423T074142
CREATED:20240306T201458Z
LAST-MODIFIED:20240306T201458Z
UID:10000859-1732542300-1732547700@www.lammermuirlife.co.uk
SUMMARY:Chair Yoga
DESCRIPTION:Classes are 2pm-3pm
URL:https://www.lammermuirlife.co.uk/event/chair-yoga-2/2024-11-25/
LOCATION:Longformacus Village Hall\, Longformacus Village Hall\, Duns Road\, Longformacus\, Scottish Borders\, TD11 3PB\, United Kingdom
CATEGORIES:Events,Longformacus Village Hall
ORGANIZER;CN="Kathleen White":MAILTO:canvass.bungee.0q@icloud.com
GEO:55.806866;-2.490846
X-APPLE-STRUCTURED-LOCATION;VALUE=URI;X-ADDRESS=Longformacus Village Hall Longformacus Village Hall Duns Road Longformacus Scottish Borders TD11 3PB United Kingdom;X-APPLE-RADIUS=500;X-TITLE=Longformacus Village Hall\, Duns Road:geo:-2.490846,55.806866
END:VEVENT
BEGIN:VEVENT
DTSTART;TZID=Europe/London:20241125T110000
DTEND;TZID=Europe/London:20241125T130000
DTSTAMP:20260423T074142
CREATED:20240326T134531Z
LAST-MODIFIED:20241029T094639Z
UID:10000568-1732532400-1732539600@www.lammermuirlife.co.uk
SUMMARY:Journaling Cafe
DESCRIPTION:Corine is starting up a class where she will be showing how to make a journal book and how to keep journaling through the months ahead. \nEveryone welcome
URL:https://www.lammermuirlife.co.uk/event/journaling-cafe-3/2024-11-25/
LOCATION:Longformacus Village Hall\, Longformacus Village Hall\, Duns Road\, Longformacus\, Scottish Borders\, TD11 3PB\, United Kingdom
CATEGORIES:Events,Longformacus Village Hall
ORGANIZER;CN="Corine Craik":MAILTO:corine.craik485@btinternet.com
GEO:55.806866;-2.490846
X-APPLE-STRUCTURED-LOCATION;VALUE=URI;X-ADDRESS=Longformacus Village Hall Longformacus Village Hall Duns Road Longformacus Scottish Borders TD11 3PB United Kingdom;X-APPLE-RADIUS=500;X-TITLE=Longformacus Village Hall\, Duns Road:geo:-2.490846,55.806866
END:VEVENT
END:VCALENDAR