BEGIN:VCALENDAR
VERSION:2.0
PRODID:-//Lammermuir Community Website - ECPv6.15.20//NONSGML v1.0//EN
CALSCALE:GREGORIAN
METHOD:PUBLISH
X-WR-CALNAME:Lammermuir Community Website
X-ORIGINAL-URL:https://www.lammermuirlife.co.uk
X-WR-CALDESC:Events for Lammermuir Community Website
REFRESH-INTERVAL;VALUE=DURATION:PT1H
X-Robots-Tag:noindex
X-PUBLISHED-TTL:PT1H
BEGIN:VTIMEZONE
TZID:Europe/London
BEGIN:DAYLIGHT
TZOFFSETFROM:+0000
TZOFFSETTO:+0100
TZNAME:BST
DTSTART:20240331T010000
END:DAYLIGHT
BEGIN:STANDARD
TZOFFSETFROM:+0100
TZOFFSETTO:+0000
TZNAME:GMT
DTSTART:20241027T010000
END:STANDARD
BEGIN:DAYLIGHT
TZOFFSETFROM:+0000
TZOFFSETTO:+0100
TZNAME:BST
DTSTART:20250330T010000
END:DAYLIGHT
BEGIN:STANDARD
TZOFFSETFROM:+0100
TZOFFSETTO:+0000
TZNAME:GMT
DTSTART:20251026T010000
END:STANDARD
BEGIN:DAYLIGHT
TZOFFSETFROM:+0000
TZOFFSETTO:+0100
TZNAME:BST
DTSTART:20260329T010000
END:DAYLIGHT
BEGIN:STANDARD
TZOFFSETFROM:+0100
TZOFFSETTO:+0000
TZNAME:GMT
DTSTART:20261025T010000
END:STANDARD
END:VTIMEZONE
BEGIN:VEVENT
DTSTART;TZID=Europe/London:20250817T130000
DTEND;TZID=Europe/London:20250817T173000
DTSTAMP:20260422T233106
CREATED:20250107T203258Z
LAST-MODIFIED:20250508T144305Z
UID:10001357-1755435600-1755451800@www.lammermuirlife.co.uk
SUMMARY:Heritage Centre - Opening day
DESCRIPTION:Using the hall for teas and coffee
URL:https://www.lammermuirlife.co.uk/event/heritage-centre-opening-day-3/
LOCATION:Longformacus Village Hall\, Longformacus Village Hall\, Duns Road\, Longformacus\, Scottish Borders\, TD11 3PB\, United Kingdom
CATEGORIES:Events,Longformacus Village Hall
ORGANIZER;CN="Kathleen White":MAILTO:canvass.bungee.0q@icloud.com
GEO:55.806866;-2.490846
X-APPLE-STRUCTURED-LOCATION;VALUE=URI;X-ADDRESS=Longformacus Village Hall Longformacus Village Hall Duns Road Longformacus Scottish Borders TD11 3PB United Kingdom;X-APPLE-RADIUS=500;X-TITLE=Longformacus Village Hall\, Duns Road:geo:-2.490846,55.806866
END:VEVENT
BEGIN:VEVENT
DTSTART;TZID=Europe/London:20250811T110000
DTEND;TZID=Europe/London:20250811T130000
DTSTAMP:20260422T233106
CREATED:20250104T150855Z
LAST-MODIFIED:20250717T194649Z
UID:10001018-1754910000-1754917200@www.lammermuirlife.co.uk
SUMMARY:Journaling Cafe
DESCRIPTION:Come along and start a project or finish one! \nEveryone welcome \n 
URL:https://www.lammermuirlife.co.uk/event/journaling-cafe-4/2025-08-11/
LOCATION:Longformacus Village Hall\, Longformacus Village Hall\, Duns Road\, Longformacus\, Scottish Borders\, TD11 3PB\, United Kingdom
CATEGORIES:Events,Longformacus Village Hall
ORGANIZER;CN="Corine Craik":MAILTO:corine.craik485@btinternet.com
GEO:55.806866;-2.490846
X-APPLE-STRUCTURED-LOCATION;VALUE=URI;X-ADDRESS=Longformacus Village Hall Longformacus Village Hall Duns Road Longformacus Scottish Borders TD11 3PB United Kingdom;X-APPLE-RADIUS=500;X-TITLE=Longformacus Village Hall\, Duns Road:geo:-2.490846,55.806866
END:VEVENT
BEGIN:VEVENT
DTSTART;TZID=Europe/London:20250808T090000
DTEND;TZID=Europe/London:20250808T130000
DTSTAMP:20260422T233106
CREATED:20250717T195414Z
LAST-MODIFIED:20250717T195414Z
UID:10001630-1754643600-1754658000@www.lammermuirlife.co.uk
SUMMARY:Learn with Lizzie Holiday Club
DESCRIPTION:Sessions will run from 9am – 12pm. \nCELCA resident kids only. \nThis is ticket only event.
URL:https://www.lammermuirlife.co.uk/event/learn-with-lizzie-holiday-club/2025-08-08/
LOCATION:Longformacus Village Hall\, Longformacus Village Hall\, Duns Road\, Longformacus\, Scottish Borders\, TD11 3PB\, United Kingdom
CATEGORIES:Events,Longformacus Village Hall
ORGANIZER;CN="Lorna Pate":MAILTO:lorna_pate@hotmail.com
GEO:55.806866;-2.490846
X-APPLE-STRUCTURED-LOCATION;VALUE=URI;X-ADDRESS=Longformacus Village Hall Longformacus Village Hall Duns Road Longformacus Scottish Borders TD11 3PB United Kingdom;X-APPLE-RADIUS=500;X-TITLE=Longformacus Village Hall\, Duns Road:geo:-2.490846,55.806866
END:VEVENT
BEGIN:VEVENT
DTSTART;TZID=Europe/London:20250807T090000
DTEND;TZID=Europe/London:20250807T130000
DTSTAMP:20260422T233106
CREATED:20250717T195414Z
LAST-MODIFIED:20250717T195414Z
UID:10001629-1754557200-1754571600@www.lammermuirlife.co.uk
SUMMARY:Learn with Lizzie Holiday Club
DESCRIPTION:Sessions will run from 9am – 12pm. \nCELCA resident kids only. \nThis is ticket only event.
URL:https://www.lammermuirlife.co.uk/event/learn-with-lizzie-holiday-club/2025-08-07/
LOCATION:Longformacus Village Hall\, Longformacus Village Hall\, Duns Road\, Longformacus\, Scottish Borders\, TD11 3PB\, United Kingdom
CATEGORIES:Events,Longformacus Village Hall
ORGANIZER;CN="Lorna Pate":MAILTO:lorna_pate@hotmail.com
GEO:55.806866;-2.490846
X-APPLE-STRUCTURED-LOCATION;VALUE=URI;X-ADDRESS=Longformacus Village Hall Longformacus Village Hall Duns Road Longformacus Scottish Borders TD11 3PB United Kingdom;X-APPLE-RADIUS=500;X-TITLE=Longformacus Village Hall\, Duns Road:geo:-2.490846,55.806866
END:VEVENT
BEGIN:VEVENT
DTSTART;TZID=Europe/London:20250806T090000
DTEND;TZID=Europe/London:20250806T130000
DTSTAMP:20260422T233106
CREATED:20250717T195414Z
LAST-MODIFIED:20250717T195414Z
UID:10001628-1754470800-1754485200@www.lammermuirlife.co.uk
SUMMARY:Learn with Lizzie Holiday Club
DESCRIPTION:Sessions will run from 9am – 12pm. \nCELCA resident kids only. \nThis is ticket only event.
URL:https://www.lammermuirlife.co.uk/event/learn-with-lizzie-holiday-club/2025-08-06/
LOCATION:Longformacus Village Hall\, Longformacus Village Hall\, Duns Road\, Longformacus\, Scottish Borders\, TD11 3PB\, United Kingdom
CATEGORIES:Events,Longformacus Village Hall
ORGANIZER;CN="Lorna Pate":MAILTO:lorna_pate@hotmail.com
GEO:55.806866;-2.490846
X-APPLE-STRUCTURED-LOCATION;VALUE=URI;X-ADDRESS=Longformacus Village Hall Longformacus Village Hall Duns Road Longformacus Scottish Borders TD11 3PB United Kingdom;X-APPLE-RADIUS=500;X-TITLE=Longformacus Village Hall\, Duns Road:geo:-2.490846,55.806866
END:VEVENT
BEGIN:VEVENT
DTSTART;TZID=Europe/London:20250805T090000
DTEND;TZID=Europe/London:20250805T130000
DTSTAMP:20260422T233106
CREATED:20250717T195414Z
LAST-MODIFIED:20250717T195414Z
UID:10001627-1754384400-1754398800@www.lammermuirlife.co.uk
SUMMARY:Learn with Lizzie Holiday Club
DESCRIPTION:Sessions will run from 9am – 12pm. \nCELCA resident kids only. \nThis is ticket only event.
URL:https://www.lammermuirlife.co.uk/event/learn-with-lizzie-holiday-club/2025-08-05/
LOCATION:Longformacus Village Hall\, Longformacus Village Hall\, Duns Road\, Longformacus\, Scottish Borders\, TD11 3PB\, United Kingdom
CATEGORIES:Events,Longformacus Village Hall
ORGANIZER;CN="Lorna Pate":MAILTO:lorna_pate@hotmail.com
GEO:55.806866;-2.490846
X-APPLE-STRUCTURED-LOCATION;VALUE=URI;X-ADDRESS=Longformacus Village Hall Longformacus Village Hall Duns Road Longformacus Scottish Borders TD11 3PB United Kingdom;X-APPLE-RADIUS=500;X-TITLE=Longformacus Village Hall\, Duns Road:geo:-2.490846,55.806866
END:VEVENT
BEGIN:VEVENT
DTSTART;TZID=Europe/London:20250804T090000
DTEND;TZID=Europe/London:20250804T130000
DTSTAMP:20260422T233106
CREATED:20250717T195414Z
LAST-MODIFIED:20250717T195414Z
UID:10001626-1754298000-1754312400@www.lammermuirlife.co.uk
SUMMARY:Learn with Lizzie Holiday Club
DESCRIPTION:Sessions will run from 9am – 12pm. \nCELCA resident kids only. \nThis is ticket only event.
URL:https://www.lammermuirlife.co.uk/event/learn-with-lizzie-holiday-club/2025-08-04/
LOCATION:Longformacus Village Hall\, Longformacus Village Hall\, Duns Road\, Longformacus\, Scottish Borders\, TD11 3PB\, United Kingdom
CATEGORIES:Events,Longformacus Village Hall
ORGANIZER;CN="Lorna Pate":MAILTO:lorna_pate@hotmail.com
GEO:55.806866;-2.490846
X-APPLE-STRUCTURED-LOCATION;VALUE=URI;X-ADDRESS=Longformacus Village Hall Longformacus Village Hall Duns Road Longformacus Scottish Borders TD11 3PB United Kingdom;X-APPLE-RADIUS=500;X-TITLE=Longformacus Village Hall\, Duns Road:geo:-2.490846,55.806866
END:VEVENT
BEGIN:VEVENT
DTSTART;TZID=Europe/London:20250601T000000
DTEND;TZID=Europe/London:20250731T235900
DTSTAMP:20260422T233106
CREATED:20250508T152633Z
LAST-MODIFIED:20250508T152633Z
UID:10001620-1748736000-1754006340@www.lammermuirlife.co.uk
SUMMARY:HALL CLOSED
DESCRIPTION:LONGFORMACUS VILLAGE HALL IS CLOSED FOR APPROX 8 WEEKS DUE TO RENOVATION WORK TAKING PLACE. \nREOPENING DATE TBC
URL:https://www.lammermuirlife.co.uk/event/hall-closed/
LOCATION:Longformacus Village Hall\, Longformacus Village Hall\, Duns Road\, Longformacus\, Scottish Borders\, TD11 3PB\, United Kingdom
CATEGORIES:Events,Longformacus Village Hall
ORGANIZER;CN="Jonathan Wood":MAILTO:jonathanpwood@msn.com
GEO:55.806866;-2.490846
X-APPLE-STRUCTURED-LOCATION;VALUE=URI;X-ADDRESS=Longformacus Village Hall Longformacus Village Hall Duns Road Longformacus Scottish Borders TD11 3PB United Kingdom;X-APPLE-RADIUS=500;X-TITLE=Longformacus Village Hall\, Duns Road:geo:-2.490846,55.806866
END:VEVENT
BEGIN:VEVENT
DTSTART;TZID=Europe/London:20250531T180000
DTEND;TZID=Europe/London:20250531T230000
DTSTAMP:20260422T233106
CREATED:20250107T202844Z
LAST-MODIFIED:20250107T202844Z
UID:10001355-1748714400-1748732400@www.lammermuirlife.co.uk
SUMMARY:Heritage Centre - Scottish Concert
DESCRIPTION:
URL:https://www.lammermuirlife.co.uk/event/heritage-centre-scottish-concert/
LOCATION:Longformacus Village Hall\, Longformacus Village Hall\, Duns Road\, Longformacus\, Scottish Borders\, TD11 3PB\, United Kingdom
CATEGORIES:Events,Longformacus Village Hall
ORGANIZER;CN="Kathleen White":MAILTO:canvass.bungee.0q@icloud.com
GEO:55.806866;-2.490846
X-APPLE-STRUCTURED-LOCATION;VALUE=URI;X-ADDRESS=Longformacus Village Hall Longformacus Village Hall Duns Road Longformacus Scottish Borders TD11 3PB United Kingdom;X-APPLE-RADIUS=500;X-TITLE=Longformacus Village Hall\, Duns Road:geo:-2.490846,55.806866
END:VEVENT
BEGIN:VEVENT
DTSTART;TZID=Europe/London:20250530T130000
DTEND;TZID=Europe/London:20250530T150000
DTSTAMP:20260422T233106
CREATED:20250528T191531Z
LAST-MODIFIED:20250528T191532Z
UID:10001531-1748610000-1748617200@www.lammermuirlife.co.uk
SUMMARY:Kids Club
DESCRIPTION:1pm- 3pm \nSnacks and Drinks available \nEveryone Welcome
URL:https://www.lammermuirlife.co.uk/event/kids-club-3-2-2-2/
LOCATION:Longformacus Village Hall\, Longformacus Village Hall\, Duns Road\, Longformacus\, Scottish Borders\, TD11 3PB\, United Kingdom
CATEGORIES:Events,Longformacus Village Hall
ORGANIZER;CN="Heather Bewick":MAILTO:heath8667hl@gmail.com
GEO:55.806866;-2.490846
X-APPLE-STRUCTURED-LOCATION;VALUE=URI;X-ADDRESS=Longformacus Village Hall Longformacus Village Hall Duns Road Longformacus Scottish Borders TD11 3PB United Kingdom;X-APPLE-RADIUS=500;X-TITLE=Longformacus Village Hall\, Duns Road:geo:-2.490846,55.806866
END:VEVENT
BEGIN:VEVENT
DTSTART;TZID=Europe/London:20250530T110000
DTEND;TZID=Europe/London:20250530T120000
DTSTAMP:20260422T233106
CREATED:20250508T151014Z
LAST-MODIFIED:20250508T151014Z
UID:10001262-1748602800-1748606400@www.lammermuirlife.co.uk
SUMMARY:T'ai Chi
DESCRIPTION:
URL:https://www.lammermuirlife.co.uk/event/tai-chi-3-2/2025-05-30/
LOCATION:Longformacus Village Hall\, Longformacus Village Hall\, Duns Road\, Longformacus\, Scottish Borders\, TD11 3PB\, United Kingdom
CATEGORIES:Events,Longformacus Village Hall
GEO:55.806866;-2.490846
X-APPLE-STRUCTURED-LOCATION;VALUE=URI;X-ADDRESS=Longformacus Village Hall Longformacus Village Hall Duns Road Longformacus Scottish Borders TD11 3PB United Kingdom;X-APPLE-RADIUS=500;X-TITLE=Longformacus Village Hall\, Duns Road:geo:-2.490846,55.806866
END:VEVENT
BEGIN:VEVENT
DTSTART;TZID=Europe/London:20250529T160000
DTEND;TZID=Europe/London:20250530T090000
DTSTAMP:20260422T233106
CREATED:20250318T203611Z
LAST-MODIFIED:20250515T121514Z
UID:10001535-1748534400-1748595600@www.lammermuirlife.co.uk
SUMMARY:Duke of Edinburgh
DESCRIPTION:DoE using the hall facilities whilst camping in nearby field overnight
URL:https://www.lammermuirlife.co.uk/event/duke-of-edinburgh/
LOCATION:Longformacus Village Hall\, Longformacus Village Hall\, Duns Road\, Longformacus\, Scottish Borders\, TD11 3PB\, United Kingdom
CATEGORIES:Events,Longformacus Village Hall
GEO:55.806866;-2.490846
X-APPLE-STRUCTURED-LOCATION;VALUE=URI;X-ADDRESS=Longformacus Village Hall Longformacus Village Hall Duns Road Longformacus Scottish Borders TD11 3PB United Kingdom;X-APPLE-RADIUS=500;X-TITLE=Longformacus Village Hall\, Duns Road:geo:-2.490846,55.806866
END:VEVENT
BEGIN:VEVENT
DTSTART;TZID=Europe/London:20250528T140000
DTEND;TZID=Europe/London:20250528T163000
DTSTAMP:20260422T233106
CREATED:20250122T205602Z
LAST-MODIFIED:20250508T150646Z
UID:10001549-1748440800-1748449800@www.lammermuirlife.co.uk
SUMMARY:Art Class
DESCRIPTION:Held by Rachel Sutherland (artist and landscape architect)
URL:https://www.lammermuirlife.co.uk/event/art-class-2/2025-05-28/
LOCATION:Longformacus Village Hall\, Longformacus Village Hall\, Duns Road\, Longformacus\, Scottish Borders\, TD11 3PB\, United Kingdom
CATEGORIES:Events,Longformacus Village Hall
GEO:55.806866;-2.490846
X-APPLE-STRUCTURED-LOCATION;VALUE=URI;X-ADDRESS=Longformacus Village Hall Longformacus Village Hall Duns Road Longformacus Scottish Borders TD11 3PB United Kingdom;X-APPLE-RADIUS=500;X-TITLE=Longformacus Village Hall\, Duns Road:geo:-2.490846,55.806866
END:VEVENT
BEGIN:VEVENT
DTSTART;TZID=Europe/London:20250527T184500
DTEND;TZID=Europe/London:20250527T201500
DTSTAMP:20260422T233106
CREATED:20250104T155217Z
LAST-MODIFIED:20250508T150506Z
UID:10001107-1748371500-1748376900@www.lammermuirlife.co.uk
SUMMARY:Longformacus Choir
DESCRIPTION:
URL:https://www.lammermuirlife.co.uk/event/longformacus-choir-3/2025-05-27/
LOCATION:Longformacus Village Hall\, Longformacus Village Hall\, Duns Road\, Longformacus\, Scottish Borders\, TD11 3PB\, United Kingdom
CATEGORIES:Events,Longformacus Village Hall
ORGANIZER;CN="Kendal Mills":MAILTO:kendalmills63@gmail.com
GEO:55.806866;-2.490846
X-APPLE-STRUCTURED-LOCATION;VALUE=URI;X-ADDRESS=Longformacus Village Hall Longformacus Village Hall Duns Road Longformacus Scottish Borders TD11 3PB United Kingdom;X-APPLE-RADIUS=500;X-TITLE=Longformacus Village Hall\, Duns Road:geo:-2.490846,55.806866
END:VEVENT
BEGIN:VEVENT
DTSTART;TZID=Europe/London:20250526T134500
DTEND;TZID=Europe/London:20250526T151500
DTSTAMP:20260422T233106
CREATED:20240306T202154Z
LAST-MODIFIED:20250508T150321Z
UID:10000882-1748267100-1748272500@www.lammermuirlife.co.uk
SUMMARY:Chair Yoga
DESCRIPTION:Classes are 2pm-3pm
URL:https://www.lammermuirlife.co.uk/event/chair-yoga-3/2025-05-26/
LOCATION:Longformacus Village Hall\, Longformacus Village Hall\, Duns Road\, Longformacus\, Scottish Borders\, TD11 3PB\, United Kingdom
CATEGORIES:Events,Longformacus Village Hall
ORGANIZER;CN="Kathleen White":MAILTO:canvass.bungee.0q@icloud.com
GEO:55.806866;-2.490846
X-APPLE-STRUCTURED-LOCATION;VALUE=URI;X-ADDRESS=Longformacus Village Hall Longformacus Village Hall Duns Road Longformacus Scottish Borders TD11 3PB United Kingdom;X-APPLE-RADIUS=500;X-TITLE=Longformacus Village Hall\, Duns Road:geo:-2.490846,55.806866
END:VEVENT
BEGIN:VEVENT
DTSTART;TZID=Europe/London:20250526T110000
DTEND;TZID=Europe/London:20250526T130000
DTSTAMP:20260422T233106
CREATED:20250104T150855Z
LAST-MODIFIED:20250717T194649Z
UID:10001610-1748257200-1748264400@www.lammermuirlife.co.uk
SUMMARY:Journaling Cafe
DESCRIPTION:Come along and start a project or finish one! \nEveryone welcome \n 
URL:https://www.lammermuirlife.co.uk/event/journaling-cafe-4/2025-05-26/
LOCATION:Longformacus Village Hall\, Longformacus Village Hall\, Duns Road\, Longformacus\, Scottish Borders\, TD11 3PB\, United Kingdom
CATEGORIES:Events,Longformacus Village Hall
ORGANIZER;CN="Corine Craik":MAILTO:corine.craik485@btinternet.com
GEO:55.806866;-2.490846
X-APPLE-STRUCTURED-LOCATION;VALUE=URI;X-ADDRESS=Longformacus Village Hall Longformacus Village Hall Duns Road Longformacus Scottish Borders TD11 3PB United Kingdom;X-APPLE-RADIUS=500;X-TITLE=Longformacus Village Hall\, Duns Road:geo:-2.490846,55.806866
END:VEVENT
BEGIN:VEVENT
DTSTART;TZID=Europe/London:20250525T090000
DTEND;TZID=Europe/London:20250525T140000
DTSTAMP:20260422T233106
CREATED:20250204T102718Z
LAST-MODIFIED:20251020T143726Z
UID:10001621-1748163600-1748181600@www.lammermuirlife.co.uk
SUMMARY:Sound Journey
DESCRIPTION:Local resident holding their relaxing sound meditation session
URL:https://www.lammermuirlife.co.uk/event/sound-journey/2025-05-25/
LOCATION:Longformacus Village Hall\, Longformacus Village Hall\, Duns Road\, Longformacus\, Scottish Borders\, TD11 3PB\, United Kingdom
CATEGORIES:Events,Longformacus Village Hall
ORGANIZER;CN="Greig Silver":MAILTO:greigsilver@protonmail.com
GEO:55.806866;-2.490846
X-APPLE-STRUCTURED-LOCATION;VALUE=URI;X-ADDRESS=Longformacus Village Hall Longformacus Village Hall Duns Road Longformacus Scottish Borders TD11 3PB United Kingdom;X-APPLE-RADIUS=500;X-TITLE=Longformacus Village Hall\, Duns Road:geo:-2.490846,55.806866
END:VEVENT
BEGIN:VEVENT
DTSTART;TZID=Europe/London:20250523T110000
DTEND;TZID=Europe/London:20250523T120000
DTSTAMP:20260422T233106
CREATED:20250508T151014Z
LAST-MODIFIED:20250508T151014Z
UID:10001261-1747998000-1748001600@www.lammermuirlife.co.uk
SUMMARY:T'ai Chi
DESCRIPTION:
URL:https://www.lammermuirlife.co.uk/event/tai-chi-3-2/2025-05-23/
LOCATION:Longformacus Village Hall\, Longformacus Village Hall\, Duns Road\, Longformacus\, Scottish Borders\, TD11 3PB\, United Kingdom
CATEGORIES:Events,Longformacus Village Hall
GEO:55.806866;-2.490846
X-APPLE-STRUCTURED-LOCATION;VALUE=URI;X-ADDRESS=Longformacus Village Hall Longformacus Village Hall Duns Road Longformacus Scottish Borders TD11 3PB United Kingdom;X-APPLE-RADIUS=500;X-TITLE=Longformacus Village Hall\, Duns Road:geo:-2.490846,55.806866
END:VEVENT
BEGIN:VEVENT
DTSTART;TZID=Europe/London:20250521T140000
DTEND;TZID=Europe/London:20250521T163000
DTSTAMP:20260422T233106
CREATED:20250122T205602Z
LAST-MODIFIED:20250508T150646Z
UID:10001548-1747836000-1747845000@www.lammermuirlife.co.uk
SUMMARY:Art Class
DESCRIPTION:Held by Rachel Sutherland (artist and landscape architect)
URL:https://www.lammermuirlife.co.uk/event/art-class-2/2025-05-21/
LOCATION:Longformacus Village Hall\, Longformacus Village Hall\, Duns Road\, Longformacus\, Scottish Borders\, TD11 3PB\, United Kingdom
CATEGORIES:Events,Longformacus Village Hall
GEO:55.806866;-2.490846
X-APPLE-STRUCTURED-LOCATION;VALUE=URI;X-ADDRESS=Longformacus Village Hall Longformacus Village Hall Duns Road Longformacus Scottish Borders TD11 3PB United Kingdom;X-APPLE-RADIUS=500;X-TITLE=Longformacus Village Hall\, Duns Road:geo:-2.490846,55.806866
END:VEVENT
BEGIN:VEVENT
DTSTART;TZID=Europe/London:20250520T184500
DTEND;TZID=Europe/London:20250520T201500
DTSTAMP:20260422T233106
CREATED:20250104T155217Z
LAST-MODIFIED:20250508T150506Z
UID:10001106-1747766700-1747772100@www.lammermuirlife.co.uk
SUMMARY:Longformacus Choir
DESCRIPTION:
URL:https://www.lammermuirlife.co.uk/event/longformacus-choir-3/2025-05-20/
LOCATION:Longformacus Village Hall\, Longformacus Village Hall\, Duns Road\, Longformacus\, Scottish Borders\, TD11 3PB\, United Kingdom
CATEGORIES:Events,Longformacus Village Hall
ORGANIZER;CN="Kendal Mills":MAILTO:kendalmills63@gmail.com
GEO:55.806866;-2.490846
X-APPLE-STRUCTURED-LOCATION;VALUE=URI;X-ADDRESS=Longformacus Village Hall Longformacus Village Hall Duns Road Longformacus Scottish Borders TD11 3PB United Kingdom;X-APPLE-RADIUS=500;X-TITLE=Longformacus Village Hall\, Duns Road:geo:-2.490846,55.806866
END:VEVENT
BEGIN:VEVENT
DTSTART;TZID=Europe/London:20250520T110000
DTEND;TZID=Europe/London:20250520T120000
DTSTAMP:20260422T233106
CREATED:20250413T183153Z
LAST-MODIFIED:20250413T183153Z
UID:10001560-1747738800-1747742400@www.lammermuirlife.co.uk
SUMMARY:Canine evaluation
DESCRIPTION:
URL:https://www.lammermuirlife.co.uk/event/canine-evaluation-2/
LOCATION:Longformacus Village Hall\, Longformacus Village Hall\, Duns Road\, Longformacus\, Scottish Borders\, TD11 3PB\, United Kingdom
CATEGORIES:Events,Longformacus Village Hall
GEO:55.806866;-2.490846
X-APPLE-STRUCTURED-LOCATION;VALUE=URI;X-ADDRESS=Longformacus Village Hall Longformacus Village Hall Duns Road Longformacus Scottish Borders TD11 3PB United Kingdom;X-APPLE-RADIUS=500;X-TITLE=Longformacus Village Hall\, Duns Road:geo:-2.490846,55.806866
END:VEVENT
BEGIN:VEVENT
DTSTART;TZID=Europe/London:20250519T134500
DTEND;TZID=Europe/London:20250519T151500
DTSTAMP:20260422T233106
CREATED:20240306T202154Z
LAST-MODIFIED:20250508T150321Z
UID:10000881-1747662300-1747667700@www.lammermuirlife.co.uk
SUMMARY:Chair Yoga
DESCRIPTION:Classes are 2pm-3pm
URL:https://www.lammermuirlife.co.uk/event/chair-yoga-3/2025-05-19/
LOCATION:Longformacus Village Hall\, Longformacus Village Hall\, Duns Road\, Longformacus\, Scottish Borders\, TD11 3PB\, United Kingdom
CATEGORIES:Events,Longformacus Village Hall
ORGANIZER;CN="Kathleen White":MAILTO:canvass.bungee.0q@icloud.com
GEO:55.806866;-2.490846
X-APPLE-STRUCTURED-LOCATION;VALUE=URI;X-ADDRESS=Longformacus Village Hall Longformacus Village Hall Duns Road Longformacus Scottish Borders TD11 3PB United Kingdom;X-APPLE-RADIUS=500;X-TITLE=Longformacus Village Hall\, Duns Road:geo:-2.490846,55.806866
END:VEVENT
BEGIN:VEVENT
DTSTART;TZID=Europe/London:20250519T110000
DTEND;TZID=Europe/London:20250519T130000
DTSTAMP:20260422T233106
CREATED:20250104T150855Z
LAST-MODIFIED:20250717T194649Z
UID:10001609-1747652400-1747659600@www.lammermuirlife.co.uk
SUMMARY:Journaling Cafe
DESCRIPTION:Come along and start a project or finish one! \nEveryone welcome \n 
URL:https://www.lammermuirlife.co.uk/event/journaling-cafe-4/2025-05-19/
LOCATION:Longformacus Village Hall\, Longformacus Village Hall\, Duns Road\, Longformacus\, Scottish Borders\, TD11 3PB\, United Kingdom
CATEGORIES:Events,Longformacus Village Hall
ORGANIZER;CN="Corine Craik":MAILTO:corine.craik485@btinternet.com
GEO:55.806866;-2.490846
X-APPLE-STRUCTURED-LOCATION;VALUE=URI;X-ADDRESS=Longformacus Village Hall Longformacus Village Hall Duns Road Longformacus Scottish Borders TD11 3PB United Kingdom;X-APPLE-RADIUS=500;X-TITLE=Longformacus Village Hall\, Duns Road:geo:-2.490846,55.806866
END:VEVENT
BEGIN:VEVENT
DTSTART;TZID=Europe/London:20250516T110000
DTEND;TZID=Europe/London:20250516T120000
DTSTAMP:20260422T233106
CREATED:20250508T151014Z
LAST-MODIFIED:20250508T151014Z
UID:10001260-1747393200-1747396800@www.lammermuirlife.co.uk
SUMMARY:T'ai Chi
DESCRIPTION:
URL:https://www.lammermuirlife.co.uk/event/tai-chi-3-2/2025-05-16/
LOCATION:Longformacus Village Hall\, Longformacus Village Hall\, Duns Road\, Longformacus\, Scottish Borders\, TD11 3PB\, United Kingdom
CATEGORIES:Events,Longformacus Village Hall
GEO:55.806866;-2.490846
X-APPLE-STRUCTURED-LOCATION;VALUE=URI;X-ADDRESS=Longformacus Village Hall Longformacus Village Hall Duns Road Longformacus Scottish Borders TD11 3PB United Kingdom;X-APPLE-RADIUS=500;X-TITLE=Longformacus Village Hall\, Duns Road:geo:-2.490846,55.806866
END:VEVENT
BEGIN:VEVENT
DTSTART;TZID=Europe/London:20250514T180000
DTEND;TZID=Europe/London:20250514T200000
DTSTAMP:20260422T233106
CREATED:20250422T085453Z
LAST-MODIFIED:20250422T085453Z
UID:10001562-1747245600-1747252800@www.lammermuirlife.co.uk
SUMMARY:Blackhill Windfarm Community Fund Meeting
DESCRIPTION:
URL:https://www.lammermuirlife.co.uk/event/blackhill-windfarm-community-fund-meeting/
LOCATION:Longformacus Village Hall\, Longformacus Village Hall\, Duns Road\, Longformacus\, Scottish Borders\, TD11 3PB\, United Kingdom
CATEGORIES:Events,Longformacus Village Hall
GEO:55.806866;-2.490846
X-APPLE-STRUCTURED-LOCATION;VALUE=URI;X-ADDRESS=Longformacus Village Hall Longformacus Village Hall Duns Road Longformacus Scottish Borders TD11 3PB United Kingdom;X-APPLE-RADIUS=500;X-TITLE=Longformacus Village Hall\, Duns Road:geo:-2.490846,55.806866
END:VEVENT
BEGIN:VEVENT
DTSTART;TZID=Europe/London:20250514T140000
DTEND;TZID=Europe/London:20250514T163000
DTSTAMP:20260422T233106
CREATED:20250122T205602Z
LAST-MODIFIED:20250508T150646Z
UID:10001547-1747231200-1747240200@www.lammermuirlife.co.uk
SUMMARY:Art Class
DESCRIPTION:Held by Rachel Sutherland (artist and landscape architect)
URL:https://www.lammermuirlife.co.uk/event/art-class-2/2025-05-14/
LOCATION:Longformacus Village Hall\, Longformacus Village Hall\, Duns Road\, Longformacus\, Scottish Borders\, TD11 3PB\, United Kingdom
CATEGORIES:Events,Longformacus Village Hall
GEO:55.806866;-2.490846
X-APPLE-STRUCTURED-LOCATION;VALUE=URI;X-ADDRESS=Longformacus Village Hall Longformacus Village Hall Duns Road Longformacus Scottish Borders TD11 3PB United Kingdom;X-APPLE-RADIUS=500;X-TITLE=Longformacus Village Hall\, Duns Road:geo:-2.490846,55.806866
END:VEVENT
BEGIN:VEVENT
DTSTART;TZID=Europe/London:20250513T184500
DTEND;TZID=Europe/London:20250513T201500
DTSTAMP:20260422T233106
CREATED:20250104T155217Z
LAST-MODIFIED:20250508T150506Z
UID:10001105-1747161900-1747167300@www.lammermuirlife.co.uk
SUMMARY:Longformacus Choir
DESCRIPTION:
URL:https://www.lammermuirlife.co.uk/event/longformacus-choir-3/2025-05-13/
LOCATION:Longformacus Village Hall\, Longformacus Village Hall\, Duns Road\, Longformacus\, Scottish Borders\, TD11 3PB\, United Kingdom
CATEGORIES:Events,Longformacus Village Hall
ORGANIZER;CN="Kendal Mills":MAILTO:kendalmills63@gmail.com
GEO:55.806866;-2.490846
X-APPLE-STRUCTURED-LOCATION;VALUE=URI;X-ADDRESS=Longformacus Village Hall Longformacus Village Hall Duns Road Longformacus Scottish Borders TD11 3PB United Kingdom;X-APPLE-RADIUS=500;X-TITLE=Longformacus Village Hall\, Duns Road:geo:-2.490846,55.806866
END:VEVENT
BEGIN:VEVENT
DTSTART;TZID=Europe/London:20250512T110000
DTEND;TZID=Europe/London:20250512T130000
DTSTAMP:20260422T233106
CREATED:20250104T150855Z
LAST-MODIFIED:20250717T194649Z
UID:10001608-1747047600-1747054800@www.lammermuirlife.co.uk
SUMMARY:Journaling Cafe
DESCRIPTION:Come along and start a project or finish one! \nEveryone welcome \n 
URL:https://www.lammermuirlife.co.uk/event/journaling-cafe-4/2025-05-12/
LOCATION:Longformacus Village Hall\, Longformacus Village Hall\, Duns Road\, Longformacus\, Scottish Borders\, TD11 3PB\, United Kingdom
CATEGORIES:Events,Longformacus Village Hall
ORGANIZER;CN="Corine Craik":MAILTO:corine.craik485@btinternet.com
GEO:55.806866;-2.490846
X-APPLE-STRUCTURED-LOCATION;VALUE=URI;X-ADDRESS=Longformacus Village Hall Longformacus Village Hall Duns Road Longformacus Scottish Borders TD11 3PB United Kingdom;X-APPLE-RADIUS=500;X-TITLE=Longformacus Village Hall\, Duns Road:geo:-2.490846,55.806866
END:VEVENT
BEGIN:VEVENT
DTSTART;TZID=Europe/London:20250509T130000
DTEND;TZID=Europe/London:20250509T150000
DTSTAMP:20260422T233106
CREATED:20250311T092608Z
LAST-MODIFIED:20250311T092710Z
UID:10001525-1746795600-1746802800@www.lammermuirlife.co.uk
SUMMARY:Kids Club - Lego Club
DESCRIPTION:Lego club coming to Longformacus once a month. \nAll children welcome \nPlease register on eventbrite before attending
URL:https://www.lammermuirlife.co.uk/event/kids-club-lego-club/2025-05-09/
LOCATION:Longformacus Village Hall\, Longformacus Village Hall\, Duns Road\, Longformacus\, Scottish Borders\, TD11 3PB\, United Kingdom
CATEGORIES:Events,Longformacus Village Hall
ORGANIZER;CN="Heather Bewick":MAILTO:heath8667hl@gmail.com
GEO:55.806866;-2.490846
X-APPLE-STRUCTURED-LOCATION;VALUE=URI;X-ADDRESS=Longformacus Village Hall Longformacus Village Hall Duns Road Longformacus Scottish Borders TD11 3PB United Kingdom;X-APPLE-RADIUS=500;X-TITLE=Longformacus Village Hall\, Duns Road:geo:-2.490846,55.806866
END:VEVENT
BEGIN:VEVENT
DTSTART;TZID=Europe/London:20250509T110000
DTEND;TZID=Europe/London:20250509T120000
DTSTAMP:20260422T233106
CREATED:20250508T151014Z
LAST-MODIFIED:20250508T151014Z
UID:10001259-1746788400-1746792000@www.lammermuirlife.co.uk
SUMMARY:T'ai Chi
DESCRIPTION:
URL:https://www.lammermuirlife.co.uk/event/tai-chi-3-2/2025-05-09/
LOCATION:Longformacus Village Hall\, Longformacus Village Hall\, Duns Road\, Longformacus\, Scottish Borders\, TD11 3PB\, United Kingdom
CATEGORIES:Events,Longformacus Village Hall
GEO:55.806866;-2.490846
X-APPLE-STRUCTURED-LOCATION;VALUE=URI;X-ADDRESS=Longformacus Village Hall Longformacus Village Hall Duns Road Longformacus Scottish Borders TD11 3PB United Kingdom;X-APPLE-RADIUS=500;X-TITLE=Longformacus Village Hall\, Duns Road:geo:-2.490846,55.806866
END:VEVENT
END:VCALENDAR