BEGIN:VCALENDAR
VERSION:2.0
PRODID:-//Lammermuir Community Website - ECPv6.15.20//NONSGML v1.0//EN
CALSCALE:GREGORIAN
METHOD:PUBLISH
X-WR-CALNAME:Lammermuir Community Website
X-ORIGINAL-URL:https://www.lammermuirlife.co.uk
X-WR-CALDESC:Events for Lammermuir Community Website
REFRESH-INTERVAL;VALUE=DURATION:PT1H
X-Robots-Tag:noindex
X-PUBLISHED-TTL:PT1H
BEGIN:VTIMEZONE
TZID:Europe/London
BEGIN:DAYLIGHT
TZOFFSETFROM:+0000
TZOFFSETTO:+0100
TZNAME:BST
DTSTART:20240331T010000
END:DAYLIGHT
BEGIN:STANDARD
TZOFFSETFROM:+0100
TZOFFSETTO:+0000
TZNAME:GMT
DTSTART:20241027T010000
END:STANDARD
BEGIN:DAYLIGHT
TZOFFSETFROM:+0000
TZOFFSETTO:+0100
TZNAME:BST
DTSTART:20250330T010000
END:DAYLIGHT
BEGIN:STANDARD
TZOFFSETFROM:+0100
TZOFFSETTO:+0000
TZNAME:GMT
DTSTART:20251026T010000
END:STANDARD
BEGIN:DAYLIGHT
TZOFFSETFROM:+0000
TZOFFSETTO:+0100
TZNAME:BST
DTSTART:20260329T010000
END:DAYLIGHT
BEGIN:STANDARD
TZOFFSETFROM:+0100
TZOFFSETTO:+0000
TZNAME:GMT
DTSTART:20261025T010000
END:STANDARD
END:VTIMEZONE
BEGIN:VEVENT
DTSTART;TZID=Europe/London:20251124T173000
DTEND;TZID=Europe/London:20251124T203000
DTSTAMP:20260422T032626
CREATED:20251020T143036Z
LAST-MODIFIED:20251020T143036Z
UID:10001782-1764005400-1764016200@www.lammermuirlife.co.uk
SUMMARY:Dog Training Classes
DESCRIPTION:Local resident holding dog training classes at the hall
URL:https://www.lammermuirlife.co.uk/event/dog-training-classes/2025-11-24/
LOCATION:Longformacus Village Hall\, Longformacus Village Hall\, Duns Road\, Longformacus\, Scottish Borders\, TD11 3PB\, United Kingdom
CATEGORIES:Events,Longformacus Village Hall
GEO:55.806866;-2.490846
X-APPLE-STRUCTURED-LOCATION;VALUE=URI;X-ADDRESS=Longformacus Village Hall Longformacus Village Hall Duns Road Longformacus Scottish Borders TD11 3PB United Kingdom;X-APPLE-RADIUS=500;X-TITLE=Longformacus Village Hall\, Duns Road:geo:-2.490846,55.806866
END:VEVENT
BEGIN:VEVENT
DTSTART;TZID=Europe/London:20251124T110000
DTEND;TZID=Europe/London:20251124T130000
DTSTAMP:20260422T032626
CREATED:20250104T150855Z
LAST-MODIFIED:20250717T194649Z
UID:10001033-1763982000-1763989200@www.lammermuirlife.co.uk
SUMMARY:Journaling Cafe
DESCRIPTION:Come along and start a project or finish one! \nEveryone welcome \n 
URL:https://www.lammermuirlife.co.uk/event/journaling-cafe-4/2025-11-24/
LOCATION:Longformacus Village Hall\, Longformacus Village Hall\, Duns Road\, Longformacus\, Scottish Borders\, TD11 3PB\, United Kingdom
CATEGORIES:Events,Longformacus Village Hall
ORGANIZER;CN="Corine Craik":MAILTO:corine.craik485@btinternet.com
GEO:55.806866;-2.490846
X-APPLE-STRUCTURED-LOCATION;VALUE=URI;X-ADDRESS=Longformacus Village Hall Longformacus Village Hall Duns Road Longformacus Scottish Borders TD11 3PB United Kingdom;X-APPLE-RADIUS=500;X-TITLE=Longformacus Village Hall\, Duns Road:geo:-2.490846,55.806866
END:VEVENT
BEGIN:VEVENT
DTSTART;TZID=Europe/London:20251122T183000
DTEND;TZID=Europe/London:20251122T200000
DTSTAMP:20260422T032626
CREATED:20251025T090225Z
LAST-MODIFIED:20251112T105248Z
UID:10001788-1763836200-1763841600@www.lammermuirlife.co.uk
SUMMARY:Cranshaws Ceilidh Night
DESCRIPTION:Come along and join in some traditional Scottish dancing (with people to teach and help you) \n– Refreshments\n– ⁠A Scot’s song or poem – perhaps\n– ⁠Fun and exercise \nAny questions and to book contact;\nAlison@greenhope.co.uk\nText: 07579765460 \nFREE courtesy of CELCA\nSaturday 8th\, 15th and 22nd November:\n6.30pm – 8pm
URL:https://www.lammermuirlife.co.uk/event/cranshaws-ceilidh-night/2025-11-22/
LOCATION:Cranshaws Village Hall\, Cranshaws Village Hall\, Cranshaws\, Scottish Borders\, TD11 3SJ\, United Kingdom
CATEGORIES:Cranshaws Village Hall,Events
ATTACH;FMTTYPE=image/jpeg:https://www.lammermuirlife.co.uk/wp-content/uploads/2025/10/IMG_8525.jpeg
ORGANIZER;CN="Alison Landale":MAILTO:Alison@greenhope.co.uk
END:VEVENT
BEGIN:VEVENT
DTSTART;TZID=Europe/London:20251121T110000
DTEND;TZID=Europe/London:20251121T120000
DTSTAMP:20260422T032626
CREATED:20250717T194359Z
LAST-MODIFIED:20250717T194401Z
UID:10001287-1763722800-1763726400@www.lammermuirlife.co.uk
SUMMARY:T'ai Chi
DESCRIPTION:
URL:https://www.lammermuirlife.co.uk/event/tai-chi-3-2-2/2025-11-21/
LOCATION:Longformacus Village Hall\, Longformacus Village Hall\, Duns Road\, Longformacus\, Scottish Borders\, TD11 3PB\, United Kingdom
CATEGORIES:Events,Longformacus Village Hall
GEO:55.806866;-2.490846
X-APPLE-STRUCTURED-LOCATION;VALUE=URI;X-ADDRESS=Longformacus Village Hall Longformacus Village Hall Duns Road Longformacus Scottish Borders TD11 3PB United Kingdom;X-APPLE-RADIUS=500;X-TITLE=Longformacus Village Hall\, Duns Road:geo:-2.490846,55.806866
END:VEVENT
BEGIN:VEVENT
DTSTART;TZID=Europe/London:20251119T140000
DTEND;TZID=Europe/London:20251119T163000
DTSTAMP:20260422T032626
CREATED:20250828T195756Z
LAST-MODIFIED:20250828T200009Z
UID:10001714-1763560800-1763569800@www.lammermuirlife.co.uk
SUMMARY:Art Class
DESCRIPTION:Held by Rachel Sutherland (artist and landscape architect)
URL:https://www.lammermuirlife.co.uk/event/art-class/2025-11-19/
LOCATION:Longformacus Village Hall\, Longformacus Village Hall\, Duns Road\, Longformacus\, Scottish Borders\, TD11 3PB\, United Kingdom
CATEGORIES:Events,Longformacus Village Hall
ORGANIZER;CN="Ettie Spencer":MAILTO:ettiespencer@gmail.com
GEO:55.806866;-2.490846
X-APPLE-STRUCTURED-LOCATION;VALUE=URI;X-ADDRESS=Longformacus Village Hall Longformacus Village Hall Duns Road Longformacus Scottish Borders TD11 3PB United Kingdom;X-APPLE-RADIUS=500;X-TITLE=Longformacus Village Hall\, Duns Road:geo:-2.490846,55.806866
END:VEVENT
BEGIN:VEVENT
DTSTART;TZID=Europe/London:20251118T190000
DTEND;TZID=Europe/London:20251118T210000
DTSTAMP:20260422T032626
CREATED:20251106T195734Z
LAST-MODIFIED:20251112T105248Z
UID:10001792-1763492400-1763499600@www.lammermuirlife.co.uk
SUMMARY:Carpet Bowls
DESCRIPTION:Come and join us\, every Tuesday night from November – March. \n7pm \n£2 to play \nEveryone welcome
URL:https://www.lammermuirlife.co.uk/event/carpet-bowls/2025-11-18/
LOCATION:Cranshaws Village Hall\, Cranshaws Village Hall\, Cranshaws\, Scottish Borders\, TD11 3SJ\, United Kingdom
CATEGORIES:Cranshaws Village Hall,Events
ORGANIZER;CN="Neil Anderson":MAILTO:neil@hareheadfarms.co.uk
END:VEVENT
BEGIN:VEVENT
DTSTART;TZID=Europe/London:20251118T184500
DTEND;TZID=Europe/London:20251118T201500
DTSTAMP:20260422T032626
CREATED:20250821T180445Z
LAST-MODIFIED:20250821T180739Z
UID:10001645-1763491500-1763496900@www.lammermuirlife.co.uk
SUMMARY:Longformacus Choir
DESCRIPTION:
URL:https://www.lammermuirlife.co.uk/event/longformacus-choir-4/2025-11-18/
LOCATION:Longformacus Village Hall\, Longformacus Village Hall\, Duns Road\, Longformacus\, Scottish Borders\, TD11 3PB\, United Kingdom
CATEGORIES:Events,Longformacus Village Hall
ORGANIZER;CN="Kendal Mills":MAILTO:kendalmills63@gmail.com
GEO:55.806866;-2.490846
X-APPLE-STRUCTURED-LOCATION;VALUE=URI;X-ADDRESS=Longformacus Village Hall Longformacus Village Hall Duns Road Longformacus Scottish Borders TD11 3PB United Kingdom;X-APPLE-RADIUS=500;X-TITLE=Longformacus Village Hall\, Duns Road:geo:-2.490846,55.806866
END:VEVENT
BEGIN:VEVENT
DTSTART;TZID=Europe/London:20251117T173000
DTEND;TZID=Europe/London:20251117T203000
DTSTAMP:20260422T032626
CREATED:20251020T143036Z
LAST-MODIFIED:20251020T143036Z
UID:10001781-1763400600-1763411400@www.lammermuirlife.co.uk
SUMMARY:Dog Training Classes
DESCRIPTION:Local resident holding dog training classes at the hall
URL:https://www.lammermuirlife.co.uk/event/dog-training-classes/2025-11-17/
LOCATION:Longformacus Village Hall\, Longformacus Village Hall\, Duns Road\, Longformacus\, Scottish Borders\, TD11 3PB\, United Kingdom
CATEGORIES:Events,Longformacus Village Hall
GEO:55.806866;-2.490846
X-APPLE-STRUCTURED-LOCATION;VALUE=URI;X-ADDRESS=Longformacus Village Hall Longformacus Village Hall Duns Road Longformacus Scottish Borders TD11 3PB United Kingdom;X-APPLE-RADIUS=500;X-TITLE=Longformacus Village Hall\, Duns Road:geo:-2.490846,55.806866
END:VEVENT
BEGIN:VEVENT
DTSTART;TZID=Europe/London:20251117T110000
DTEND;TZID=Europe/London:20251117T130000
DTSTAMP:20260422T032626
CREATED:20250104T150855Z
LAST-MODIFIED:20250717T194649Z
UID:10001032-1763377200-1763384400@www.lammermuirlife.co.uk
SUMMARY:Journaling Cafe
DESCRIPTION:Come along and start a project or finish one! \nEveryone welcome \n 
URL:https://www.lammermuirlife.co.uk/event/journaling-cafe-4/2025-11-17/
LOCATION:Longformacus Village Hall\, Longformacus Village Hall\, Duns Road\, Longformacus\, Scottish Borders\, TD11 3PB\, United Kingdom
CATEGORIES:Events,Longformacus Village Hall
ORGANIZER;CN="Corine Craik":MAILTO:corine.craik485@btinternet.com
GEO:55.806866;-2.490846
X-APPLE-STRUCTURED-LOCATION;VALUE=URI;X-ADDRESS=Longformacus Village Hall Longformacus Village Hall Duns Road Longformacus Scottish Borders TD11 3PB United Kingdom;X-APPLE-RADIUS=500;X-TITLE=Longformacus Village Hall\, Duns Road:geo:-2.490846,55.806866
END:VEVENT
BEGIN:VEVENT
DTSTART;TZID=Europe/London:20251115T183000
DTEND;TZID=Europe/London:20251115T200000
DTSTAMP:20260422T032626
CREATED:20251025T090225Z
LAST-MODIFIED:20251112T105248Z
UID:10001787-1763231400-1763236800@www.lammermuirlife.co.uk
SUMMARY:Cranshaws Ceilidh Night
DESCRIPTION:Come along and join in some traditional Scottish dancing (with people to teach and help you) \n– Refreshments\n– ⁠A Scot’s song or poem – perhaps\n– ⁠Fun and exercise \nAny questions and to book contact;\nAlison@greenhope.co.uk\nText: 07579765460 \nFREE courtesy of CELCA\nSaturday 8th\, 15th and 22nd November:\n6.30pm – 8pm
URL:https://www.lammermuirlife.co.uk/event/cranshaws-ceilidh-night/2025-11-15/
LOCATION:Cranshaws Village Hall\, Cranshaws Village Hall\, Cranshaws\, Scottish Borders\, TD11 3SJ\, United Kingdom
CATEGORIES:Cranshaws Village Hall,Events
ATTACH;FMTTYPE=image/jpeg:https://www.lammermuirlife.co.uk/wp-content/uploads/2025/10/IMG_8525.jpeg
ORGANIZER;CN="Alison Landale":MAILTO:Alison@greenhope.co.uk
END:VEVENT
BEGIN:VEVENT
DTSTART;TZID=Europe/London:20251114T110000
DTEND;TZID=Europe/London:20251114T120000
DTSTAMP:20260422T032626
CREATED:20250717T194359Z
LAST-MODIFIED:20250717T194401Z
UID:10001286-1763118000-1763121600@www.lammermuirlife.co.uk
SUMMARY:T'ai Chi
DESCRIPTION:
URL:https://www.lammermuirlife.co.uk/event/tai-chi-3-2-2/2025-11-14/
LOCATION:Longformacus Village Hall\, Longformacus Village Hall\, Duns Road\, Longformacus\, Scottish Borders\, TD11 3PB\, United Kingdom
CATEGORIES:Events,Longformacus Village Hall
GEO:55.806866;-2.490846
X-APPLE-STRUCTURED-LOCATION;VALUE=URI;X-ADDRESS=Longformacus Village Hall Longformacus Village Hall Duns Road Longformacus Scottish Borders TD11 3PB United Kingdom;X-APPLE-RADIUS=500;X-TITLE=Longformacus Village Hall\, Duns Road:geo:-2.490846,55.806866
END:VEVENT
BEGIN:VEVENT
DTSTART;TZID=Europe/London:20251112T190000
DTEND;TZID=Europe/London:20251112T203000
DTSTAMP:20260422T032626
CREATED:20251106T192510Z
LAST-MODIFIED:20251112T105247Z
UID:10001790-1762974000-1762979400@www.lammermuirlife.co.uk
SUMMARY:Cranshaws Village Hall AGM
DESCRIPTION:Cranshaws Village Hall Committee \nAGM \nNew Members Welcome 🙂
URL:https://www.lammermuirlife.co.uk/event/cranshaws-village-hall-agm/
LOCATION:Cranshaws Village Hall\, Cranshaws Village Hall\, Cranshaws\, Scottish Borders\, TD11 3SJ\, United Kingdom
CATEGORIES:Cranshaws Village Hall,Events
ORGANIZER;CN="Ronnie Wylie":MAILTO:ronnie.wylie@ymail.com
END:VEVENT
BEGIN:VEVENT
DTSTART;TZID=Europe/London:20251112T140000
DTEND;TZID=Europe/London:20251112T163000
DTSTAMP:20260422T032626
CREATED:20250828T195756Z
LAST-MODIFIED:20250828T200009Z
UID:10001713-1762956000-1762965000@www.lammermuirlife.co.uk
SUMMARY:Art Class
DESCRIPTION:Held by Rachel Sutherland (artist and landscape architect)
URL:https://www.lammermuirlife.co.uk/event/art-class/2025-11-12/
LOCATION:Longformacus Village Hall\, Longformacus Village Hall\, Duns Road\, Longformacus\, Scottish Borders\, TD11 3PB\, United Kingdom
CATEGORIES:Events,Longformacus Village Hall
ORGANIZER;CN="Ettie Spencer":MAILTO:ettiespencer@gmail.com
GEO:55.806866;-2.490846
X-APPLE-STRUCTURED-LOCATION;VALUE=URI;X-ADDRESS=Longformacus Village Hall Longformacus Village Hall Duns Road Longformacus Scottish Borders TD11 3PB United Kingdom;X-APPLE-RADIUS=500;X-TITLE=Longformacus Village Hall\, Duns Road:geo:-2.490846,55.806866
END:VEVENT
BEGIN:VEVENT
DTSTART;TZID=Europe/London:20251111T190000
DTEND;TZID=Europe/London:20251111T210000
DTSTAMP:20260422T032626
CREATED:20251106T195734Z
LAST-MODIFIED:20251112T105248Z
UID:10001791-1762887600-1762894800@www.lammermuirlife.co.uk
SUMMARY:Carpet Bowls
DESCRIPTION:Come and join us\, every Tuesday night from November – March. \n7pm \n£2 to play \nEveryone welcome
URL:https://www.lammermuirlife.co.uk/event/carpet-bowls/2025-11-11/
LOCATION:Cranshaws Village Hall\, Cranshaws Village Hall\, Cranshaws\, Scottish Borders\, TD11 3SJ\, United Kingdom
CATEGORIES:Cranshaws Village Hall,Events
ORGANIZER;CN="Neil Anderson":MAILTO:neil@hareheadfarms.co.uk
END:VEVENT
BEGIN:VEVENT
DTSTART;TZID=Europe/London:20251111T184500
DTEND;TZID=Europe/London:20251111T201500
DTSTAMP:20260422T032626
CREATED:20250821T180445Z
LAST-MODIFIED:20250821T180739Z
UID:10001644-1762886700-1762892100@www.lammermuirlife.co.uk
SUMMARY:Longformacus Choir
DESCRIPTION:
URL:https://www.lammermuirlife.co.uk/event/longformacus-choir-4/2025-11-11/
LOCATION:Longformacus Village Hall\, Longformacus Village Hall\, Duns Road\, Longformacus\, Scottish Borders\, TD11 3PB\, United Kingdom
CATEGORIES:Events,Longformacus Village Hall
ORGANIZER;CN="Kendal Mills":MAILTO:kendalmills63@gmail.com
GEO:55.806866;-2.490846
X-APPLE-STRUCTURED-LOCATION;VALUE=URI;X-ADDRESS=Longformacus Village Hall Longformacus Village Hall Duns Road Longformacus Scottish Borders TD11 3PB United Kingdom;X-APPLE-RADIUS=500;X-TITLE=Longformacus Village Hall\, Duns Road:geo:-2.490846,55.806866
END:VEVENT
BEGIN:VEVENT
DTSTART;TZID=Europe/London:20251110T190000
DTEND;TZID=Europe/London:20251110T210000
DTSTAMP:20260422T032626
CREATED:20241125T191815Z
LAST-MODIFIED:20241125T191815Z
UID:10000984-1762801200-1762808400@www.lammermuirlife.co.uk
SUMMARY:CELCA AGM
DESCRIPTION:
URL:https://www.lammermuirlife.co.uk/event/celca-agm/
LOCATION:Scottish Borders
CATEGORIES:Events,Longformacus Village Hall
END:VEVENT
BEGIN:VEVENT
DTSTART;TZID=Europe/London:20251110T110000
DTEND;TZID=Europe/London:20251110T130000
DTSTAMP:20260422T032626
CREATED:20250104T150855Z
LAST-MODIFIED:20250717T194649Z
UID:10001031-1762772400-1762779600@www.lammermuirlife.co.uk
SUMMARY:Journaling Cafe
DESCRIPTION:Come along and start a project or finish one! \nEveryone welcome \n 
URL:https://www.lammermuirlife.co.uk/event/journaling-cafe-4/2025-11-10/
LOCATION:Longformacus Village Hall\, Longformacus Village Hall\, Duns Road\, Longformacus\, Scottish Borders\, TD11 3PB\, United Kingdom
CATEGORIES:Events,Longformacus Village Hall
ORGANIZER;CN="Corine Craik":MAILTO:corine.craik485@btinternet.com
GEO:55.806866;-2.490846
X-APPLE-STRUCTURED-LOCATION;VALUE=URI;X-ADDRESS=Longformacus Village Hall Longformacus Village Hall Duns Road Longformacus Scottish Borders TD11 3PB United Kingdom;X-APPLE-RADIUS=500;X-TITLE=Longformacus Village Hall\, Duns Road:geo:-2.490846,55.806866
END:VEVENT
BEGIN:VEVENT
DTSTART;TZID=Europe/London:20251109T090000
DTEND;TZID=Europe/London:20251109T140000
DTSTAMP:20260422T032626
CREATED:20250204T102718Z
LAST-MODIFIED:20251020T143726Z
UID:10001785-1762678800-1762696800@www.lammermuirlife.co.uk
SUMMARY:Sound Journey
DESCRIPTION:Local resident holding their relaxing sound meditation session
URL:https://www.lammermuirlife.co.uk/event/sound-journey/2025-11-09/
LOCATION:Longformacus Village Hall\, Longformacus Village Hall\, Duns Road\, Longformacus\, Scottish Borders\, TD11 3PB\, United Kingdom
CATEGORIES:Events,Longformacus Village Hall
ORGANIZER;CN="Greig Silver":MAILTO:greigsilver@protonmail.com
GEO:55.806866;-2.490846
X-APPLE-STRUCTURED-LOCATION;VALUE=URI;X-ADDRESS=Longformacus Village Hall Longformacus Village Hall Duns Road Longformacus Scottish Borders TD11 3PB United Kingdom;X-APPLE-RADIUS=500;X-TITLE=Longformacus Village Hall\, Duns Road:geo:-2.490846,55.806866
END:VEVENT
BEGIN:VEVENT
DTSTART;TZID=Europe/London:20251108T183000
DTEND;TZID=Europe/London:20251108T200000
DTSTAMP:20260422T032626
CREATED:20251025T090225Z
LAST-MODIFIED:20251112T105248Z
UID:10001786-1762626600-1762632000@www.lammermuirlife.co.uk
SUMMARY:Cranshaws Ceilidh Night
DESCRIPTION:Come along and join in some traditional Scottish dancing (with people to teach and help you) \n– Refreshments\n– ⁠A Scot’s song or poem – perhaps\n– ⁠Fun and exercise \nAny questions and to book contact;\nAlison@greenhope.co.uk\nText: 07579765460 \nFREE courtesy of CELCA\nSaturday 8th\, 15th and 22nd November:\n6.30pm – 8pm
URL:https://www.lammermuirlife.co.uk/event/cranshaws-ceilidh-night/2025-11-08/
LOCATION:Cranshaws Village Hall\, Cranshaws Village Hall\, Cranshaws\, Scottish Borders\, TD11 3SJ\, United Kingdom
CATEGORIES:Cranshaws Village Hall,Events
ATTACH;FMTTYPE=image/jpeg:https://www.lammermuirlife.co.uk/wp-content/uploads/2025/10/IMG_8525.jpeg
ORGANIZER;CN="Alison Landale":MAILTO:Alison@greenhope.co.uk
END:VEVENT
BEGIN:VEVENT
DTSTART;TZID=Europe/London:20251107T180000
DTEND;TZID=Europe/London:20251107T220000
DTSTAMP:20260422T032626
CREATED:20251106T190326Z
LAST-MODIFIED:20251106T190326Z
UID:10001789-1762538400-1762552800@www.lammermuirlife.co.uk
SUMMARY:Heritage Centre - Quiz night
DESCRIPTION:
URL:https://www.lammermuirlife.co.uk/event/heritage-centre-quiz-night-2/
LOCATION:Longformacus Village Hall\, Longformacus Village Hall\, Duns Road\, Longformacus\, Scottish Borders\, TD11 3PB\, United Kingdom
CATEGORIES:Events,Longformacus Village Hall
ORGANIZER;CN="Kathleen White":MAILTO:canvass.bungee.0q@icloud.com
GEO:55.806866;-2.490846
X-APPLE-STRUCTURED-LOCATION;VALUE=URI;X-ADDRESS=Longformacus Village Hall Longformacus Village Hall Duns Road Longformacus Scottish Borders TD11 3PB United Kingdom;X-APPLE-RADIUS=500;X-TITLE=Longformacus Village Hall\, Duns Road:geo:-2.490846,55.806866
END:VEVENT
BEGIN:VEVENT
DTSTART;TZID=Europe/London:20251107T110000
DTEND;TZID=Europe/London:20251107T120000
DTSTAMP:20260422T032626
CREATED:20250717T194359Z
LAST-MODIFIED:20250717T194401Z
UID:10001285-1762513200-1762516800@www.lammermuirlife.co.uk
SUMMARY:T'ai Chi
DESCRIPTION:
URL:https://www.lammermuirlife.co.uk/event/tai-chi-3-2-2/2025-11-07/
LOCATION:Longformacus Village Hall\, Longformacus Village Hall\, Duns Road\, Longformacus\, Scottish Borders\, TD11 3PB\, United Kingdom
CATEGORIES:Events,Longformacus Village Hall
GEO:55.806866;-2.490846
X-APPLE-STRUCTURED-LOCATION;VALUE=URI;X-ADDRESS=Longformacus Village Hall Longformacus Village Hall Duns Road Longformacus Scottish Borders TD11 3PB United Kingdom;X-APPLE-RADIUS=500;X-TITLE=Longformacus Village Hall\, Duns Road:geo:-2.490846,55.806866
END:VEVENT
BEGIN:VEVENT
DTSTART;TZID=Europe/London:20251105T140000
DTEND;TZID=Europe/London:20251105T163000
DTSTAMP:20260422T032626
CREATED:20250828T195756Z
LAST-MODIFIED:20250828T200009Z
UID:10001712-1762351200-1762360200@www.lammermuirlife.co.uk
SUMMARY:Art Class
DESCRIPTION:Held by Rachel Sutherland (artist and landscape architect)
URL:https://www.lammermuirlife.co.uk/event/art-class/2025-11-05/
LOCATION:Longformacus Village Hall\, Longformacus Village Hall\, Duns Road\, Longformacus\, Scottish Borders\, TD11 3PB\, United Kingdom
CATEGORIES:Events,Longformacus Village Hall
ORGANIZER;CN="Ettie Spencer":MAILTO:ettiespencer@gmail.com
GEO:55.806866;-2.490846
X-APPLE-STRUCTURED-LOCATION;VALUE=URI;X-ADDRESS=Longformacus Village Hall Longformacus Village Hall Duns Road Longformacus Scottish Borders TD11 3PB United Kingdom;X-APPLE-RADIUS=500;X-TITLE=Longformacus Village Hall\, Duns Road:geo:-2.490846,55.806866
END:VEVENT
BEGIN:VEVENT
DTSTART;TZID=Europe/London:20251104T184500
DTEND;TZID=Europe/London:20251104T201500
DTSTAMP:20260422T032626
CREATED:20250821T180445Z
LAST-MODIFIED:20250821T180739Z
UID:10001643-1762281900-1762287300@www.lammermuirlife.co.uk
SUMMARY:Longformacus Choir
DESCRIPTION:
URL:https://www.lammermuirlife.co.uk/event/longformacus-choir-4/2025-11-04/
LOCATION:Longformacus Village Hall\, Longformacus Village Hall\, Duns Road\, Longformacus\, Scottish Borders\, TD11 3PB\, United Kingdom
CATEGORIES:Events,Longformacus Village Hall
ORGANIZER;CN="Kendal Mills":MAILTO:kendalmills63@gmail.com
GEO:55.806866;-2.490846
X-APPLE-STRUCTURED-LOCATION;VALUE=URI;X-ADDRESS=Longformacus Village Hall Longformacus Village Hall Duns Road Longformacus Scottish Borders TD11 3PB United Kingdom;X-APPLE-RADIUS=500;X-TITLE=Longformacus Village Hall\, Duns Road:geo:-2.490846,55.806866
END:VEVENT
BEGIN:VEVENT
DTSTART;TZID=Europe/London:20251103T110000
DTEND;TZID=Europe/London:20251103T130000
DTSTAMP:20260422T032626
CREATED:20250104T150855Z
LAST-MODIFIED:20250717T194649Z
UID:10001030-1762167600-1762174800@www.lammermuirlife.co.uk
SUMMARY:Journaling Cafe
DESCRIPTION:Come along and start a project or finish one! \nEveryone welcome \n 
URL:https://www.lammermuirlife.co.uk/event/journaling-cafe-4/2025-11-03/
LOCATION:Longformacus Village Hall\, Longformacus Village Hall\, Duns Road\, Longformacus\, Scottish Borders\, TD11 3PB\, United Kingdom
CATEGORIES:Events,Longformacus Village Hall
ORGANIZER;CN="Corine Craik":MAILTO:corine.craik485@btinternet.com
GEO:55.806866;-2.490846
X-APPLE-STRUCTURED-LOCATION;VALUE=URI;X-ADDRESS=Longformacus Village Hall Longformacus Village Hall Duns Road Longformacus Scottish Borders TD11 3PB United Kingdom;X-APPLE-RADIUS=500;X-TITLE=Longformacus Village Hall\, Duns Road:geo:-2.490846,55.806866
END:VEVENT
BEGIN:VEVENT
DTSTART;TZID=Europe/London:20251101T110000
DTEND;TZID=Europe/London:20251101T130000
DTSTAMP:20260422T032626
CREATED:20250508T151722Z
LAST-MODIFIED:20250802T080632Z
UID:10001328-1761994800-1762002000@www.lammermuirlife.co.uk
SUMMARY:Windmill Coffee Shop
DESCRIPTION:Come along to the windmill coffee shop on the first Saturday of the month. \nEnjoy a cuppa and a fab selection of homemade cakes. \nAll welcome
URL:https://www.lammermuirlife.co.uk/event/windmill-coffee-shop-14-3/2025-11-01/
LOCATION:Longformacus Village Hall\, Longformacus Village Hall\, Duns Road\, Longformacus\, Scottish Borders\, TD11 3PB\, United Kingdom
CATEGORIES:Events,Longformacus Village Hall
ORGANIZER;CN="Heather Bewick":MAILTO:heath8667hl@gmail.com
GEO:55.806866;-2.490846
X-APPLE-STRUCTURED-LOCATION;VALUE=URI;X-ADDRESS=Longformacus Village Hall Longformacus Village Hall Duns Road Longformacus Scottish Borders TD11 3PB United Kingdom;X-APPLE-RADIUS=500;X-TITLE=Longformacus Village Hall\, Duns Road:geo:-2.490846,55.806866
END:VEVENT
BEGIN:VEVENT
DTSTART;TZID=Europe/London:20251031T130000
DTEND;TZID=Europe/London:20251031T160000
DTSTAMP:20260422T032626
CREATED:20250104T171627Z
LAST-MODIFIED:20250104T171627Z
UID:10001351-1761915600-1761926400@www.lammermuirlife.co.uk
SUMMARY:Preparations for Windmill Coffee Shop
DESCRIPTION:
URL:https://www.lammermuirlife.co.uk/event/preparations-for-windmill-coffee-shop-14/
LOCATION:Longformacus Village Hall\, Longformacus Village Hall\, Duns Road\, Longformacus\, Scottish Borders\, TD11 3PB\, United Kingdom
CATEGORIES:Events,Longformacus Village Hall
ORGANIZER;CN="Heather Bewick":MAILTO:heath8667hl@gmail.com
GEO:55.806866;-2.490846
X-APPLE-STRUCTURED-LOCATION;VALUE=URI;X-ADDRESS=Longformacus Village Hall Longformacus Village Hall Duns Road Longformacus Scottish Borders TD11 3PB United Kingdom;X-APPLE-RADIUS=500;X-TITLE=Longformacus Village Hall\, Duns Road:geo:-2.490846,55.806866
END:VEVENT
BEGIN:VEVENT
DTSTART;TZID=Europe/London:20251031T130000
DTEND;TZID=Europe/London:20251031T153000
DTSTAMP:20260422T032626
CREATED:20250923T101711Z
LAST-MODIFIED:20250923T101711Z
UID:10001776-1761915600-1761924600@www.lammermuirlife.co.uk
SUMMARY:Kids Club - Learn with Lizzie
DESCRIPTION:Tickets only \n1.30pm-3.00pm
URL:https://www.lammermuirlife.co.uk/event/kids-club-learn-with-lizzie-3/2025-10-31/
LOCATION:Longformacus Village Hall\, Longformacus Village Hall\, Duns Road\, Longformacus\, Scottish Borders\, TD11 3PB\, United Kingdom
CATEGORIES:Events,Longformacus Village Hall
ORGANIZER;CN="Lorna Pate":MAILTO:lorna_pate@hotmail.com
GEO:55.806866;-2.490846
X-APPLE-STRUCTURED-LOCATION;VALUE=URI;X-ADDRESS=Longformacus Village Hall Longformacus Village Hall Duns Road Longformacus Scottish Borders TD11 3PB United Kingdom;X-APPLE-RADIUS=500;X-TITLE=Longformacus Village Hall\, Duns Road:geo:-2.490846,55.806866
END:VEVENT
BEGIN:VEVENT
DTSTART;TZID=Europe/London:20251031T110000
DTEND;TZID=Europe/London:20251031T120000
DTSTAMP:20260422T032626
CREATED:20250717T194359Z
LAST-MODIFIED:20250717T194401Z
UID:10001284-1761908400-1761912000@www.lammermuirlife.co.uk
SUMMARY:T'ai Chi
DESCRIPTION:
URL:https://www.lammermuirlife.co.uk/event/tai-chi-3-2-2/2025-10-31/
LOCATION:Longformacus Village Hall\, Longformacus Village Hall\, Duns Road\, Longformacus\, Scottish Borders\, TD11 3PB\, United Kingdom
CATEGORIES:Events,Longformacus Village Hall
GEO:55.806866;-2.490846
X-APPLE-STRUCTURED-LOCATION;VALUE=URI;X-ADDRESS=Longformacus Village Hall Longformacus Village Hall Duns Road Longformacus Scottish Borders TD11 3PB United Kingdom;X-APPLE-RADIUS=500;X-TITLE=Longformacus Village Hall\, Duns Road:geo:-2.490846,55.806866
END:VEVENT
BEGIN:VEVENT
DTSTART;TZID=Europe/London:20251030T130000
DTEND;TZID=Europe/London:20251030T150000
DTSTAMP:20260422T032626
CREATED:20251009T152604Z
LAST-MODIFIED:20251108T190021Z
UID:10001779-1761829200-1761836400@www.lammermuirlife.co.uk
SUMMARY:Soup and Sandwich
DESCRIPTION:Drop in for a warming snack and a catch up \nOnce a month during the winter months \nDonations at the door \nAll welcome
URL:https://www.lammermuirlife.co.uk/event/soup-and-sandwich/2025-10-30/
LOCATION:Longformacus Village Hall\, Longformacus Village Hall\, Duns Road\, Longformacus\, Scottish Borders\, TD11 3PB\, United Kingdom
CATEGORIES:Events,Longformacus Village Hall
ORGANIZER;CN="Ettie Spencer":MAILTO:ettiespencer@gmail.com
GEO:55.806866;-2.490846
X-APPLE-STRUCTURED-LOCATION;VALUE=URI;X-ADDRESS=Longformacus Village Hall Longformacus Village Hall Duns Road Longformacus Scottish Borders TD11 3PB United Kingdom;X-APPLE-RADIUS=500;X-TITLE=Longformacus Village Hall\, Duns Road:geo:-2.490846,55.806866
END:VEVENT
BEGIN:VEVENT
DTSTART;TZID=Europe/London:20251029T140000
DTEND;TZID=Europe/London:20251029T163000
DTSTAMP:20260422T032626
CREATED:20250828T195756Z
LAST-MODIFIED:20250828T200009Z
UID:10001711-1761746400-1761755400@www.lammermuirlife.co.uk
SUMMARY:Art Class
DESCRIPTION:Held by Rachel Sutherland (artist and landscape architect)
URL:https://www.lammermuirlife.co.uk/event/art-class/2025-10-29/
LOCATION:Longformacus Village Hall\, Longformacus Village Hall\, Duns Road\, Longformacus\, Scottish Borders\, TD11 3PB\, United Kingdom
CATEGORIES:Events,Longformacus Village Hall
ORGANIZER;CN="Ettie Spencer":MAILTO:ettiespencer@gmail.com
GEO:55.806866;-2.490846
X-APPLE-STRUCTURED-LOCATION;VALUE=URI;X-ADDRESS=Longformacus Village Hall Longformacus Village Hall Duns Road Longformacus Scottish Borders TD11 3PB United Kingdom;X-APPLE-RADIUS=500;X-TITLE=Longformacus Village Hall\, Duns Road:geo:-2.490846,55.806866
END:VEVENT
END:VCALENDAR