BEGIN:VCALENDAR
VERSION:2.0
PRODID:-//Lammermuir Community Website - ECPv6.15.20//NONSGML v1.0//EN
CALSCALE:GREGORIAN
METHOD:PUBLISH
X-WR-CALNAME:Lammermuir Community Website
X-ORIGINAL-URL:https://www.lammermuirlife.co.uk
X-WR-CALDESC:Events for Lammermuir Community Website
REFRESH-INTERVAL;VALUE=DURATION:PT1H
X-Robots-Tag:noindex
X-PUBLISHED-TTL:PT1H
BEGIN:VTIMEZONE
TZID:Europe/London
BEGIN:DAYLIGHT
TZOFFSETFROM:+0000
TZOFFSETTO:+0100
TZNAME:BST
DTSTART:20240331T010000
END:DAYLIGHT
BEGIN:STANDARD
TZOFFSETFROM:+0100
TZOFFSETTO:+0000
TZNAME:GMT
DTSTART:20241027T010000
END:STANDARD
BEGIN:DAYLIGHT
TZOFFSETFROM:+0000
TZOFFSETTO:+0100
TZNAME:BST
DTSTART:20250330T010000
END:DAYLIGHT
BEGIN:STANDARD
TZOFFSETFROM:+0100
TZOFFSETTO:+0000
TZNAME:GMT
DTSTART:20251026T010000
END:STANDARD
BEGIN:DAYLIGHT
TZOFFSETFROM:+0000
TZOFFSETTO:+0100
TZNAME:BST
DTSTART:20260329T010000
END:DAYLIGHT
BEGIN:STANDARD
TZOFFSETFROM:+0100
TZOFFSETTO:+0000
TZNAME:GMT
DTSTART:20261025T010000
END:STANDARD
END:VTIMEZONE
BEGIN:VEVENT
DTSTART;TZID=Europe/London:20251209T090000
DTEND;TZID=Europe/London:20251209T140000
DTSTAMP:20260422T015041
CREATED:20251204T195224Z
LAST-MODIFIED:20251204T195307Z
UID:10001813-1765270800-1765288800@www.lammermuirlife.co.uk
SUMMARY:Heating repair
DESCRIPTION:
URL:https://www.lammermuirlife.co.uk/event/heating-repair/2025-12-09/
LOCATION:Longformacus Village Hall\, Longformacus Village Hall\, Duns Road\, Longformacus\, Scottish Borders\, TD11 3PB\, United Kingdom
CATEGORIES:Events,Longformacus Village Hall
GEO:55.806866;-2.490846
X-APPLE-STRUCTURED-LOCATION;VALUE=URI;X-ADDRESS=Longformacus Village Hall Longformacus Village Hall Duns Road Longformacus Scottish Borders TD11 3PB United Kingdom;X-APPLE-RADIUS=500;X-TITLE=Longformacus Village Hall\, Duns Road:geo:-2.490846,55.806866
END:VEVENT
BEGIN:VEVENT
DTSTART;TZID=Europe/London:20251208T173000
DTEND;TZID=Europe/London:20251208T203000
DTSTAMP:20260422T015041
CREATED:20251020T143036Z
LAST-MODIFIED:20251020T143036Z
UID:10001784-1765215000-1765225800@www.lammermuirlife.co.uk
SUMMARY:Dog Training Classes
DESCRIPTION:Local resident holding dog training classes at the hall
URL:https://www.lammermuirlife.co.uk/event/dog-training-classes/2025-12-08/
LOCATION:Longformacus Village Hall\, Longformacus Village Hall\, Duns Road\, Longformacus\, Scottish Borders\, TD11 3PB\, United Kingdom
CATEGORIES:Events,Longformacus Village Hall
GEO:55.806866;-2.490846
X-APPLE-STRUCTURED-LOCATION;VALUE=URI;X-ADDRESS=Longformacus Village Hall Longformacus Village Hall Duns Road Longformacus Scottish Borders TD11 3PB United Kingdom;X-APPLE-RADIUS=500;X-TITLE=Longformacus Village Hall\, Duns Road:geo:-2.490846,55.806866
END:VEVENT
BEGIN:VEVENT
DTSTART;TZID=Europe/London:20251208T110000
DTEND;TZID=Europe/London:20251208T130000
DTSTAMP:20260422T015041
CREATED:20250104T150855Z
LAST-MODIFIED:20250717T194649Z
UID:10001035-1765191600-1765198800@www.lammermuirlife.co.uk
SUMMARY:Journaling Cafe
DESCRIPTION:Come along and start a project or finish one! \nEveryone welcome \n 
URL:https://www.lammermuirlife.co.uk/event/journaling-cafe-4/2025-12-08/
LOCATION:Longformacus Village Hall\, Longformacus Village Hall\, Duns Road\, Longformacus\, Scottish Borders\, TD11 3PB\, United Kingdom
CATEGORIES:Events,Longformacus Village Hall
ORGANIZER;CN="Corine Craik":MAILTO:corine.craik485@btinternet.com
GEO:55.806866;-2.490846
X-APPLE-STRUCTURED-LOCATION;VALUE=URI;X-ADDRESS=Longformacus Village Hall Longformacus Village Hall Duns Road Longformacus Scottish Borders TD11 3PB United Kingdom;X-APPLE-RADIUS=500;X-TITLE=Longformacus Village Hall\, Duns Road:geo:-2.490846,55.806866
END:VEVENT
BEGIN:VEVENT
DTSTART;TZID=Europe/London:20251206T110000
DTEND;TZID=Europe/London:20251206T130000
DTSTAMP:20260422T015041
CREATED:20250508T151722Z
LAST-MODIFIED:20250802T080632Z
UID:10001329-1765018800-1765026000@www.lammermuirlife.co.uk
SUMMARY:Windmill Coffee Shop
DESCRIPTION:Come along to the windmill coffee shop on the first Saturday of the month. \nEnjoy a cuppa and a fab selection of homemade cakes. \nAll welcome
URL:https://www.lammermuirlife.co.uk/event/windmill-coffee-shop-14-3/2025-12-06/
LOCATION:Longformacus Village Hall\, Longformacus Village Hall\, Duns Road\, Longformacus\, Scottish Borders\, TD11 3PB\, United Kingdom
CATEGORIES:Events,Longformacus Village Hall
ORGANIZER;CN="Heather Bewick":MAILTO:heath8667hl@gmail.com
GEO:55.806866;-2.490846
X-APPLE-STRUCTURED-LOCATION;VALUE=URI;X-ADDRESS=Longformacus Village Hall Longformacus Village Hall Duns Road Longformacus Scottish Borders TD11 3PB United Kingdom;X-APPLE-RADIUS=500;X-TITLE=Longformacus Village Hall\, Duns Road:geo:-2.490846,55.806866
END:VEVENT
BEGIN:VEVENT
DTSTART;TZID=Europe/London:20251205T130000
DTEND;TZID=Europe/London:20251205T160000
DTSTAMP:20260422T015041
CREATED:20250104T171739Z
LAST-MODIFIED:20250104T171739Z
UID:10001352-1764939600-1764950400@www.lammermuirlife.co.uk
SUMMARY:Preparations for Windmill Coffee Shop
DESCRIPTION:
URL:https://www.lammermuirlife.co.uk/event/preparations-for-windmill-coffee-shop-15/
LOCATION:Longformacus Village Hall\, Longformacus Village Hall\, Duns Road\, Longformacus\, Scottish Borders\, TD11 3PB\, United Kingdom
CATEGORIES:Events,Longformacus Village Hall
ORGANIZER;CN="Heather Bewick":MAILTO:heath8667hl@gmail.com
GEO:55.806866;-2.490846
X-APPLE-STRUCTURED-LOCATION;VALUE=URI;X-ADDRESS=Longformacus Village Hall Longformacus Village Hall Duns Road Longformacus Scottish Borders TD11 3PB United Kingdom;X-APPLE-RADIUS=500;X-TITLE=Longformacus Village Hall\, Duns Road:geo:-2.490846,55.806866
END:VEVENT
BEGIN:VEVENT
DTSTART;TZID=Europe/London:20251205T110000
DTEND;TZID=Europe/London:20251205T120000
DTSTAMP:20260422T015041
CREATED:20250717T194359Z
LAST-MODIFIED:20250717T194401Z
UID:10001289-1764932400-1764936000@www.lammermuirlife.co.uk
SUMMARY:T'ai Chi
DESCRIPTION:
URL:https://www.lammermuirlife.co.uk/event/tai-chi-3-2-2/2025-12-05/
LOCATION:Longformacus Village Hall\, Longformacus Village Hall\, Duns Road\, Longformacus\, Scottish Borders\, TD11 3PB\, United Kingdom
CATEGORIES:Events,Longformacus Village Hall
GEO:55.806866;-2.490846
X-APPLE-STRUCTURED-LOCATION;VALUE=URI;X-ADDRESS=Longformacus Village Hall Longformacus Village Hall Duns Road Longformacus Scottish Borders TD11 3PB United Kingdom;X-APPLE-RADIUS=500;X-TITLE=Longformacus Village Hall\, Duns Road:geo:-2.490846,55.806866
END:VEVENT
BEGIN:VEVENT
DTSTART;TZID=Europe/London:20251203T140000
DTEND;TZID=Europe/London:20251203T163000
DTSTAMP:20260422T015041
CREATED:20250828T195756Z
LAST-MODIFIED:20250828T200009Z
UID:10001716-1764770400-1764779400@www.lammermuirlife.co.uk
SUMMARY:Art Class
DESCRIPTION:Held by Rachel Sutherland (artist and landscape architect)
URL:https://www.lammermuirlife.co.uk/event/art-class/2025-12-03/
LOCATION:Longformacus Village Hall\, Longformacus Village Hall\, Duns Road\, Longformacus\, Scottish Borders\, TD11 3PB\, United Kingdom
CATEGORIES:Events,Longformacus Village Hall
ORGANIZER;CN="Ettie Spencer":MAILTO:ettiespencer@gmail.com
GEO:55.806866;-2.490846
X-APPLE-STRUCTURED-LOCATION;VALUE=URI;X-ADDRESS=Longformacus Village Hall Longformacus Village Hall Duns Road Longformacus Scottish Borders TD11 3PB United Kingdom;X-APPLE-RADIUS=500;X-TITLE=Longformacus Village Hall\, Duns Road:geo:-2.490846,55.806866
END:VEVENT
BEGIN:VEVENT
DTSTART;TZID=Europe/London:20251202T190000
DTEND;TZID=Europe/London:20251202T210000
DTSTAMP:20260422T015041
CREATED:20251106T195734Z
LAST-MODIFIED:20251112T105248Z
UID:10001794-1764702000-1764709200@www.lammermuirlife.co.uk
SUMMARY:Carpet Bowls
DESCRIPTION:Come and join us\, every Tuesday night from November – March. \n7pm \n£2 to play \nEveryone welcome
URL:https://www.lammermuirlife.co.uk/event/carpet-bowls/2025-12-02/
LOCATION:Cranshaws Village Hall\, Cranshaws Village Hall\, Cranshaws\, Scottish Borders\, TD11 3SJ\, United Kingdom
CATEGORIES:Cranshaws Village Hall,Events
ORGANIZER;CN="Neil Anderson":MAILTO:neil@hareheadfarms.co.uk
END:VEVENT
BEGIN:VEVENT
DTSTART;TZID=Europe/London:20251202T184500
DTEND;TZID=Europe/London:20251202T201500
DTSTAMP:20260422T015041
CREATED:20250821T180445Z
LAST-MODIFIED:20250821T180739Z
UID:10001647-1764701100-1764706500@www.lammermuirlife.co.uk
SUMMARY:Longformacus Choir
DESCRIPTION:
URL:https://www.lammermuirlife.co.uk/event/longformacus-choir-4/2025-12-02/
LOCATION:Longformacus Village Hall\, Longformacus Village Hall\, Duns Road\, Longformacus\, Scottish Borders\, TD11 3PB\, United Kingdom
CATEGORIES:Events,Longformacus Village Hall
ORGANIZER;CN="Kendal Mills":MAILTO:kendalmills63@gmail.com
GEO:55.806866;-2.490846
X-APPLE-STRUCTURED-LOCATION;VALUE=URI;X-ADDRESS=Longformacus Village Hall Longformacus Village Hall Duns Road Longformacus Scottish Borders TD11 3PB United Kingdom;X-APPLE-RADIUS=500;X-TITLE=Longformacus Village Hall\, Duns Road:geo:-2.490846,55.806866
END:VEVENT
BEGIN:VEVENT
DTSTART;TZID=Europe/London:20251201T173000
DTEND;TZID=Europe/London:20251201T203000
DTSTAMP:20260422T015041
CREATED:20251020T143036Z
LAST-MODIFIED:20251020T143036Z
UID:10001783-1764610200-1764621000@www.lammermuirlife.co.uk
SUMMARY:Dog Training Classes
DESCRIPTION:Local resident holding dog training classes at the hall
URL:https://www.lammermuirlife.co.uk/event/dog-training-classes/2025-12-01/
LOCATION:Longformacus Village Hall\, Longformacus Village Hall\, Duns Road\, Longformacus\, Scottish Borders\, TD11 3PB\, United Kingdom
CATEGORIES:Events,Longformacus Village Hall
GEO:55.806866;-2.490846
X-APPLE-STRUCTURED-LOCATION;VALUE=URI;X-ADDRESS=Longformacus Village Hall Longformacus Village Hall Duns Road Longformacus Scottish Borders TD11 3PB United Kingdom;X-APPLE-RADIUS=500;X-TITLE=Longformacus Village Hall\, Duns Road:geo:-2.490846,55.806866
END:VEVENT
BEGIN:VEVENT
DTSTART;TZID=Europe/London:20251201T110000
DTEND;TZID=Europe/London:20251201T130000
DTSTAMP:20260422T015041
CREATED:20250104T150855Z
LAST-MODIFIED:20250717T194649Z
UID:10001034-1764586800-1764594000@www.lammermuirlife.co.uk
SUMMARY:Journaling Cafe
DESCRIPTION:Come along and start a project or finish one! \nEveryone welcome \n 
URL:https://www.lammermuirlife.co.uk/event/journaling-cafe-4/2025-12-01/
LOCATION:Longformacus Village Hall\, Longformacus Village Hall\, Duns Road\, Longformacus\, Scottish Borders\, TD11 3PB\, United Kingdom
CATEGORIES:Events,Longformacus Village Hall
ORGANIZER;CN="Corine Craik":MAILTO:corine.craik485@btinternet.com
GEO:55.806866;-2.490846
X-APPLE-STRUCTURED-LOCATION;VALUE=URI;X-ADDRESS=Longformacus Village Hall Longformacus Village Hall Duns Road Longformacus Scottish Borders TD11 3PB United Kingdom;X-APPLE-RADIUS=500;X-TITLE=Longformacus Village Hall\, Duns Road:geo:-2.490846,55.806866
END:VEVENT
BEGIN:VEVENT
DTSTART;TZID=Europe/London:20251130T123000
DTEND;TZID=Europe/London:20251130T150000
DTSTAMP:20260422T015041
CREATED:20251126T135552Z
LAST-MODIFIED:20251126T135552Z
UID:10001811-1764505800-1764514800@www.lammermuirlife.co.uk
SUMMARY:Sunday Roast
DESCRIPTION:Come and enjoy a 2 course Sunday lunch \nSpaces are limited\, so please contact Alison to book your places today – Alison@greenhope.co.uk \nArrive from 12.30pm – lunch will be served at 1pm \nLunch is free of charge courtesy of CELCA \nThe bar will be open for any refreshments 🍻
URL:https://www.lammermuirlife.co.uk/event/sunday-roast/
LOCATION:Cranshaws Village Hall\, Cranshaws Village Hall\, Cranshaws\, Scottish Borders\, TD11 3SJ\, United Kingdom
CATEGORIES:Cranshaws Village Hall,Events
ATTACH;FMTTYPE=image/png:https://www.lammermuirlife.co.uk/wp-content/uploads/2025/11/IMG_8861.png
ORGANIZER;CN="Alison Landale":MAILTO:Alison@greenhope.co.uk
END:VEVENT
BEGIN:VEVENT
DTSTART;TZID=Europe/London:20251128T130000
DTEND;TZID=Europe/London:20251128T153000
DTSTAMP:20260422T015041
CREATED:20250923T101711Z
LAST-MODIFIED:20250923T101711Z
UID:10001777-1764334800-1764343800@www.lammermuirlife.co.uk
SUMMARY:Kids Club - Learn with Lizzie
DESCRIPTION:Tickets only \n1.30pm-3.00pm
URL:https://www.lammermuirlife.co.uk/event/kids-club-learn-with-lizzie-3/2025-11-28/
LOCATION:Longformacus Village Hall\, Longformacus Village Hall\, Duns Road\, Longformacus\, Scottish Borders\, TD11 3PB\, United Kingdom
CATEGORIES:Events,Longformacus Village Hall
ORGANIZER;CN="Lorna Pate":MAILTO:lorna_pate@hotmail.com
GEO:55.806866;-2.490846
X-APPLE-STRUCTURED-LOCATION;VALUE=URI;X-ADDRESS=Longformacus Village Hall Longformacus Village Hall Duns Road Longformacus Scottish Borders TD11 3PB United Kingdom;X-APPLE-RADIUS=500;X-TITLE=Longformacus Village Hall\, Duns Road:geo:-2.490846,55.806866
END:VEVENT
BEGIN:VEVENT
DTSTART;TZID=Europe/London:20251128T110000
DTEND;TZID=Europe/London:20251128T120000
DTSTAMP:20260422T015041
CREATED:20250717T194359Z
LAST-MODIFIED:20250717T194401Z
UID:10001288-1764327600-1764331200@www.lammermuirlife.co.uk
SUMMARY:T'ai Chi
DESCRIPTION:
URL:https://www.lammermuirlife.co.uk/event/tai-chi-3-2-2/2025-11-28/
LOCATION:Longformacus Village Hall\, Longformacus Village Hall\, Duns Road\, Longformacus\, Scottish Borders\, TD11 3PB\, United Kingdom
CATEGORIES:Events,Longformacus Village Hall
GEO:55.806866;-2.490846
X-APPLE-STRUCTURED-LOCATION;VALUE=URI;X-ADDRESS=Longformacus Village Hall Longformacus Village Hall Duns Road Longformacus Scottish Borders TD11 3PB United Kingdom;X-APPLE-RADIUS=500;X-TITLE=Longformacus Village Hall\, Duns Road:geo:-2.490846,55.806866
END:VEVENT
BEGIN:VEVENT
DTSTART;TZID=Europe/London:20251127T130000
DTEND;TZID=Europe/London:20251127T150000
DTSTAMP:20260422T015041
CREATED:20251009T152604Z
LAST-MODIFIED:20251108T190021Z
UID:10001807-1764248400-1764255600@www.lammermuirlife.co.uk
SUMMARY:Soup and Sandwich
DESCRIPTION:Drop in for a warming snack and a catch up \nOnce a month during the winter months \nDonations at the door \nAll welcome
URL:https://www.lammermuirlife.co.uk/event/soup-and-sandwich/2025-11-27/
LOCATION:Longformacus Village Hall\, Longformacus Village Hall\, Duns Road\, Longformacus\, Scottish Borders\, TD11 3PB\, United Kingdom
CATEGORIES:Events,Longformacus Village Hall
ORGANIZER;CN="Ettie Spencer":MAILTO:ettiespencer@gmail.com
GEO:55.806866;-2.490846
X-APPLE-STRUCTURED-LOCATION;VALUE=URI;X-ADDRESS=Longformacus Village Hall Longformacus Village Hall Duns Road Longformacus Scottish Borders TD11 3PB United Kingdom;X-APPLE-RADIUS=500;X-TITLE=Longformacus Village Hall\, Duns Road:geo:-2.490846,55.806866
END:VEVENT
BEGIN:VEVENT
DTSTART;TZID=Europe/London:20251126T140000
DTEND;TZID=Europe/London:20251126T163000
DTSTAMP:20260422T015041
CREATED:20250828T195756Z
LAST-MODIFIED:20250828T200009Z
UID:10001715-1764165600-1764174600@www.lammermuirlife.co.uk
SUMMARY:Art Class
DESCRIPTION:Held by Rachel Sutherland (artist and landscape architect)
URL:https://www.lammermuirlife.co.uk/event/art-class/2025-11-26/
LOCATION:Longformacus Village Hall\, Longformacus Village Hall\, Duns Road\, Longformacus\, Scottish Borders\, TD11 3PB\, United Kingdom
CATEGORIES:Events,Longformacus Village Hall
ORGANIZER;CN="Ettie Spencer":MAILTO:ettiespencer@gmail.com
GEO:55.806866;-2.490846
X-APPLE-STRUCTURED-LOCATION;VALUE=URI;X-ADDRESS=Longformacus Village Hall Longformacus Village Hall Duns Road Longformacus Scottish Borders TD11 3PB United Kingdom;X-APPLE-RADIUS=500;X-TITLE=Longformacus Village Hall\, Duns Road:geo:-2.490846,55.806866
END:VEVENT
BEGIN:VEVENT
DTSTART;TZID=Europe/London:20251125T190000
DTEND;TZID=Europe/London:20251125T210000
DTSTAMP:20260422T015041
CREATED:20251106T195734Z
LAST-MODIFIED:20251112T105248Z
UID:10001793-1764097200-1764104400@www.lammermuirlife.co.uk
SUMMARY:Carpet Bowls
DESCRIPTION:Come and join us\, every Tuesday night from November – March. \n7pm \n£2 to play \nEveryone welcome
URL:https://www.lammermuirlife.co.uk/event/carpet-bowls/2025-11-25/
LOCATION:Cranshaws Village Hall\, Cranshaws Village Hall\, Cranshaws\, Scottish Borders\, TD11 3SJ\, United Kingdom
CATEGORIES:Cranshaws Village Hall,Events
ORGANIZER;CN="Neil Anderson":MAILTO:neil@hareheadfarms.co.uk
END:VEVENT
BEGIN:VEVENT
DTSTART;TZID=Europe/London:20251125T184500
DTEND;TZID=Europe/London:20251125T201500
DTSTAMP:20260422T015041
CREATED:20250821T180445Z
LAST-MODIFIED:20250821T180739Z
UID:10001646-1764096300-1764101700@www.lammermuirlife.co.uk
SUMMARY:Longformacus Choir
DESCRIPTION:
URL:https://www.lammermuirlife.co.uk/event/longformacus-choir-4/2025-11-25/
LOCATION:Longformacus Village Hall\, Longformacus Village Hall\, Duns Road\, Longformacus\, Scottish Borders\, TD11 3PB\, United Kingdom
CATEGORIES:Events,Longformacus Village Hall
ORGANIZER;CN="Kendal Mills":MAILTO:kendalmills63@gmail.com
GEO:55.806866;-2.490846
X-APPLE-STRUCTURED-LOCATION;VALUE=URI;X-ADDRESS=Longformacus Village Hall Longformacus Village Hall Duns Road Longformacus Scottish Borders TD11 3PB United Kingdom;X-APPLE-RADIUS=500;X-TITLE=Longformacus Village Hall\, Duns Road:geo:-2.490846,55.806866
END:VEVENT
BEGIN:VEVENT
DTSTART;TZID=Europe/London:20251124T173000
DTEND;TZID=Europe/London:20251124T203000
DTSTAMP:20260422T015041
CREATED:20251020T143036Z
LAST-MODIFIED:20251020T143036Z
UID:10001782-1764005400-1764016200@www.lammermuirlife.co.uk
SUMMARY:Dog Training Classes
DESCRIPTION:Local resident holding dog training classes at the hall
URL:https://www.lammermuirlife.co.uk/event/dog-training-classes/2025-11-24/
LOCATION:Longformacus Village Hall\, Longformacus Village Hall\, Duns Road\, Longformacus\, Scottish Borders\, TD11 3PB\, United Kingdom
CATEGORIES:Events,Longformacus Village Hall
GEO:55.806866;-2.490846
X-APPLE-STRUCTURED-LOCATION;VALUE=URI;X-ADDRESS=Longformacus Village Hall Longformacus Village Hall Duns Road Longformacus Scottish Borders TD11 3PB United Kingdom;X-APPLE-RADIUS=500;X-TITLE=Longformacus Village Hall\, Duns Road:geo:-2.490846,55.806866
END:VEVENT
BEGIN:VEVENT
DTSTART;TZID=Europe/London:20251124T110000
DTEND;TZID=Europe/London:20251124T130000
DTSTAMP:20260422T015041
CREATED:20250104T150855Z
LAST-MODIFIED:20250717T194649Z
UID:10001033-1763982000-1763989200@www.lammermuirlife.co.uk
SUMMARY:Journaling Cafe
DESCRIPTION:Come along and start a project or finish one! \nEveryone welcome \n 
URL:https://www.lammermuirlife.co.uk/event/journaling-cafe-4/2025-11-24/
LOCATION:Longformacus Village Hall\, Longformacus Village Hall\, Duns Road\, Longformacus\, Scottish Borders\, TD11 3PB\, United Kingdom
CATEGORIES:Events,Longformacus Village Hall
ORGANIZER;CN="Corine Craik":MAILTO:corine.craik485@btinternet.com
GEO:55.806866;-2.490846
X-APPLE-STRUCTURED-LOCATION;VALUE=URI;X-ADDRESS=Longformacus Village Hall Longformacus Village Hall Duns Road Longformacus Scottish Borders TD11 3PB United Kingdom;X-APPLE-RADIUS=500;X-TITLE=Longformacus Village Hall\, Duns Road:geo:-2.490846,55.806866
END:VEVENT
BEGIN:VEVENT
DTSTART;TZID=Europe/London:20251122T183000
DTEND;TZID=Europe/London:20251122T200000
DTSTAMP:20260422T015041
CREATED:20251025T090225Z
LAST-MODIFIED:20251112T105248Z
UID:10001788-1763836200-1763841600@www.lammermuirlife.co.uk
SUMMARY:Cranshaws Ceilidh Night
DESCRIPTION:Come along and join in some traditional Scottish dancing (with people to teach and help you) \n– Refreshments\n– ⁠A Scot’s song or poem – perhaps\n– ⁠Fun and exercise \nAny questions and to book contact;\nAlison@greenhope.co.uk\nText: 07579765460 \nFREE courtesy of CELCA\nSaturday 8th\, 15th and 22nd November:\n6.30pm – 8pm
URL:https://www.lammermuirlife.co.uk/event/cranshaws-ceilidh-night/2025-11-22/
LOCATION:Cranshaws Village Hall\, Cranshaws Village Hall\, Cranshaws\, Scottish Borders\, TD11 3SJ\, United Kingdom
CATEGORIES:Cranshaws Village Hall,Events
ATTACH;FMTTYPE=image/jpeg:https://www.lammermuirlife.co.uk/wp-content/uploads/2025/10/IMG_8525.jpeg
ORGANIZER;CN="Alison Landale":MAILTO:Alison@greenhope.co.uk
END:VEVENT
BEGIN:VEVENT
DTSTART;TZID=Europe/London:20251121T110000
DTEND;TZID=Europe/London:20251121T120000
DTSTAMP:20260422T015041
CREATED:20250717T194359Z
LAST-MODIFIED:20250717T194401Z
UID:10001287-1763722800-1763726400@www.lammermuirlife.co.uk
SUMMARY:T'ai Chi
DESCRIPTION:
URL:https://www.lammermuirlife.co.uk/event/tai-chi-3-2-2/2025-11-21/
LOCATION:Longformacus Village Hall\, Longformacus Village Hall\, Duns Road\, Longformacus\, Scottish Borders\, TD11 3PB\, United Kingdom
CATEGORIES:Events,Longformacus Village Hall
GEO:55.806866;-2.490846
X-APPLE-STRUCTURED-LOCATION;VALUE=URI;X-ADDRESS=Longformacus Village Hall Longformacus Village Hall Duns Road Longformacus Scottish Borders TD11 3PB United Kingdom;X-APPLE-RADIUS=500;X-TITLE=Longformacus Village Hall\, Duns Road:geo:-2.490846,55.806866
END:VEVENT
BEGIN:VEVENT
DTSTART;TZID=Europe/London:20251119T140000
DTEND;TZID=Europe/London:20251119T163000
DTSTAMP:20260422T015041
CREATED:20250828T195756Z
LAST-MODIFIED:20250828T200009Z
UID:10001714-1763560800-1763569800@www.lammermuirlife.co.uk
SUMMARY:Art Class
DESCRIPTION:Held by Rachel Sutherland (artist and landscape architect)
URL:https://www.lammermuirlife.co.uk/event/art-class/2025-11-19/
LOCATION:Longformacus Village Hall\, Longformacus Village Hall\, Duns Road\, Longformacus\, Scottish Borders\, TD11 3PB\, United Kingdom
CATEGORIES:Events,Longformacus Village Hall
ORGANIZER;CN="Ettie Spencer":MAILTO:ettiespencer@gmail.com
GEO:55.806866;-2.490846
X-APPLE-STRUCTURED-LOCATION;VALUE=URI;X-ADDRESS=Longformacus Village Hall Longformacus Village Hall Duns Road Longformacus Scottish Borders TD11 3PB United Kingdom;X-APPLE-RADIUS=500;X-TITLE=Longformacus Village Hall\, Duns Road:geo:-2.490846,55.806866
END:VEVENT
BEGIN:VEVENT
DTSTART;TZID=Europe/London:20251118T190000
DTEND;TZID=Europe/London:20251118T210000
DTSTAMP:20260422T015041
CREATED:20251106T195734Z
LAST-MODIFIED:20251112T105248Z
UID:10001792-1763492400-1763499600@www.lammermuirlife.co.uk
SUMMARY:Carpet Bowls
DESCRIPTION:Come and join us\, every Tuesday night from November – March. \n7pm \n£2 to play \nEveryone welcome
URL:https://www.lammermuirlife.co.uk/event/carpet-bowls/2025-11-18/
LOCATION:Cranshaws Village Hall\, Cranshaws Village Hall\, Cranshaws\, Scottish Borders\, TD11 3SJ\, United Kingdom
CATEGORIES:Cranshaws Village Hall,Events
ORGANIZER;CN="Neil Anderson":MAILTO:neil@hareheadfarms.co.uk
END:VEVENT
BEGIN:VEVENT
DTSTART;TZID=Europe/London:20251118T184500
DTEND;TZID=Europe/London:20251118T201500
DTSTAMP:20260422T015041
CREATED:20250821T180445Z
LAST-MODIFIED:20250821T180739Z
UID:10001645-1763491500-1763496900@www.lammermuirlife.co.uk
SUMMARY:Longformacus Choir
DESCRIPTION:
URL:https://www.lammermuirlife.co.uk/event/longformacus-choir-4/2025-11-18/
LOCATION:Longformacus Village Hall\, Longformacus Village Hall\, Duns Road\, Longformacus\, Scottish Borders\, TD11 3PB\, United Kingdom
CATEGORIES:Events,Longformacus Village Hall
ORGANIZER;CN="Kendal Mills":MAILTO:kendalmills63@gmail.com
GEO:55.806866;-2.490846
X-APPLE-STRUCTURED-LOCATION;VALUE=URI;X-ADDRESS=Longformacus Village Hall Longformacus Village Hall Duns Road Longformacus Scottish Borders TD11 3PB United Kingdom;X-APPLE-RADIUS=500;X-TITLE=Longformacus Village Hall\, Duns Road:geo:-2.490846,55.806866
END:VEVENT
BEGIN:VEVENT
DTSTART;TZID=Europe/London:20251117T173000
DTEND;TZID=Europe/London:20251117T203000
DTSTAMP:20260422T015041
CREATED:20251020T143036Z
LAST-MODIFIED:20251020T143036Z
UID:10001781-1763400600-1763411400@www.lammermuirlife.co.uk
SUMMARY:Dog Training Classes
DESCRIPTION:Local resident holding dog training classes at the hall
URL:https://www.lammermuirlife.co.uk/event/dog-training-classes/2025-11-17/
LOCATION:Longformacus Village Hall\, Longformacus Village Hall\, Duns Road\, Longformacus\, Scottish Borders\, TD11 3PB\, United Kingdom
CATEGORIES:Events,Longformacus Village Hall
GEO:55.806866;-2.490846
X-APPLE-STRUCTURED-LOCATION;VALUE=URI;X-ADDRESS=Longformacus Village Hall Longformacus Village Hall Duns Road Longformacus Scottish Borders TD11 3PB United Kingdom;X-APPLE-RADIUS=500;X-TITLE=Longformacus Village Hall\, Duns Road:geo:-2.490846,55.806866
END:VEVENT
BEGIN:VEVENT
DTSTART;TZID=Europe/London:20251117T110000
DTEND;TZID=Europe/London:20251117T130000
DTSTAMP:20260422T015041
CREATED:20250104T150855Z
LAST-MODIFIED:20250717T194649Z
UID:10001032-1763377200-1763384400@www.lammermuirlife.co.uk
SUMMARY:Journaling Cafe
DESCRIPTION:Come along and start a project or finish one! \nEveryone welcome \n 
URL:https://www.lammermuirlife.co.uk/event/journaling-cafe-4/2025-11-17/
LOCATION:Longformacus Village Hall\, Longformacus Village Hall\, Duns Road\, Longformacus\, Scottish Borders\, TD11 3PB\, United Kingdom
CATEGORIES:Events,Longformacus Village Hall
ORGANIZER;CN="Corine Craik":MAILTO:corine.craik485@btinternet.com
GEO:55.806866;-2.490846
X-APPLE-STRUCTURED-LOCATION;VALUE=URI;X-ADDRESS=Longformacus Village Hall Longformacus Village Hall Duns Road Longformacus Scottish Borders TD11 3PB United Kingdom;X-APPLE-RADIUS=500;X-TITLE=Longformacus Village Hall\, Duns Road:geo:-2.490846,55.806866
END:VEVENT
BEGIN:VEVENT
DTSTART;TZID=Europe/London:20251115T183000
DTEND;TZID=Europe/London:20251115T200000
DTSTAMP:20260422T015041
CREATED:20251025T090225Z
LAST-MODIFIED:20251112T105248Z
UID:10001787-1763231400-1763236800@www.lammermuirlife.co.uk
SUMMARY:Cranshaws Ceilidh Night
DESCRIPTION:Come along and join in some traditional Scottish dancing (with people to teach and help you) \n– Refreshments\n– ⁠A Scot’s song or poem – perhaps\n– ⁠Fun and exercise \nAny questions and to book contact;\nAlison@greenhope.co.uk\nText: 07579765460 \nFREE courtesy of CELCA\nSaturday 8th\, 15th and 22nd November:\n6.30pm – 8pm
URL:https://www.lammermuirlife.co.uk/event/cranshaws-ceilidh-night/2025-11-15/
LOCATION:Cranshaws Village Hall\, Cranshaws Village Hall\, Cranshaws\, Scottish Borders\, TD11 3SJ\, United Kingdom
CATEGORIES:Cranshaws Village Hall,Events
ATTACH;FMTTYPE=image/jpeg:https://www.lammermuirlife.co.uk/wp-content/uploads/2025/10/IMG_8525.jpeg
ORGANIZER;CN="Alison Landale":MAILTO:Alison@greenhope.co.uk
END:VEVENT
BEGIN:VEVENT
DTSTART;TZID=Europe/London:20251114T110000
DTEND;TZID=Europe/London:20251114T120000
DTSTAMP:20260422T015041
CREATED:20250717T194359Z
LAST-MODIFIED:20250717T194401Z
UID:10001286-1763118000-1763121600@www.lammermuirlife.co.uk
SUMMARY:T'ai Chi
DESCRIPTION:
URL:https://www.lammermuirlife.co.uk/event/tai-chi-3-2-2/2025-11-14/
LOCATION:Longformacus Village Hall\, Longformacus Village Hall\, Duns Road\, Longformacus\, Scottish Borders\, TD11 3PB\, United Kingdom
CATEGORIES:Events,Longformacus Village Hall
GEO:55.806866;-2.490846
X-APPLE-STRUCTURED-LOCATION;VALUE=URI;X-ADDRESS=Longformacus Village Hall Longformacus Village Hall Duns Road Longformacus Scottish Borders TD11 3PB United Kingdom;X-APPLE-RADIUS=500;X-TITLE=Longformacus Village Hall\, Duns Road:geo:-2.490846,55.806866
END:VEVENT
BEGIN:VEVENT
DTSTART;TZID=Europe/London:20251112T190000
DTEND;TZID=Europe/London:20251112T203000
DTSTAMP:20260422T015041
CREATED:20251106T192510Z
LAST-MODIFIED:20251112T105247Z
UID:10001790-1762974000-1762979400@www.lammermuirlife.co.uk
SUMMARY:Cranshaws Village Hall AGM
DESCRIPTION:Cranshaws Village Hall Committee \nAGM \nNew Members Welcome 🙂
URL:https://www.lammermuirlife.co.uk/event/cranshaws-village-hall-agm/
LOCATION:Cranshaws Village Hall\, Cranshaws Village Hall\, Cranshaws\, Scottish Borders\, TD11 3SJ\, United Kingdom
CATEGORIES:Cranshaws Village Hall,Events
ORGANIZER;CN="Ronnie Wylie":MAILTO:ronnie.wylie@ymail.com
END:VEVENT
END:VCALENDAR