BEGIN:VCALENDAR
VERSION:2.0
PRODID:-//Lammermuir Community Website - ECPv6.15.20//NONSGML v1.0//EN
CALSCALE:GREGORIAN
METHOD:PUBLISH
X-WR-CALNAME:Lammermuir Community Website
X-ORIGINAL-URL:https://www.lammermuirlife.co.uk
X-WR-CALDESC:Events for Lammermuir Community Website
REFRESH-INTERVAL;VALUE=DURATION:PT1H
X-Robots-Tag:noindex
X-PUBLISHED-TTL:PT1H
BEGIN:VTIMEZONE
TZID:Europe/London
BEGIN:DAYLIGHT
TZOFFSETFROM:+0000
TZOFFSETTO:+0100
TZNAME:BST
DTSTART:20250330T010000
END:DAYLIGHT
BEGIN:STANDARD
TZOFFSETFROM:+0100
TZOFFSETTO:+0000
TZNAME:GMT
DTSTART:20251026T010000
END:STANDARD
BEGIN:DAYLIGHT
TZOFFSETFROM:+0000
TZOFFSETTO:+0100
TZNAME:BST
DTSTART:20260329T010000
END:DAYLIGHT
BEGIN:STANDARD
TZOFFSETFROM:+0100
TZOFFSETTO:+0000
TZNAME:GMT
DTSTART:20261025T010000
END:STANDARD
BEGIN:DAYLIGHT
TZOFFSETFROM:+0000
TZOFFSETTO:+0100
TZNAME:BST
DTSTART:20270328T010000
END:DAYLIGHT
BEGIN:STANDARD
TZOFFSETFROM:+0100
TZOFFSETTO:+0000
TZNAME:GMT
DTSTART:20271031T010000
END:STANDARD
END:VTIMEZONE
BEGIN:VEVENT
DTSTART;TZID=Europe/London:20260331T184500
DTEND;TZID=Europe/London:20260331T201500
DTSTAMP:20260421T043352
CREATED:20260101T195157Z
LAST-MODIFIED:20260101T195157Z
UID:10001853-1774982700-1774988100@www.lammermuirlife.co.uk
SUMMARY:Longformacus Choir
DESCRIPTION:
URL:https://www.lammermuirlife.co.uk/event/longformacus-choir-5/2026-03-31/
LOCATION:Longformacus Village Hall\, Longformacus Village Hall\, Duns Road\, Longformacus\, Scottish Borders\, TD11 3PB\, United Kingdom
CATEGORIES:Events,Longformacus Village Hall
ORGANIZER;CN="Kendal Mills":MAILTO:kendalmills63@gmail.com
GEO:55.806866;-2.490846
X-APPLE-STRUCTURED-LOCATION;VALUE=URI;X-ADDRESS=Longformacus Village Hall Longformacus Village Hall Duns Road Longformacus Scottish Borders TD11 3PB United Kingdom;X-APPLE-RADIUS=500;X-TITLE=Longformacus Village Hall\, Duns Road:geo:-2.490846,55.806866
END:VEVENT
BEGIN:VEVENT
DTSTART;TZID=Europe/London:20260403T110000
DTEND;TZID=Europe/London:20260403T120000
DTSTAMP:20260421T043352
CREATED:20260110T154813Z
LAST-MODIFIED:20260110T154814Z
UID:10001905-1775214000-1775217600@www.lammermuirlife.co.uk
SUMMARY:T'ai Chi
DESCRIPTION:
URL:https://www.lammermuirlife.co.uk/event/tai-chi-4-2/2026-04-03/
LOCATION:Longformacus Village Hall\, Longformacus Village Hall\, Duns Road\, Longformacus\, Scottish Borders\, TD11 3PB\, United Kingdom
CATEGORIES:Events,Longformacus Village Hall
ORGANIZER;CN="Ettie Spencer":MAILTO:ettiespencer@gmail.com
GEO:55.806866;-2.490846
X-APPLE-STRUCTURED-LOCATION;VALUE=URI;X-ADDRESS=Longformacus Village Hall Longformacus Village Hall Duns Road Longformacus Scottish Borders TD11 3PB United Kingdom;X-APPLE-RADIUS=500;X-TITLE=Longformacus Village Hall\, Duns Road:geo:-2.490846,55.806866
END:VEVENT
BEGIN:VEVENT
DTSTART;TZID=Europe/London:20260403T130000
DTEND;TZID=Europe/London:20260403T160000
DTSTAMP:20260421T043352
CREATED:20260101T201935Z
LAST-MODIFIED:20260318T200234Z
UID:10001943-1775221200-1775232000@www.lammermuirlife.co.uk
SUMMARY:Preparations for Windmill Coffee Shop
DESCRIPTION:
URL:https://www.lammermuirlife.co.uk/event/preparations-for-windmill-coffee-shop-9/2026-04-03/
LOCATION:Longformacus Village Hall\, Longformacus Village Hall\, Duns Road\, Longformacus\, Scottish Borders\, TD11 3PB\, United Kingdom
CATEGORIES:Events,Longformacus Village Hall
ORGANIZER;CN="Heather Bewick":MAILTO:heath8667hl@gmail.com
GEO:55.806866;-2.490846
X-APPLE-STRUCTURED-LOCATION;VALUE=URI;X-ADDRESS=Longformacus Village Hall Longformacus Village Hall Duns Road Longformacus Scottish Borders TD11 3PB United Kingdom;X-APPLE-RADIUS=500;X-TITLE=Longformacus Village Hall\, Duns Road:geo:-2.490846,55.806866
END:VEVENT
BEGIN:VEVENT
DTSTART;TZID=Europe/London:20260404T110000
DTEND;TZID=Europe/London:20260404T130000
DTSTAMP:20260421T043352
CREATED:20260101T201456Z
LAST-MODIFIED:20260101T201456Z
UID:10001921-1775300400-1775307600@www.lammermuirlife.co.uk
SUMMARY:Windmill Coffee Shop
DESCRIPTION:Come along to the windmill coffee shop on the first Saturday of the month. \nEnjoy a cuppa and a fab selection of homemade cakes. \nAll welcome
URL:https://www.lammermuirlife.co.uk/event/windmill-coffee-shop-15/2026-04-04/
LOCATION:Longformacus Village Hall\, Longformacus Village Hall\, Duns Road\, Longformacus\, Scottish Borders\, TD11 3PB\, United Kingdom
CATEGORIES:Events,Longformacus Village Hall
ORGANIZER;CN="Heather Bewick":MAILTO:heath8667hl@gmail.com
GEO:55.806866;-2.490846
X-APPLE-STRUCTURED-LOCATION;VALUE=URI;X-ADDRESS=Longformacus Village Hall Longformacus Village Hall Duns Road Longformacus Scottish Borders TD11 3PB United Kingdom;X-APPLE-RADIUS=500;X-TITLE=Longformacus Village Hall\, Duns Road:geo:-2.490846,55.806866
END:VEVENT
BEGIN:VEVENT
DTSTART;TZID=Europe/London:20260406T110000
DTEND;TZID=Europe/London:20260406T130000
DTSTAMP:20260421T043352
CREATED:20260110T154108Z
LAST-MODIFIED:20260110T154109Z
UID:10001829-1775473200-1775480400@www.lammermuirlife.co.uk
SUMMARY:Journaling Cafe
DESCRIPTION:Come along and start a project or finish one! \nEveryone welcome
URL:https://www.lammermuirlife.co.uk/event/journaling-cafe-5-2/2026-04-06/
LOCATION:Longformacus Village Hall\, Longformacus Village Hall\, Duns Road\, Longformacus\, Scottish Borders\, TD11 3PB\, United Kingdom
CATEGORIES:Events,Longformacus Village Hall
ORGANIZER;CN="Corine Craik":MAILTO:corine.craik485@btinternet.com
GEO:55.806866;-2.490846
X-APPLE-STRUCTURED-LOCATION;VALUE=URI;X-ADDRESS=Longformacus Village Hall Longformacus Village Hall Duns Road Longformacus Scottish Borders TD11 3PB United Kingdom;X-APPLE-RADIUS=500;X-TITLE=Longformacus Village Hall\, Duns Road:geo:-2.490846,55.806866
END:VEVENT
BEGIN:VEVENT
DTSTART;TZID=Europe/London:20260407T184500
DTEND;TZID=Europe/London:20260407T201500
DTSTAMP:20260421T043352
CREATED:20260101T195157Z
LAST-MODIFIED:20260101T195157Z
UID:10001854-1775587500-1775592900@www.lammermuirlife.co.uk
SUMMARY:Longformacus Choir
DESCRIPTION:
URL:https://www.lammermuirlife.co.uk/event/longformacus-choir-5/2026-04-07/
LOCATION:Longformacus Village Hall\, Longformacus Village Hall\, Duns Road\, Longformacus\, Scottish Borders\, TD11 3PB\, United Kingdom
CATEGORIES:Events,Longformacus Village Hall
ORGANIZER;CN="Kendal Mills":MAILTO:kendalmills63@gmail.com
GEO:55.806866;-2.490846
X-APPLE-STRUCTURED-LOCATION;VALUE=URI;X-ADDRESS=Longformacus Village Hall Longformacus Village Hall Duns Road Longformacus Scottish Borders TD11 3PB United Kingdom;X-APPLE-RADIUS=500;X-TITLE=Longformacus Village Hall\, Duns Road:geo:-2.490846,55.806866
END:VEVENT
BEGIN:VEVENT
DTSTART;TZID=Europe/London:20260408T163000
DTEND;TZID=Europe/London:20260408T220000
DTSTAMP:20260421T043352
CREATED:20260110T153016Z
LAST-MODIFIED:20260310T194434Z
UID:10001994-1775665800-1775685600@www.lammermuirlife.co.uk
SUMMARY:DunsPlayFest
DESCRIPTION:The event runs from 7pm. \nThis will include Its Good To Be Bad\, a play by Tom Murray\, performed by Jane Houston Green\, a film of The White Knight\, directed and adapted by Eloner Crawford\, which is one of The Wilson’s Tales and some music from local musicians. \nThere will be pies for sale and a licensed bar. \nTickets will be free to local residents or £10/5 for those outside the area.
URL:https://www.lammermuirlife.co.uk/event/theatrical-variety-performance-dunsplayfest/
LOCATION:Longformacus Village Hall\, Longformacus Village Hall\, Duns Road\, Longformacus\, Scottish Borders\, TD11 3PB\, United Kingdom
CATEGORIES:Events,Longformacus Village Hall
ORGANIZER;CN="John McEwen":MAILTO:jrhmcewen@btinternet.com
GEO:55.806866;-2.490846
X-APPLE-STRUCTURED-LOCATION;VALUE=URI;X-ADDRESS=Longformacus Village Hall Longformacus Village Hall Duns Road Longformacus Scottish Borders TD11 3PB United Kingdom;X-APPLE-RADIUS=500;X-TITLE=Longformacus Village Hall\, Duns Road:geo:-2.490846,55.806866
END:VEVENT
BEGIN:VEVENT
DTSTART;TZID=Europe/London:20260410T110000
DTEND;TZID=Europe/London:20260410T120000
DTSTAMP:20260421T043352
CREATED:20260110T154813Z
LAST-MODIFIED:20260110T154814Z
UID:10001906-1775818800-1775822400@www.lammermuirlife.co.uk
SUMMARY:T'ai Chi
DESCRIPTION:
URL:https://www.lammermuirlife.co.uk/event/tai-chi-4-2/2026-04-10/
LOCATION:Longformacus Village Hall\, Longformacus Village Hall\, Duns Road\, Longformacus\, Scottish Borders\, TD11 3PB\, United Kingdom
CATEGORIES:Events,Longformacus Village Hall
ORGANIZER;CN="Ettie Spencer":MAILTO:ettiespencer@gmail.com
GEO:55.806866;-2.490846
X-APPLE-STRUCTURED-LOCATION;VALUE=URI;X-ADDRESS=Longformacus Village Hall Longformacus Village Hall Duns Road Longformacus Scottish Borders TD11 3PB United Kingdom;X-APPLE-RADIUS=500;X-TITLE=Longformacus Village Hall\, Duns Road:geo:-2.490846,55.806866
END:VEVENT
BEGIN:VEVENT
DTSTART;TZID=Europe/London:20260413T090000
DTEND;TZID=Europe/London:20260413T120000
DTSTAMP:20260421T043352
CREATED:20260105T150111Z
LAST-MODIFIED:20260105T150111Z
UID:10001971-1776070800-1776081600@www.lammermuirlife.co.uk
SUMMARY:Kids Club - Learn with Lizzie
DESCRIPTION:9am – 12pm \nMonday 13th – Friday 17th April \nTickets only
URL:https://www.lammermuirlife.co.uk/event/kids-club-learn-with-lizzie-4/2026-04-13/
LOCATION:Cranshaws Village Hall\, Cranshaws Village Hall\, Cranshaws\, Scottish Borders\, TD11 3SJ\, United Kingdom
CATEGORIES:Cranshaws Village Hall,Events
ORGANIZER;CN="Lorna Pate":MAILTO:lorna_pate@hotmail.com
END:VEVENT
BEGIN:VEVENT
DTSTART;TZID=Europe/London:20260413T110000
DTEND;TZID=Europe/London:20260413T130000
DTSTAMP:20260421T043352
CREATED:20260110T154108Z
LAST-MODIFIED:20260110T154109Z
UID:10001830-1776078000-1776085200@www.lammermuirlife.co.uk
SUMMARY:Journaling Cafe
DESCRIPTION:Come along and start a project or finish one! \nEveryone welcome
URL:https://www.lammermuirlife.co.uk/event/journaling-cafe-5-2/2026-04-13/
LOCATION:Longformacus Village Hall\, Longformacus Village Hall\, Duns Road\, Longformacus\, Scottish Borders\, TD11 3PB\, United Kingdom
CATEGORIES:Events,Longformacus Village Hall
ORGANIZER;CN="Corine Craik":MAILTO:corine.craik485@btinternet.com
GEO:55.806866;-2.490846
X-APPLE-STRUCTURED-LOCATION;VALUE=URI;X-ADDRESS=Longformacus Village Hall Longformacus Village Hall Duns Road Longformacus Scottish Borders TD11 3PB United Kingdom;X-APPLE-RADIUS=500;X-TITLE=Longformacus Village Hall\, Duns Road:geo:-2.490846,55.806866
END:VEVENT
BEGIN:VEVENT
DTSTART;TZID=Europe/London:20260414T090000
DTEND;TZID=Europe/London:20260414T120000
DTSTAMP:20260421T043352
CREATED:20260105T150111Z
LAST-MODIFIED:20260105T150111Z
UID:10001972-1776157200-1776168000@www.lammermuirlife.co.uk
SUMMARY:Kids Club - Learn with Lizzie
DESCRIPTION:9am – 12pm \nMonday 13th – Friday 17th April \nTickets only
URL:https://www.lammermuirlife.co.uk/event/kids-club-learn-with-lizzie-4/2026-04-14/
LOCATION:Cranshaws Village Hall\, Cranshaws Village Hall\, Cranshaws\, Scottish Borders\, TD11 3SJ\, United Kingdom
CATEGORIES:Cranshaws Village Hall,Events
ORGANIZER;CN="Lorna Pate":MAILTO:lorna_pate@hotmail.com
END:VEVENT
BEGIN:VEVENT
DTSTART;TZID=Europe/London:20260414T184500
DTEND;TZID=Europe/London:20260414T201500
DTSTAMP:20260421T043352
CREATED:20260101T195157Z
LAST-MODIFIED:20260101T195157Z
UID:10001855-1776192300-1776197700@www.lammermuirlife.co.uk
SUMMARY:Longformacus Choir
DESCRIPTION:
URL:https://www.lammermuirlife.co.uk/event/longformacus-choir-5/2026-04-14/
LOCATION:Longformacus Village Hall\, Longformacus Village Hall\, Duns Road\, Longformacus\, Scottish Borders\, TD11 3PB\, United Kingdom
CATEGORIES:Events,Longformacus Village Hall
ORGANIZER;CN="Kendal Mills":MAILTO:kendalmills63@gmail.com
GEO:55.806866;-2.490846
X-APPLE-STRUCTURED-LOCATION;VALUE=URI;X-ADDRESS=Longformacus Village Hall Longformacus Village Hall Duns Road Longformacus Scottish Borders TD11 3PB United Kingdom;X-APPLE-RADIUS=500;X-TITLE=Longformacus Village Hall\, Duns Road:geo:-2.490846,55.806866
END:VEVENT
BEGIN:VEVENT
DTSTART;TZID=Europe/London:20260415T090000
DTEND;TZID=Europe/London:20260415T120000
DTSTAMP:20260421T043352
CREATED:20260105T150111Z
LAST-MODIFIED:20260105T150111Z
UID:10001973-1776243600-1776254400@www.lammermuirlife.co.uk
SUMMARY:Kids Club - Learn with Lizzie
DESCRIPTION:9am – 12pm \nMonday 13th – Friday 17th April \nTickets only
URL:https://www.lammermuirlife.co.uk/event/kids-club-learn-with-lizzie-4/2026-04-15/
LOCATION:Cranshaws Village Hall\, Cranshaws Village Hall\, Cranshaws\, Scottish Borders\, TD11 3SJ\, United Kingdom
CATEGORIES:Cranshaws Village Hall,Events
ORGANIZER;CN="Lorna Pate":MAILTO:lorna_pate@hotmail.com
END:VEVENT
BEGIN:VEVENT
DTSTART;TZID=Europe/London:20260416T090000
DTEND;TZID=Europe/London:20260416T120000
DTSTAMP:20260421T043352
CREATED:20260105T150111Z
LAST-MODIFIED:20260105T150111Z
UID:10001974-1776330000-1776340800@www.lammermuirlife.co.uk
SUMMARY:Kids Club - Learn with Lizzie
DESCRIPTION:9am – 12pm \nMonday 13th – Friday 17th April \nTickets only
URL:https://www.lammermuirlife.co.uk/event/kids-club-learn-with-lizzie-4/2026-04-16/
LOCATION:Cranshaws Village Hall\, Cranshaws Village Hall\, Cranshaws\, Scottish Borders\, TD11 3SJ\, United Kingdom
CATEGORIES:Cranshaws Village Hall,Events
ORGANIZER;CN="Lorna Pate":MAILTO:lorna_pate@hotmail.com
END:VEVENT
BEGIN:VEVENT
DTSTART;TZID=Europe/London:20260417T090000
DTEND;TZID=Europe/London:20260417T120000
DTSTAMP:20260421T043352
CREATED:20260105T150111Z
LAST-MODIFIED:20260105T150111Z
UID:10001975-1776416400-1776427200@www.lammermuirlife.co.uk
SUMMARY:Kids Club - Learn with Lizzie
DESCRIPTION:9am – 12pm \nMonday 13th – Friday 17th April \nTickets only
URL:https://www.lammermuirlife.co.uk/event/kids-club-learn-with-lizzie-4/2026-04-17/
LOCATION:Cranshaws Village Hall\, Cranshaws Village Hall\, Cranshaws\, Scottish Borders\, TD11 3SJ\, United Kingdom
CATEGORIES:Cranshaws Village Hall,Events
ORGANIZER;CN="Lorna Pate":MAILTO:lorna_pate@hotmail.com
END:VEVENT
BEGIN:VEVENT
DTSTART;TZID=Europe/London:20260417T110000
DTEND;TZID=Europe/London:20260417T120000
DTSTAMP:20260421T043352
CREATED:20260110T154813Z
LAST-MODIFIED:20260110T154814Z
UID:10001907-1776423600-1776427200@www.lammermuirlife.co.uk
SUMMARY:T'ai Chi
DESCRIPTION:
URL:https://www.lammermuirlife.co.uk/event/tai-chi-4-2/2026-04-17/
LOCATION:Longformacus Village Hall\, Longformacus Village Hall\, Duns Road\, Longformacus\, Scottish Borders\, TD11 3PB\, United Kingdom
CATEGORIES:Events,Longformacus Village Hall
ORGANIZER;CN="Ettie Spencer":MAILTO:ettiespencer@gmail.com
GEO:55.806866;-2.490846
X-APPLE-STRUCTURED-LOCATION;VALUE=URI;X-ADDRESS=Longformacus Village Hall Longformacus Village Hall Duns Road Longformacus Scottish Borders TD11 3PB United Kingdom;X-APPLE-RADIUS=500;X-TITLE=Longformacus Village Hall\, Duns Road:geo:-2.490846,55.806866
END:VEVENT
BEGIN:VEVENT
DTSTART;TZID=Europe/London:20260419T100000
DTEND;TZID=Europe/London:20260419T160000
DTSTAMP:20260421T043352
CREATED:20260306T200454Z
LAST-MODIFIED:20260418T185826Z
UID:10002064-1776592800-1776614400@www.lammermuirlife.co.uk
SUMMARY:Private booking
DESCRIPTION:Local resident hiring the hall to rehearse upcoming show
URL:https://www.lammermuirlife.co.uk/event/private-booking-19/
LOCATION:Longformacus Village Hall\, Longformacus Village Hall\, Duns Road\, Longformacus\, Scottish Borders\, TD11 3PB\, United Kingdom
CATEGORIES:Events,Longformacus Village Hall
ORGANIZER;CN="Katherina Radeva":MAILTO:kat@katherinaradeva.co.uk
GEO:55.806866;-2.490846
X-APPLE-STRUCTURED-LOCATION;VALUE=URI;X-ADDRESS=Longformacus Village Hall Longformacus Village Hall Duns Road Longformacus Scottish Borders TD11 3PB United Kingdom;X-APPLE-RADIUS=500;X-TITLE=Longformacus Village Hall\, Duns Road:geo:-2.490846,55.806866
END:VEVENT
BEGIN:VEVENT
DTSTART;TZID=Europe/London:20260420T110000
DTEND;TZID=Europe/London:20260420T130000
DTSTAMP:20260421T043352
CREATED:20260110T154108Z
LAST-MODIFIED:20260110T154109Z
UID:10001831-1776682800-1776690000@www.lammermuirlife.co.uk
SUMMARY:Journaling Cafe
DESCRIPTION:Come along and start a project or finish one! \nEveryone welcome
URL:https://www.lammermuirlife.co.uk/event/journaling-cafe-5-2/2026-04-20/
LOCATION:Longformacus Village Hall\, Longformacus Village Hall\, Duns Road\, Longformacus\, Scottish Borders\, TD11 3PB\, United Kingdom
CATEGORIES:Events,Longformacus Village Hall
ORGANIZER;CN="Corine Craik":MAILTO:corine.craik485@btinternet.com
GEO:55.806866;-2.490846
X-APPLE-STRUCTURED-LOCATION;VALUE=URI;X-ADDRESS=Longformacus Village Hall Longformacus Village Hall Duns Road Longformacus Scottish Borders TD11 3PB United Kingdom;X-APPLE-RADIUS=500;X-TITLE=Longformacus Village Hall\, Duns Road:geo:-2.490846,55.806866
END:VEVENT
BEGIN:VEVENT
DTSTART;TZID=Europe/London:20260421T100000
DTEND;TZID=Europe/London:20260421T150000
DTSTAMP:20260421T043352
CREATED:20260110T152222Z
LAST-MODIFIED:20260413T161249Z
UID:10002075-1776765600-1776783600@www.lammermuirlife.co.uk
SUMMARY:Soup Lunch
DESCRIPTION:Drop in for a warming snack and catch up \n@ 1pm \nOnce a month during the winter months \nDonations at the door \nAll welcome
URL:https://www.lammermuirlife.co.uk/event/soup-lunch-2/2026-04-21/
LOCATION:Longformacus Village Hall\, Longformacus Village Hall\, Duns Road\, Longformacus\, Scottish Borders\, TD11 3PB\, United Kingdom
CATEGORIES:Events,Longformacus Village Hall
ORGANIZER;CN="Kathleen White":MAILTO:canvass.bungee.0q@icloud.com
GEO:55.806866;-2.490846
X-APPLE-STRUCTURED-LOCATION;VALUE=URI;X-ADDRESS=Longformacus Village Hall Longformacus Village Hall Duns Road Longformacus Scottish Borders TD11 3PB United Kingdom;X-APPLE-RADIUS=500;X-TITLE=Longformacus Village Hall\, Duns Road:geo:-2.490846,55.806866
END:VEVENT
BEGIN:VEVENT
DTSTART;TZID=Europe/London:20260421T184500
DTEND;TZID=Europe/London:20260421T201500
DTSTAMP:20260421T043352
CREATED:20260101T195157Z
LAST-MODIFIED:20260101T195157Z
UID:10001856-1776797100-1776802500@www.lammermuirlife.co.uk
SUMMARY:Longformacus Choir
DESCRIPTION:
URL:https://www.lammermuirlife.co.uk/event/longformacus-choir-5/2026-04-21/
LOCATION:Longformacus Village Hall\, Longformacus Village Hall\, Duns Road\, Longformacus\, Scottish Borders\, TD11 3PB\, United Kingdom
CATEGORIES:Events,Longformacus Village Hall
ORGANIZER;CN="Kendal Mills":MAILTO:kendalmills63@gmail.com
GEO:55.806866;-2.490846
X-APPLE-STRUCTURED-LOCATION;VALUE=URI;X-ADDRESS=Longformacus Village Hall Longformacus Village Hall Duns Road Longformacus Scottish Borders TD11 3PB United Kingdom;X-APPLE-RADIUS=500;X-TITLE=Longformacus Village Hall\, Duns Road:geo:-2.490846,55.806866
END:VEVENT
BEGIN:VEVENT
DTSTART;TZID=Europe/London:20260422T140000
DTEND;TZID=Europe/London:20260422T163000
DTSTAMP:20260421T043352
CREATED:20260110T154406Z
LAST-MODIFIED:20260413T185442Z
UID:10001882-1776866400-1776875400@www.lammermuirlife.co.uk
SUMMARY:Art Class
DESCRIPTION:Held by Rachel Sutherland (artist and landscape architect)
URL:https://www.lammermuirlife.co.uk/event/art-class-3-2/2026-04-22/
LOCATION:Longformacus Village Hall\, Longformacus Village Hall\, Duns Road\, Longformacus\, Scottish Borders\, TD11 3PB\, United Kingdom
CATEGORIES:Events,Longformacus Village Hall
ORGANIZER;CN="Ettie Spencer":MAILTO:ettiespencer@gmail.com
GEO:55.806866;-2.490846
X-APPLE-STRUCTURED-LOCATION;VALUE=URI;X-ADDRESS=Longformacus Village Hall Longformacus Village Hall Duns Road Longformacus Scottish Borders TD11 3PB United Kingdom;X-APPLE-RADIUS=500;X-TITLE=Longformacus Village Hall\, Duns Road:geo:-2.490846,55.806866
END:VEVENT
BEGIN:VEVENT
DTSTART;TZID=Europe/London:20260424T110000
DTEND;TZID=Europe/London:20260424T120000
DTSTAMP:20260421T043352
CREATED:20260110T154813Z
LAST-MODIFIED:20260110T154814Z
UID:10001908-1777028400-1777032000@www.lammermuirlife.co.uk
SUMMARY:T'ai Chi
DESCRIPTION:
URL:https://www.lammermuirlife.co.uk/event/tai-chi-4-2/2026-04-24/
LOCATION:Longformacus Village Hall\, Longformacus Village Hall\, Duns Road\, Longformacus\, Scottish Borders\, TD11 3PB\, United Kingdom
CATEGORIES:Events,Longformacus Village Hall
ORGANIZER;CN="Ettie Spencer":MAILTO:ettiespencer@gmail.com
GEO:55.806866;-2.490846
X-APPLE-STRUCTURED-LOCATION;VALUE=URI;X-ADDRESS=Longformacus Village Hall Longformacus Village Hall Duns Road Longformacus Scottish Borders TD11 3PB United Kingdom;X-APPLE-RADIUS=500;X-TITLE=Longformacus Village Hall\, Duns Road:geo:-2.490846,55.806866
END:VEVENT
BEGIN:VEVENT
DTSTART;TZID=Europe/London:20260427T110000
DTEND;TZID=Europe/London:20260427T130000
DTSTAMP:20260421T043352
CREATED:20260110T154108Z
LAST-MODIFIED:20260110T154109Z
UID:10001832-1777287600-1777294800@www.lammermuirlife.co.uk
SUMMARY:Journaling Cafe
DESCRIPTION:Come along and start a project or finish one! \nEveryone welcome
URL:https://www.lammermuirlife.co.uk/event/journaling-cafe-5-2/2026-04-27/
LOCATION:Longformacus Village Hall\, Longformacus Village Hall\, Duns Road\, Longformacus\, Scottish Borders\, TD11 3PB\, United Kingdom
CATEGORIES:Events,Longformacus Village Hall
ORGANIZER;CN="Corine Craik":MAILTO:corine.craik485@btinternet.com
GEO:55.806866;-2.490846
X-APPLE-STRUCTURED-LOCATION;VALUE=URI;X-ADDRESS=Longformacus Village Hall Longformacus Village Hall Duns Road Longformacus Scottish Borders TD11 3PB United Kingdom;X-APPLE-RADIUS=500;X-TITLE=Longformacus Village Hall\, Duns Road:geo:-2.490846,55.806866
END:VEVENT
BEGIN:VEVENT
DTSTART;TZID=Europe/London:20260428T184500
DTEND;TZID=Europe/London:20260428T201500
DTSTAMP:20260421T043352
CREATED:20260101T195157Z
LAST-MODIFIED:20260101T195157Z
UID:10001857-1777401900-1777407300@www.lammermuirlife.co.uk
SUMMARY:Longformacus Choir
DESCRIPTION:
URL:https://www.lammermuirlife.co.uk/event/longformacus-choir-5/2026-04-28/
LOCATION:Longformacus Village Hall\, Longformacus Village Hall\, Duns Road\, Longformacus\, Scottish Borders\, TD11 3PB\, United Kingdom
CATEGORIES:Events,Longformacus Village Hall
ORGANIZER;CN="Kendal Mills":MAILTO:kendalmills63@gmail.com
GEO:55.806866;-2.490846
X-APPLE-STRUCTURED-LOCATION;VALUE=URI;X-ADDRESS=Longformacus Village Hall Longformacus Village Hall Duns Road Longformacus Scottish Borders TD11 3PB United Kingdom;X-APPLE-RADIUS=500;X-TITLE=Longformacus Village Hall\, Duns Road:geo:-2.490846,55.806866
END:VEVENT
BEGIN:VEVENT
DTSTART;TZID=Europe/London:20260429T140000
DTEND;TZID=Europe/London:20260429T163000
DTSTAMP:20260421T043352
CREATED:20260110T154406Z
LAST-MODIFIED:20260413T185442Z
UID:10001883-1777471200-1777480200@www.lammermuirlife.co.uk
SUMMARY:Art Class
DESCRIPTION:Held by Rachel Sutherland (artist and landscape architect)
URL:https://www.lammermuirlife.co.uk/event/art-class-3-2/2026-04-29/
LOCATION:Longformacus Village Hall\, Longformacus Village Hall\, Duns Road\, Longformacus\, Scottish Borders\, TD11 3PB\, United Kingdom
CATEGORIES:Events,Longformacus Village Hall
ORGANIZER;CN="Ettie Spencer":MAILTO:ettiespencer@gmail.com
GEO:55.806866;-2.490846
X-APPLE-STRUCTURED-LOCATION;VALUE=URI;X-ADDRESS=Longformacus Village Hall Longformacus Village Hall Duns Road Longformacus Scottish Borders TD11 3PB United Kingdom;X-APPLE-RADIUS=500;X-TITLE=Longformacus Village Hall\, Duns Road:geo:-2.490846,55.806866
END:VEVENT
BEGIN:VEVENT
DTSTART;TZID=Europe/London:20260429T193000
DTEND;TZID=Europe/London:20260429T213000
DTSTAMP:20260421T043352
CREATED:20250518T185339Z
LAST-MODIFIED:20250622T202549Z
UID:10001622-1777491000-1777498200@www.lammermuirlife.co.uk
SUMMARY:LCC AGM
DESCRIPTION:
URL:https://www.lammermuirlife.co.uk/event/lcc-annual-general-meeting/
LOCATION:Longformacus Village Hall\, Longformacus Village Hall\, Duns Road\, Longformacus\, Scottish Borders\, TD11 3PB\, United Kingdom
CATEGORIES:Events,Longformacus Village Hall
GEO:55.806866;-2.490846
X-APPLE-STRUCTURED-LOCATION;VALUE=URI;X-ADDRESS=Longformacus Village Hall Longformacus Village Hall Duns Road Longformacus Scottish Borders TD11 3PB United Kingdom;X-APPLE-RADIUS=500;X-TITLE=Longformacus Village Hall\, Duns Road:geo:-2.490846,55.806866
END:VEVENT
BEGIN:VEVENT
DTSTART;TZID=Europe/London:20260430T130000
DTEND;TZID=Europe/London:20260430T160000
DTSTAMP:20260421T043352
CREATED:20260101T201935Z
LAST-MODIFIED:20260318T200234Z
UID:10002071-1777554000-1777564800@www.lammermuirlife.co.uk
SUMMARY:Preparations for Windmill Coffee Shop
DESCRIPTION:
URL:https://www.lammermuirlife.co.uk/event/preparations-for-windmill-coffee-shop-9/2026-04-30/
LOCATION:Longformacus Village Hall\, Longformacus Village Hall\, Duns Road\, Longformacus\, Scottish Borders\, TD11 3PB\, United Kingdom
CATEGORIES:Events,Longformacus Village Hall
ORGANIZER;CN="Heather Bewick":MAILTO:heath8667hl@gmail.com
GEO:55.806866;-2.490846
X-APPLE-STRUCTURED-LOCATION;VALUE=URI;X-ADDRESS=Longformacus Village Hall Longformacus Village Hall Duns Road Longformacus Scottish Borders TD11 3PB United Kingdom;X-APPLE-RADIUS=500;X-TITLE=Longformacus Village Hall\, Duns Road:geo:-2.490846,55.806866
END:VEVENT
BEGIN:VEVENT
DTSTART;TZID=Europe/London:20260501T110000
DTEND;TZID=Europe/London:20260501T120000
DTSTAMP:20260421T043352
CREATED:20260110T154813Z
LAST-MODIFIED:20260110T154814Z
UID:10001909-1777633200-1777636800@www.lammermuirlife.co.uk
SUMMARY:T'ai Chi
DESCRIPTION:
URL:https://www.lammermuirlife.co.uk/event/tai-chi-4-2/2026-05-01/
LOCATION:Longformacus Village Hall\, Longformacus Village Hall\, Duns Road\, Longformacus\, Scottish Borders\, TD11 3PB\, United Kingdom
CATEGORIES:Events,Longformacus Village Hall
ORGANIZER;CN="Ettie Spencer":MAILTO:ettiespencer@gmail.com
GEO:55.806866;-2.490846
X-APPLE-STRUCTURED-LOCATION;VALUE=URI;X-ADDRESS=Longformacus Village Hall Longformacus Village Hall Duns Road Longformacus Scottish Borders TD11 3PB United Kingdom;X-APPLE-RADIUS=500;X-TITLE=Longformacus Village Hall\, Duns Road:geo:-2.490846,55.806866
END:VEVENT
BEGIN:VEVENT
DTSTART;TZID=Europe/London:20260501T160000
DTEND;TZID=Europe/London:20260501T220000
DTSTAMP:20260421T043352
CREATED:20260318T195700Z
LAST-MODIFIED:20260318T195700Z
UID:10002070-1777651200-1777672800@www.lammermuirlife.co.uk
SUMMARY:AI Data Centre Community Info Evening
DESCRIPTION:Local residents are invited to attend a community information meeting regarding the proposed Southside AI Data Centre development\, near The Watch Reserviour. \nStarts 6pm \nPlease RVSP to Lamcag@protonmail.com by 3/4/26
URL:https://www.lammermuirlife.co.uk/event/ai-data-centre-community-info-evening/
LOCATION:Longformacus Village Hall\, Longformacus Village Hall\, Duns Road\, Longformacus\, Scottish Borders\, TD11 3PB\, United Kingdom
CATEGORIES:Events,Longformacus Village Hall
ORGANIZER;CN="Cari Silver":MAILTO:carisilver76@gmail.com
GEO:55.806866;-2.490846
X-APPLE-STRUCTURED-LOCATION;VALUE=URI;X-ADDRESS=Longformacus Village Hall Longformacus Village Hall Duns Road Longformacus Scottish Borders TD11 3PB United Kingdom;X-APPLE-RADIUS=500;X-TITLE=Longformacus Village Hall\, Duns Road:geo:-2.490846,55.806866
END:VEVENT
BEGIN:VEVENT
DTSTART;TZID=Europe/London:20260502T110000
DTEND;TZID=Europe/London:20260502T130000
DTSTAMP:20260421T043352
CREATED:20260101T201456Z
LAST-MODIFIED:20260101T201456Z
UID:10001922-1777719600-1777726800@www.lammermuirlife.co.uk
SUMMARY:Windmill Coffee Shop
DESCRIPTION:Come along to the windmill coffee shop on the first Saturday of the month. \nEnjoy a cuppa and a fab selection of homemade cakes. \nAll welcome
URL:https://www.lammermuirlife.co.uk/event/windmill-coffee-shop-15/2026-05-02/
LOCATION:Longformacus Village Hall\, Longformacus Village Hall\, Duns Road\, Longformacus\, Scottish Borders\, TD11 3PB\, United Kingdom
CATEGORIES:Events,Longformacus Village Hall
ORGANIZER;CN="Heather Bewick":MAILTO:heath8667hl@gmail.com
GEO:55.806866;-2.490846
X-APPLE-STRUCTURED-LOCATION;VALUE=URI;X-ADDRESS=Longformacus Village Hall Longformacus Village Hall Duns Road Longformacus Scottish Borders TD11 3PB United Kingdom;X-APPLE-RADIUS=500;X-TITLE=Longformacus Village Hall\, Duns Road:geo:-2.490846,55.806866
END:VEVENT
END:VCALENDAR